BEGIN:VCALENDAR
VERSION:2.0
PRODID:-//USA Desavanja - ECPv6.15.17.1//NONSGML v1.0//EN
CALSCALE:GREGORIAN
METHOD:PUBLISH
X-WR-CALNAME:USA Desavanja
X-ORIGINAL-URL:https://usadesavanja.com
X-WR-CALDESC:Events for USA Desavanja
REFRESH-INTERVAL;VALUE=DURATION:PT1H
X-Robots-Tag:noindex
X-PUBLISHED-TTL:PT1H
BEGIN:VTIMEZONE
TZID:UTC
BEGIN:STANDARD
TZOFFSETFROM:+0000
TZOFFSETTO:+0000
TZNAME:UTC
DTSTART:20250101T000000
END:STANDARD
END:VTIMEZONE
BEGIN:VTIMEZONE
TZID:America/Chicago
BEGIN:DAYLIGHT
TZOFFSETFROM:-0600
TZOFFSETTO:-0500
TZNAME:CDT
DTSTART:20250309T080000
END:DAYLIGHT
BEGIN:STANDARD
TZOFFSETFROM:-0500
TZOFFSETTO:-0600
TZNAME:CST
DTSTART:20251102T070000
END:STANDARD
BEGIN:DAYLIGHT
TZOFFSETFROM:-0600
TZOFFSETTO:-0500
TZNAME:CDT
DTSTART:20260308T080000
END:DAYLIGHT
BEGIN:STANDARD
TZOFFSETFROM:-0500
TZOFFSETTO:-0600
TZNAME:CST
DTSTART:20261101T070000
END:STANDARD
BEGIN:DAYLIGHT
TZOFFSETFROM:-0600
TZOFFSETTO:-0500
TZNAME:CDT
DTSTART:20270314T080000
END:DAYLIGHT
BEGIN:STANDARD
TZOFFSETFROM:-0500
TZOFFSETTO:-0600
TZNAME:CST
DTSTART:20271107T070000
END:STANDARD
END:VTIMEZONE
BEGIN:VEVENT
DTSTART;VALUE=DATE:20260424
DTEND;VALUE=DATE:20260425
DTSTAMP:20260424T013042
CREATED:20260320T135138Z
LAST-MODIFIED:20260320T135303Z
UID:18503-1776988800-1777075199@usadesavanja.com
SUMMARY:PRVA MINI SRBIJADA // CRKVA SV. SIMEONA // MIAMI\, FL // APRIL 24. 2026.
DESCRIPTION:Fudbalski klub Crvenka Miami i Srpska pravoslavna crkva Sveti Simeon Mirotočivi Vas pozivaju na istorijski prvi turnir u malom fudbalu u Majamiju! \nOd 24–26. aprila – Dvorište crkve Sv. Simeon Mirotočivi\, Majami \nNAGRADNI FOND:\nOpen: $1000\nVeteran (35+): $800\nSenior (50+): $600 \nKATEGORIJE I KOTIZACIJA:\nFormati: 4+1 (Open) i 5+1 (35+ i 50+)\nKotizacija: $200 po ekipi \nPored vrhunskog fudbala\, očekuje Vas prava atmosfera Srbije uz tradicionalnu hranu\, piće i muziku uživo! \nPrijave i informacije: 786 622 0434
URL:https://usadesavanja.com/event/prva-mini-srbijada-crkva-sv-simeona-miami-fl-april-24-2026/
LOCATION:Crkva Sv. Simeona (Miami)\, 175 NW 154th Street\, Miami\, FL\, 33169\, United States
CATEGORIES:Florida,Sport
ATTACH;FMTTYPE=image/png:https://usadesavanja.com/wp-content/uploads/2026/03/mini-srbijada-miami-crkva-st-simeon.png
END:VEVENT
BEGIN:VEVENT
DTSTART;VALUE=DATE:20260424
DTEND;VALUE=DATE:20260425
DTSTAMP:20260424T013042
CREATED:20260320T170922Z
LAST-MODIFIED:20260320T170938Z
UID:18522-1776988800-1777075199@usadesavanja.com
SUMMARY:OLJA BAJRAMI // LINCOLN'S GRILL // LAWRENCEVILLE\, GA // APRIL 24. 2026.
DESCRIPTION:Lincoln’s Grill Vas poziva na fenomenalan koncert! \nPetak 24. april od 21h. Nastupa: Olja Bajrami \nInfo: 986 210 4262 \nŽelimo Vam odličan provod!
URL:https://usadesavanja.com/event/olja-bajrami-lincolns-grill-lawrenceville-ga-april-24-2026/
LOCATION:Lincoln’s Grill\, 219 Gwinnett Dr\, Lawrenceville\, GA 30046\, Lawrenceville\, GA\, United States
CATEGORIES:Georgia,Koncerti
ATTACH;FMTTYPE=image/png:https://usadesavanja.com/wp-content/uploads/2026/03/olja-bajrami-2026-kalendar-cd.png
END:VEVENT
BEGIN:VEVENT
DTSTART;VALUE=DATE:20260424
DTEND;VALUE=DATE:20260425
DTSTAMP:20260424T013042
CREATED:20260327T171341Z
LAST-MODIFIED:20260327T171341Z
UID:18572-1776988800-1777075199@usadesavanja.com
SUMMARY:DANKA & MILOS KALCA // RESTORAN ZORA // CHICAGO // APRIL 24. 2026.
DESCRIPTION:Etno restoran Zora Vas poziva da budete njihovi gosti. \nU petak\, 24. aprila od 22h očekuje Vas sjajna svirka i fenomenalna atmosfera! \nNastupaju: Danka Gajić i Miloš Kalča \nInformacije i rezervacije: 773 625 7087 \nŽelimo Vam odličan provod!
URL:https://usadesavanja.com/event/danka-milos-kalca-restoran-zora-chicago-april-24-2026/
LOCATION:Restoran Zora\, 8445 W Lawrence Ave\, Chicago\, IL\, Chicago\, IL\, /adresar/etno-restoran-zora\, United States
CATEGORIES:Illinois,Restorani
ATTACH;FMTTYPE=image/jpeg:https://usadesavanja.com/wp-content/uploads/2024/06/danka-gajic-zora-cd.jpg
END:VEVENT
END:VCALENDAR