BEGIN:VCALENDAR
VERSION:2.0
PRODID:-//USA Desavanja - ECPv6.15.17.1//NONSGML v1.0//EN
CALSCALE:GREGORIAN
METHOD:PUBLISH
X-WR-CALNAME:USA Desavanja
X-ORIGINAL-URL:https://usadesavanja.com
X-WR-CALDESC:Events for USA Desavanja
REFRESH-INTERVAL;VALUE=DURATION:PT1H
X-Robots-Tag:noindex
X-PUBLISHED-TTL:PT1H
BEGIN:VTIMEZONE
TZID:UTC
BEGIN:STANDARD
TZOFFSETFROM:+0000
TZOFFSETTO:+0000
TZNAME:UTC
DTSTART:20230101T000000
END:STANDARD
END:VTIMEZONE
BEGIN:VEVENT
DTSTART;VALUE=DATE:20260418
DTEND;VALUE=DATE:20260419
DTSTAMP:20260423T003435
CREATED:20260414T150132Z
LAST-MODIFIED:20260414T150132Z
UID:18665-1776470400-1776556799@usadesavanja.com
SUMMARY:MINI FOLK FEST // CRKVA SV. VASILIJA // KERNERSVILLE\, NC // APRIL 18. 2026.
DESCRIPTION:Crkva Sv. Vasilija Vas poziva na Mini Folk Fest\, jedinstveno veče gde ćemo proslaviti bogatstvo srpske tradicije kroz pesmu i igru ansambala iz različitih krajeva SAD. Dođite da podržite mladost i uživate u vrhunskom kulturnom programu! \nSubota\, 18. april 2026. Vrata se otvaraju: 17:00h – Početak programa: 18:00h \nNastupaju renomirani ansambli:\n– Serbian Pearl – St. Sava Church\, FL\n– Prelo & Choir Lira – St. Luke Church\, Washington DC\n– Dukat – Church of the Nativity of the Most Holy Theotokos\, VA\n– Ostrog – St. Basil of Ostrog\, NC \nAfter Party & Zabava:\nNakon folklornih nastupa\, očekuje vas luda zabava (After Party) uz muziku uživo! Za atmosferu su zaduženi: Mladen & Peđa \nCena ulaznice: $10 po osobi \nU ponudi: Muzika uživo\, hrana\, piće i tradicionalno kolo! \nVidimo se u Kernersvilu da zajedno proslavimo našu kulturu i tradiciju uz pesmu i veselje!
URL:https://usadesavanja.com/event/mini-folk-fest-crkva-sv-vasilija-kernersville-nc-april-18-2026/
LOCATION:Crkva Sv. Vasilija (Kernersville)\, 270 Ogden School Road\, Kernersville\, NC\, 27284\, United States
CATEGORIES:Festivali,North Carolina
ATTACH;FMTTYPE=image/jpeg:https://usadesavanja.com/wp-content/uploads/2023/09/folk-dance.jpg
ORGANIZER;CN="Crkva Sv. Vasilija (Kernersville)":MAILTO:stbasilofostrog@gmail.com
END:VEVENT
BEGIN:VEVENT
DTSTART;VALUE=DATE:20260411
DTEND;VALUE=DATE:20260412
DTSTAMP:20260423T003435
CREATED:20260408T182713Z
LAST-MODIFIED:20260408T182713Z
UID:18652-1775865600-1775951999@usadesavanja.com
SUMMARY:DENIS RAPKIC & DINO BEND // EUROPE AT NIGHT // GREENSBORO\, NC // APRIL 11. 2026.
DESCRIPTION:Ljubitelji dobrog provoda i vrhunske muzike\, imamo sjajne vesti! Greensboro postaje centar najbolje evropske i balkanske zabave. European Night Party — veče koje ne smete propustiti! \nZa vrhunsku atmosferu i hitove koji će vas držati na nogama cele noći zaduženi su: Dino Bend i Denis Rapkić \nSubota\, 11. april 2026. \nLokacija: 3714 Clifton Rd\, Greensboro\, NC 27407\, USA \nUlaznice: $30 \nTel: 336 389 1010 \nDođite da zajedno napravimo noć za pamćenje uz sjajnu ekipu i još bolju muziku. Vidimo se na podijumu za igru!
URL:https://usadesavanja.com/event/denis-rapkic-dino-bend-europe-at-night-greensboro-nc-april-11-2026/
LOCATION:Europe at Night\, 3714 Clifton Road\, Greensboro\, NC\, Greensboro\, NC\, 27407\, United States
CATEGORIES:North Carolina,Zurke
ATTACH;FMTTYPE=image/jpeg:https://usadesavanja.com/wp-content/uploads/2020/12/piano-1.jpg
END:VEVENT
BEGIN:VEVENT
DTSTART;VALUE=DATE:20250525
DTEND;VALUE=DATE:20250526
DTSTAMP:20260423T003435
CREATED:20250430T200459Z
LAST-MODIFIED:20250430T200459Z
UID:16010-1748131200-1748217599@usadesavanja.com
SUMMARY:SERB FEST 2025 // CRKVA SV. VASILIJA // KERNERSVILLE\, NC // MAJ 25. 2025.
DESCRIPTION:Pozivamo Vas da budete deo nezaboravnog vikenda na Serb Fest 2025\, koji se održava za Memorijalni vikend\, 24. i 25. maja u Kernersville-u\, NC\, u organizaciji Crkve Svetog Vasilija Ostroškog. Festival počinje svakog dana u podne! \n– Očekuje Vas bogat program ispunjen živom muzikom tokom celog dana\, domaćim srpskim specijalitetima\, tradicionalnim igrama i raznovrsnim sadržajima za decu.– Ne propustite folklorne nastupe lokalnih ansambala\, kao i gostujućih grupa iz drugih srpskih zajednica.– Zabavite se uz igre poput boćanja i cornhole-a ili zaplešite kolo zajedno s našom zajednicom! \nTokom festivala možete i obići hram Svetog Vasilija Ostroškog\, koji će biti otvoren za sve posetioce. \nUlaz: $2 za odrasle\, deca do 12 godina – besplatan ulaz! \nDođite da zajedno proslavimo srpsku kulturu\, tradiciju i gostoprimstvo uz sjajnu atmosferu i nezaboravne trenutke!
URL:https://usadesavanja.com/event/serb-fest-2025-crkva-sv-vasilija-kernersville-nc-maj-25-2025/
LOCATION:Crkva Sv. Vasilija (Kernersville)\, 270 Ogden School Road\, Kernersville\, NC\, 27284\, United States
CATEGORIES:Festivali,North Carolina
ATTACH;FMTTYPE=image/jpeg:https://usadesavanja.com/wp-content/uploads/2022/09/serb-fest-nosnja.jpg
ORGANIZER;CN="Crkva Sv. Vasilija (Kernersville)":MAILTO:stbasilofostrog@gmail.com
END:VEVENT
BEGIN:VEVENT
DTSTART;VALUE=DATE:20250524
DTEND;VALUE=DATE:20250525
DTSTAMP:20260423T003435
CREATED:20250430T200546Z
LAST-MODIFIED:20250430T200546Z
UID:16012-1748044800-1748131199@usadesavanja.com
SUMMARY:SERB FEST 2025 // CRKVA SV. VASILIJA // KERNERSVILLE\, NC // MAJ 24. 2025.
DESCRIPTION:Pozivamo Vas da budete deo nezaboravnog vikenda na Serb Fest 2025\, koji se održava za Memorijalni vikend\, 24. i 25. maja u Kernersville-u\, NC\, u organizaciji Crkve Svetog Vasilija Ostroškog. Festival počinje svakog dana u podne! \n– Očekuje Vas bogat program ispunjen živom muzikom tokom celog dana\, domaćim srpskim specijalitetima\, tradicionalnim igrama i raznovrsnim sadržajima za decu.– Ne propustite folklorne nastupe lokalnih ansambala\, kao i gostujućih grupa iz drugih srpskih zajednica.– Zabavite se uz igre poput boćanja i cornhole-a ili zaplešite kolo zajedno s našom zajednicom! \nTokom festivala možete i obići hram Svetog Vasilija Ostroškog\, koji će biti otvoren za sve posetioce. \nUlaz: $2 za odrasle\, deca do 12 godina – besplatan ulaz! \nDođite da zajedno proslavimo srpsku kulturu\, tradiciju i gostoprimstvo uz sjajnu atmosferu i nezaboravne trenutke!
URL:https://usadesavanja.com/event/serb-fest-2025-crkva-sv-vasilija-kernersville-nc-maj-24-2025/
LOCATION:Crkva Sv. Vasilija (Kernersville)\, 270 Ogden School Road\, Kernersville\, NC\, 27284\, United States
CATEGORIES:Festivali,North Carolina
ATTACH;FMTTYPE=image/jpeg:https://usadesavanja.com/wp-content/uploads/2022/09/serb-fest-nosnja.jpg
ORGANIZER;CN="Crkva Sv. Vasilija (Kernersville)":MAILTO:stbasilofostrog@gmail.com
END:VEVENT
BEGIN:VEVENT
DTSTART;VALUE=DATE:20250111
DTEND;VALUE=DATE:20250112
DTSTAMP:20260423T003435
CREATED:20241221T221825Z
LAST-MODIFIED:20241221T222205Z
UID:15097-1736553600-1736639999@usadesavanja.com
SUMMARY:PROSLAVA SRPSKE NOVE GODINE // CRKVA SV. VASILIJA // NORTH CAROLINA // JANUAR 11. 2025.
DESCRIPTION:Pridružite nam se na proslavi Srpske Nove godine\, u subotu 11. januara 2025. u 19h! \nMuzika uživo sa Vekom i Nenom Todorovićem iz Orlanda! \nUlaz sa večerom je $50 za odrasle\, a besplatan ulaz za mlađe od 16. godina! \nInfo: 919 599 8489 \nŽelimo Vam odličan provod!
URL:https://usadesavanja.com/event/proslava-srpske-nove-godine-crkva-sv-vasilija-north-carolina-januar-11-2025/
LOCATION:Crkva Sv. Vasilija (Kernersville)\, 270 Ogden School Road\, Kernersville\, NC\, 27284\, United States
CATEGORIES:North Carolina
ATTACH;FMTTYPE=image/jpeg:https://usadesavanja.com/wp-content/uploads/2024/12/nova-godina-nc.jpg
END:VEVENT
BEGIN:VEVENT
DTSTART;VALUE=DATE:20240526
DTEND;VALUE=DATE:20240527
DTSTAMP:20260423T003435
CREATED:20240421T120507Z
LAST-MODIFIED:20240421T120507Z
UID:12805-1716681600-1716767999@usadesavanja.com
SUMMARY:SERB FEST // CRKVA SV. VASILIJA // KERNERSVILLE\, NC // MAJ 26. 2024.
DESCRIPTION:Dođite na Serb Fest u subotu 25. maja i nedelju 26. maja u 12h na imanju crkve Sv. Vasilija Ostroškog (Kernersville). \nOčekuje Vas domaća hrana\, uživo muzika i zabavne aktivnosti za decu! \nInfo: 336 554 2961
URL:https://usadesavanja.com/event/serb-fest-crkva-sv-vasilija-kernersville-nc-maj-26-2024/
LOCATION:Crkva Sv. Vasilija (Kernersville)\, 270 Ogden School Road\, Kernersville\, NC\, 27284\, United States
CATEGORIES:Festivali,North Carolina
ATTACH;FMTTYPE=image/jpeg:https://usadesavanja.com/wp-content/uploads/2022/09/serb-fest-nosnja.jpg
ORGANIZER;CN="Crkva Sv. Vasilija (Kernersville)":MAILTO:stbasilofostrog@gmail.com
END:VEVENT
BEGIN:VEVENT
DTSTART;VALUE=DATE:20240525
DTEND;VALUE=DATE:20240526
DTSTAMP:20260423T003435
CREATED:20240421T120312Z
LAST-MODIFIED:20240421T120312Z
UID:12803-1716595200-1716681599@usadesavanja.com
SUMMARY:SERB FEST // CRKVA SV. VASILIJA // KERNERSVILLE\, NC // MAJ 25. 2024.
DESCRIPTION:Dođite na Serb Fest u subotu 25. maja i nedelju 26. maja u 12h na imanju crkve Sv. Vasilija Ostroškog (Kernersville). \nOčekuje Vas domaća hrana\, uživo muzika i zabavne aktivnosti za decu! \nInfo: 336 554 2961
URL:https://usadesavanja.com/event/serb-fest-crkva-sv-vasilija-kernersville-nc-maj-25-2024/
LOCATION:Crkva Sv. Vasilija (Kernersville)\, 270 Ogden School Road\, Kernersville\, NC\, 27284\, United States
CATEGORIES:Festivali,North Carolina
ATTACH;FMTTYPE=image/jpeg:https://usadesavanja.com/wp-content/uploads/2021/01/serb-fest-florida.jpg
ORGANIZER;CN="Crkva Sv. Vasilija (Kernersville)":MAILTO:stbasilofostrog@gmail.com
END:VEVENT
END:VCALENDAR