BEGIN:VCALENDAR
VERSION:2.0
PRODID:-//USA Desavanja - ECPv6.15.17.1//NONSGML v1.0//EN
CALSCALE:GREGORIAN
METHOD:PUBLISH
X-WR-CALNAME:USA Desavanja
X-ORIGINAL-URL:https://usadesavanja.com
X-WR-CALDESC:Events for USA Desavanja
REFRESH-INTERVAL;VALUE=DURATION:PT1H
X-Robots-Tag:noindex
X-PUBLISHED-TTL:PT1H
BEGIN:VTIMEZONE
TZID:UTC
BEGIN:STANDARD
TZOFFSETFROM:+0000
TZOFFSETTO:+0000
TZNAME:UTC
DTSTART:20230101T000000
END:STANDARD
END:VTIMEZONE
BEGIN:VEVENT
DTSTART;VALUE=DATE:20241128
DTEND;VALUE=DATE:20241129
DTSTAMP:20260419T173108
CREATED:20241104T192341Z
LAST-MODIFIED:20241104T192341Z
UID:14506-1732752000-1732838399@usadesavanja.com
SUMMARY:CURKA ZURKA // THE IVY // CLEVELAND // NOVEMBAR 28. 2024.
DESCRIPTION:Ćurka Žurka održaće se u četvrtak 28. novembra od 22h do 02h. \nNastupa: DJ Daki \nInfo: 440 384 1727 \nŽelimo Vam odličan provod!
URL:https://usadesavanja.com/event/curka-zurka-the-ivy-cleveland-novembar-28-2024/
LOCATION:The Ivy\, 1212 W 6th St\, Cleveland\, OH\, Cleveland\, OH\, 44113\, United States
CATEGORIES:Ohio
ATTACH;FMTTYPE=image/jpeg:https://usadesavanja.com/wp-content/uploads/2021/12/dj-set-999.jpg
END:VEVENT
END:VCALENDAR