BEGIN:VCALENDAR
VERSION:2.0
PRODID:-//USA Desavanja - ECPv6.15.17.1//NONSGML v1.0//EN
CALSCALE:GREGORIAN
METHOD:PUBLISH
X-WR-CALNAME:USA Desavanja
X-ORIGINAL-URL:https://usadesavanja.com
X-WR-CALDESC:Events for USA Desavanja
REFRESH-INTERVAL;VALUE=DURATION:PT1H
X-Robots-Tag:noindex
X-PUBLISHED-TTL:PT1H
BEGIN:VTIMEZONE
TZID:UTC
BEGIN:STANDARD
TZOFFSETFROM:+0000
TZOFFSETTO:+0000
TZNAME:UTC
DTSTART:20230101T000000
END:STANDARD
END:VTIMEZONE
BEGIN:VTIMEZONE
TZID:America/Chicago
BEGIN:DAYLIGHT
TZOFFSETFROM:-0600
TZOFFSETTO:-0500
TZNAME:CDT
DTSTART:20230312T080000
END:DAYLIGHT
BEGIN:STANDARD
TZOFFSETFROM:-0500
TZOFFSETTO:-0600
TZNAME:CST
DTSTART:20231105T070000
END:STANDARD
BEGIN:DAYLIGHT
TZOFFSETFROM:-0600
TZOFFSETTO:-0500
TZNAME:CDT
DTSTART:20240310T080000
END:DAYLIGHT
BEGIN:STANDARD
TZOFFSETFROM:-0500
TZOFFSETTO:-0600
TZNAME:CST
DTSTART:20241103T070000
END:STANDARD
BEGIN:DAYLIGHT
TZOFFSETFROM:-0600
TZOFFSETTO:-0500
TZNAME:CDT
DTSTART:20250309T080000
END:DAYLIGHT
BEGIN:STANDARD
TZOFFSETFROM:-0500
TZOFFSETTO:-0600
TZNAME:CST
DTSTART:20251102T070000
END:STANDARD
END:VTIMEZONE
BEGIN:VEVENT
DTSTART;VALUE=DATE:20241227
DTEND;VALUE=DATE:20241228
DTSTAMP:20260425T215458
CREATED:20241122T180241Z
LAST-MODIFIED:20241122T180241Z
UID:14689-1735257600-1735343999@usadesavanja.com
SUMMARY:SEJLA ZONIC & ANID CUSIC // 801 EVENT CENTER // SALT LAKE CITY // DECEMBAR 27. 2024.
DESCRIPTION:Balkan Sound Promotion & 801 Event Center Vas pozivaju na koncert\, u petak 27. decembra \nŠejla Zonić & Anid Ćušić \nStart: 20. 30h \nInfo i rezervacije: 801 300 6011 \n \n 
URL:https://usadesavanja.com/event/sejla-zonic-anid-cusic-801event-center-salt-lake-city-decembar-27-2024/
LOCATION:801 Event Center\, 1055 W N Temple St\, Salt Lake City\, UT\, Salt Lake City\, UT\, 84116\, United States
CATEGORIES:Utah
ATTACH;FMTTYPE=image/jpeg:https://usadesavanja.com/wp-content/uploads/2024/11/sejla-i-anid.jpg
END:VEVENT
BEGIN:VEVENT
DTSTART;VALUE=DATE:20241227
DTEND;VALUE=DATE:20241228
DTSTAMP:20260425T215458
CREATED:20241112T224951Z
LAST-MODIFIED:20241123T105404Z
UID:14651-1735257600-1735343999@usadesavanja.com
SUMMARY:DANKA\, LJUBA & JOSIFOVSKI // RESTORAN ZORA // CHICAGO // DECEMBAR 27. 2024.
DESCRIPTION:Etno restoran Zora Vas srdačno poziva da budete njihovi gosti! \nU petak\, 27. decembra od 22h\, očekuje Vas sjajna svirka. \nNastupaju: Danka Gajić\, Ljuba Zarić i Aleksandar Josifovski \nInfo: 773 625 7087 \nŽelimo Vam odličan provod!
URL:https://usadesavanja.com/event/danka-gajic-ljuba-zaric-restoran-zora-chicago-decembar-27-2024/
LOCATION:Restoran Zora\, 8445 W Lawrence Ave\, Chicago\, IL\, Chicago\, IL\, /adresar/etno-restoran-zora\, United States
CATEGORIES:Illinois,Restorani
ATTACH;FMTTYPE=image/png:https://usadesavanja.com/wp-content/uploads/2024/08/danka-gajic-new24.png
END:VEVENT
BEGIN:VEVENT
DTSTART;VALUE=DATE:20241227
DTEND;VALUE=DATE:20241228
DTSTAMP:20260425T215458
CREATED:20241111T181432Z
LAST-MODIFIED:20241111T181432Z
UID:14608-1735257600-1735343999@usadesavanja.com
SUMMARY:IVANA PILJA\, SANEL & RAJKO // SKADARLIYA // CHICAGO // DECEMBAR 27. 2024.
DESCRIPTION:Restoran Skadarliya Vas poziva na sjajnu svirku! \nPetak\, 27. decembar\, Ivana Pilja\, Sanel Bajrami & Rajko Paunović \nInfo: 708 905 5919 \nŽelimo Vam odličan provod!
URL:https://usadesavanja.com/event/ivana-pilja-sanel-rajko-skadarliya-chicago-decembar-27-2024/
LOCATION:Skadarliya\, 9237 West Ogden Ave\, Brookfield\, Chicago\, IL\, 60513\, United States
CATEGORIES:Illinois,Restorani
ATTACH;FMTTYPE=image/jpeg:https://usadesavanja.com/wp-content/uploads/2020/07/skadarliya.jpg
END:VEVENT
BEGIN:VEVENT
DTSTART;VALUE=DATE:20241226
DTEND;VALUE=DATE:20241227
DTSTAMP:20260425T215458
CREATED:20241221T112944Z
LAST-MODIFIED:20241224T200258Z
UID:15041-1735171200-1735257599@usadesavanja.com
SUMMARY:SANJA\, LJUBA & SANEL // COMPASS ARENA // CHICAGO // DECEMBAR 26. 2024.
DESCRIPTION:Compass Arena (Whiskey bar) Vas poziva u četvrtak 26. decembra na odličnu svirku! \nNastupaju: Sanja Grahovac\, Ljuba Zarić i Sanel Bajrami \nInfo: 630 523 9933 \nŽelimo Vam odličan provod!
URL:https://usadesavanja.com/event/sanja-sanel-compass-arena-chicago-decembar-26-2024/
LOCATION:Compass Arena\, 625 Joliet Rd\, Willowbrook\, Chicago\, IL\, /adresar/compass-arena\, United States
CATEGORIES:Illinois
ATTACH;FMTTYPE=image/jpeg:https://usadesavanja.com/wp-content/uploads/2024/01/sanja-grahovac-new.jpg
END:VEVENT
BEGIN:VEVENT
DTSTART;VALUE=DATE:20241225
DTEND;VALUE=DATE:20241226
DTSTAMP:20260425T215458
CREATED:20241219T145416Z
LAST-MODIFIED:20241219T145416Z
UID:15036-1735084800-1735171199@usadesavanja.com
SUMMARY:JOLLY CHRISTMAS WITH SANTA CLAUS // COMPASS ARENA // CHICAGO // DECEMBAR 20. 2024.
DESCRIPTION:Jolly Christmas with Santa Claus at Compass Arena! \nBring the family for a festive celebration filled with holiday cheer! Enjoy a FREE photo with Santa (printed on the spot!)\, gifts for kids\, bouncy houses\, fun activities\, Face painting and more. Plus\, indulge in delicious meals and great company while creating unforgettable memories. \n– $25 per child | $35 per adult (Includes meal\, drink & activities)\n– Breakfast (9:30-11:30 AM): French Toast\, Donuts \, or American breakfast\n– Lunch (12:30-2:30 PM): Carbonara Pasta\, Caesar salad\, or Vienna Schnitzel\n– Dinner (3:30-5:30 PM): Vienna Schnitzel\, Shrimp Tacos\, or Carbonara Pasta \nReserve your spot by December 23: Call 630 504 4282
URL:https://usadesavanja.com/event/jolly-christmas-with-santa-claus-compass-arena-chicago-decembar-20-2024/
LOCATION:Compass Arena\, 625 Joliet Rd\, Willowbrook\, Chicago\, IL\, /adresar/compass-arena\, United States
CATEGORIES:Illinois
ATTACH;FMTTYPE=image/png:https://usadesavanja.com/wp-content/uploads/2024/12/compass-chri.png
END:VEVENT
BEGIN:VEVENT
DTSTART;VALUE=DATE:20241225
DTEND;VALUE=DATE:20241226
DTSTAMP:20260425T215458
CREATED:20241122T181817Z
LAST-MODIFIED:20241122T181817Z
UID:14699-1735084800-1735171199@usadesavanja.com
SUMMARY:SEJLA ZONIC & ANID CUSIC // CAFE DERBI // LAS VEGAS // DECEMBAR 25. 2024.
DESCRIPTION:Balkan Sound Promotion & Cafe Derbi Vas pozivaju na proslavu katoličkog Božića\, u sredu 25. decembra \nŠejla Zonić & Anid Ćušić \nStart: 20. 30h \nInfo i rezervacije: 702 824 4699 \n \n 
URL:https://usadesavanja.com/event/sejla-zonic-anid-cusic-cafe-derbi-las-vegas-decembar-25-2024/
LOCATION:Cafe Derbi\, 5920 W Flamingo Rd Las Vegas\, NV 89103\, Las Vegas\, NV\, 89103\, United States
CATEGORIES:Nevada
ATTACH;FMTTYPE=image/jpeg:https://usadesavanja.com/wp-content/uploads/2024/11/sejla-i-anid.jpg
END:VEVENT
BEGIN:VEVENT
DTSTART;VALUE=DATE:20241224
DTEND;VALUE=DATE:20241225
DTSTAMP:20260425T215458
CREATED:20241218T141657Z
LAST-MODIFIED:20241218T141657Z
UID:14996-1734998400-1735084799@usadesavanja.com
SUMMARY:BALKAN WINTER WONDERLAND 2024 – PART 1 // PRYSM // CHICAGO // DECEMBAR 24. 2024.
DESCRIPTION:Sam Cappas Productions predstavlja: Balkan Winter Wonderland 2024 – Part 1! \nPridružite nam se u utorak\, 24. decembra\, na najvećem i najluđem Balkan party-ju ove praznične sezone u Čikagu! \nLokacija: PRYSM Nightclub – jedan od najekskluzivnijih klubova u gradu\nVreme: Od 10 pm do 4 am \nDJ lineup: \n\nDJ BOOM\nDJ SPAZ\nDJ HITMAN\nDJ DEX\nSpecijalni gost: DJ SICK NICK\n\nUz najbolje Balkan i Euro hitove\, ovaj događaj obećava noć za pamćenje! \nDress to impress i rezervišite svoj sto na vreme!\nZa informacije i rezervacije pozovite 773 789 7372 \nOvo je samo prvi deo trodnevnog Winter Wonderland festivala!\n21+ | Nema povraćaja novca\nUlaznice možete kupiti OVDE \nBudite deo najuzbudljivijeg prazničnog provoda – vidimo se u PRYSM-u!\n#BALKANWINTERWONDERLAND
URL:https://usadesavanja.com/event/balkan-winter-wonderland-2024-part-1-prysm-chicago-decembar-24-2024/
LOCATION:Prysm\, 1543 N Kingsbury St\, Chicago\, IL\, Chicago\, IL\, 60642\, United States
CATEGORIES:Illinois,Zurke
ATTACH;FMTTYPE=image/jpeg:https://usadesavanja.com/wp-content/uploads/2024/12/https___cdn.evbuc_.com_images_912396303_233380775262_1_original.jpg
END:VEVENT
BEGIN:VEVENT
DTSTART;VALUE=DATE:20241224
DTEND;VALUE=DATE:20241225
DTSTAMP:20260425T215458
CREATED:20241217T081827Z
LAST-MODIFIED:20241217T081840Z
UID:14987-1734998400-1735084799@usadesavanja.com
SUMMARY:SANJA\, LJUBA & BALKAN WAVE BAND // RESTORAN ZORA // CHICAGO // DECEMBAR 24. 2024.
DESCRIPTION:Etno restoran Zora Vas srdačno poziva da budete njihovi gosti! \nU utorak\, 24. decembra očekuje Vas sjajna svirka! \nNastupaju: Sanja Grahovac\, Ljuba Zarić i Balkan Wave Band \nInfo: 773 625 7087 \nŽelimo Vam odličan provod!
URL:https://usadesavanja.com/event/sanja-ljuba-balkan-wave-band-restoran-zora-chicago-decembar-24-2024/
LOCATION:Restoran Zora\, 8445 W Lawrence Ave\, Chicago\, IL\, Chicago\, IL\, /adresar/etno-restoran-zora\, United States
CATEGORIES:Illinois,Restorani
ATTACH;FMTTYPE=image/jpeg:https://usadesavanja.com/wp-content/uploads/2022/08/ljuba-sanja.jpg
END:VEVENT
BEGIN:VEVENT
DTSTART;VALUE=DATE:20241224
DTEND;VALUE=DATE:20241225
DTSTAMP:20260425T215458
CREATED:20241216T173340Z
LAST-MODIFIED:20241216T173340Z
UID:14968-1734998400-1735084799@usadesavanja.com
SUMMARY:CHRISTMAS EVE PARTY // COMPASS ARENA // CHICAGO // DECEMBAR 24. 2024.
DESCRIPTION:Compass Arena Vas poziva u utorak 24. decembra od 9PM na Christmas Eve Party! \nNastupaju: Ivana Pilja\, Miloš Kalča i Mile Vujnović \nInfo: 630 523 9933 \nŽelimo Vam odličan provod!
URL:https://usadesavanja.com/event/christmas-eve-party-compass-arena-chicago-decembar-24-2024/
LOCATION:Compass Arena\, 625 Joliet Rd\, Willowbrook\, Chicago\, IL\, /adresar/compass-arena\, United States
CATEGORIES:Illinois
ATTACH;FMTTYPE=image/png:https://usadesavanja.com/wp-content/uploads/2024/12/mlkjhjgkh.png
END:VEVENT
BEGIN:VEVENT
DTSTART;VALUE=DATE:20241224
DTEND;VALUE=DATE:20241225
DTSTAMP:20260425T215458
CREATED:20241212T172228Z
LAST-MODIFIED:20241216T200446Z
UID:14895-1734998400-1735084799@usadesavanja.com
SUMMARY:CVARKIJADA // SRPSKA BRATSKA POMOC // CHICAGO // DECEMBAR 24. 2024.
DESCRIPTION:Srpska Bratska Pomoć Vas poziva u utorak 24. decembra na Čvarkijadu! \nMuzika: Saša Minić i Jasmina Ilić \nČvarci i grejana rakija od 9 ujutru. Domaća kuhinja. \nInfo: 224 715 1257 // 847 343 3611 \nŽelimo Vam odličan provod!
URL:https://usadesavanja.com/event/cvarkijada-srpska-bratska-pomoc-chicago-decembar-24-2024/
LOCATION:Srpska Bratska Pomoc\, 19697 W Grand Ave\, Lake Villa\, IL\, Chicago\, IL\, 60046\, United States
CATEGORIES:Illinois
ATTACH;FMTTYPE=image/jpeg:https://usadesavanja.com/wp-content/uploads/2021/12/bratska-pomoc-cikago.jpg
END:VEVENT
BEGIN:VEVENT
DTSTART;VALUE=DATE:20241224
DTEND;VALUE=DATE:20241225
DTSTAMP:20260425T215458
CREATED:20241122T182205Z
LAST-MODIFIED:20241122T182235Z
UID:14702-1734998400-1735084799@usadesavanja.com
SUMMARY:SEJLA ZONIC & ANID CUSIC // RED FLAG // ST. LOUIS // DECEMBAR 24. 2024.
DESCRIPTION:Balkan Sound Promotion & Red Flag Vas pozivaju na koncert\, u utorak 24. decembra \nŠejla Zonić & Anid Ćušić \nStart: 20. 30h \nInfo i rezervacije: 314 707 3271 | 314 210 3665 \n \n 
URL:https://usadesavanja.com/event/sejla-zonic-anid-cusic-red-flag-st-louis-decembar-24-2024/
LOCATION:Red Flag\, 3040 Locust St\, St. Louis\, MO\, St. Louis\, MO\, 63103\, United States
CATEGORIES:Utah
ATTACH;FMTTYPE=image/jpeg:https://usadesavanja.com/wp-content/uploads/2024/11/sejla-i-anid.jpg
END:VEVENT
BEGIN:VEVENT
DTSTART;VALUE=DATE:20241223
DTEND;VALUE=DATE:20241224
DTSTAMP:20260425T215458
CREATED:20241204T190319Z
LAST-MODIFIED:20241219T112738Z
UID:14817-1734912000-1734998399@usadesavanja.com
SUMMARY:BOZICNA RADIONICA // CRKVA SV. NIKOLE // LYONS // DECEMBAR 23. 2024.
DESCRIPTION:Crkva Sv. Nikole (Lyons) Vas poziva na Božićnu radionicu\, za decu uzrasta od 3 do 10 godina. \nOd 21. do 23. decembra\nObavezna prijava do 18. decembra. \nViše informacija na flajeru ispod:\nInfo: 907 570 4834\, email: presschool@nikolateslaps.com
URL:https://usadesavanja.com/event/bozicna-radionica-crkva-sv-nikole-lyons-decembar-23-2024/
LOCATION:Crkva Sv. Nikole (Joliet Ave\, Lyons)\, 4315 Joliet Ave\, Lyons\, IL 60534\, Chicago\, IL\, 60534\, United States
CATEGORIES:Illinois
ATTACH;FMTTYPE=image/png:https://usadesavanja.com/wp-content/uploads/2024/12/IMG-5091db360ad69d470b1694bc6e2de2b8-V883.png
END:VEVENT
BEGIN:VEVENT
DTSTART;VALUE=DATE:20241222
DTEND;VALUE=DATE:20241223
DTSTAMP:20260425T215458
CREATED:20241219T144142Z
LAST-MODIFIED:20241219T144142Z
UID:15034-1734825600-1734911999@usadesavanja.com
SUMMARY:ARHIJEREJSKA LITURGIJA // CRKVA SV. NIKOLE // LYONS // DECEMBAR 22. 2024.
DESCRIPTION:Crkva Sv. Nikole (Lyons) Vas poziva na Arhijerejsku liturgiju. \nMitropolit Longin Krčo (Mitropolit Novogračaničko-Srednjezapadnoamerički) \nNedelja\, 22. decembar od 9AM.
URL:https://usadesavanja.com/event/arhijerejska-liturgija-crkva-sv-nikole-lyons-decembar-22-2024/
LOCATION:Crkva Sv. Nikole (Joliet Ave\, Lyons)\, 4315 Joliet Ave\, Lyons\, IL 60534\, Chicago\, IL\, 60534\, United States
CATEGORIES:Illinois
ATTACH;FMTTYPE=image/png:https://usadesavanja.com/wp-content/uploads/2024/11/crkva-sv-nikole-lyons-yt-ps-u857.png
END:VEVENT
BEGIN:VEVENT
DTSTART;VALUE=DATE:20241222
DTEND;VALUE=DATE:20241223
DTSTAMP:20260425T215458
CREATED:20241212T193904Z
LAST-MODIFIED:20241212T193904Z
UID:14923-1734825600-1734911999@usadesavanja.com
SUMMARY:DUKAT I BISERI - KORENI // SKOKIE THEATRE // CHICAGO // DECEMBAR 22. 2024.
DESCRIPTION:Srpska folklorna ansambl grupa “Dukati i Biseri” proslavlja 15 godina svog postojanja posebnim koncertom pod nazivom “Koreni“. \nOvaj svečani događaj održaće se u nedelju\, 22. decembra\, sa početkom u 17 časova\, u prestižnom Skokie Theater-u. \nUlaznice za ovaj spektakularni događaj dostupne su po ceni od $25 i mogu se kupiti OVDE. \n \n 
URL:https://usadesavanja.com/event/dukat-i-biseri-koreni-skokie-theatre-chicago-decembar-22-2024/
LOCATION:Skokie Theater\, 7924 Lincoln Ave\, Skokie\, IL\, Chicago\, IL\, 60077\, United States
CATEGORIES:Illinois,Pozoriste
ATTACH;FMTTYPE=image/png:https://usadesavanja.com/wp-content/uploads/2024/12/koreni-d-b-15-year-anniversary-ig-post-sunday_111.png
END:VEVENT
BEGIN:VEVENT
DTSTART;VALUE=DATE:20241222
DTEND;VALUE=DATE:20241223
DTSTAMP:20260425T215458
CREATED:20241212T151924Z
LAST-MODIFIED:20241212T152744Z
UID:14865-1734825600-1734911999@usadesavanja.com
SUMMARY:NOVOGODISNJE DRUZENJE SA DEDA MRAZOM // RAKIJA LOUNGE // MIAMI // DECEMBAR 22. 2024.
DESCRIPTION:Rakija Lounge vas poziva na Novogodišnje druženje sa Deda Mrazom u nedelju 22. decembra u podne (12h) \nRezervacije poklona biće moguće do 18. decembra \nRezervacije su obavezne: 305 773 5071
URL:https://usadesavanja.com/event/novogodisnje-druzenje-sa-deda-mrazom-rakija-lounge-miami-decembar-22-2024/
LOCATION:Rakija Lounge\, 1131 Collins Ave\, Miami Beach\, FL\, Miami\, FL\, 33139\, United States
CATEGORIES:Florida,Zurke
ATTACH;FMTTYPE=image/jpeg:https://usadesavanja.com/wp-content/uploads/2021/12/deda-mrazz.jpg
END:VEVENT
BEGIN:VEVENT
DTSTART;VALUE=DATE:20241222
DTEND;VALUE=DATE:20241223
DTSTAMP:20260425T215458
CREATED:20241204T190229Z
LAST-MODIFIED:20241219T112710Z
UID:14815-1734825600-1734911999@usadesavanja.com
SUMMARY:BOZICNA RADIONICA // CRKVA SV. NIKOLE // LYONS // DECEMBAR 22. 2024.
DESCRIPTION:Crkva Sv. Nikole (Lyons) Vas poziva na Božićnu radionicu\, za decu uzrasta od 3 do 10 godina. \nOd 21. do 23. decembra\nObavezna prijava do 18. decembra. \nViše informacija na flajeru ispod:\nInfo: 907 570 4834\, email: presschool@nikolateslaps.com
URL:https://usadesavanja.com/event/bozicna-radionica-crkva-sv-nikole-lyons-decembar-22-2024/
LOCATION:Crkva Sv. Nikole (Joliet Ave\, Lyons)\, 4315 Joliet Ave\, Lyons\, IL 60534\, Chicago\, IL\, 60534\, United States
CATEGORIES:Illinois
ATTACH;FMTTYPE=image/png:https://usadesavanja.com/wp-content/uploads/2024/12/IMG-5091db360ad69d470b1694bc6e2de2b8-V883.png
END:VEVENT
BEGIN:VEVENT
DTSTART;VALUE=DATE:20241222
DTEND;VALUE=DATE:20241223
DTSTAMP:20260425T215458
CREATED:20241204T153511Z
LAST-MODIFIED:20241214T155254Z
UID:14803-1734825600-1734911999@usadesavanja.com
SUMMARY:OTKAZANO!!! LEPA BRENA PROJECT // IRISH AMERICAN HERITAGE CENTER // CHICAGO // DECEMBAR 22. 2024.
DESCRIPTION:Hit pozorišna predstava „Lepa Brena Project“\, koju je na Balkanu i širom Evrope već videlo preko 100.000 ljudi\, konačno dolazi u Ameriku\, a premijera je zakazana za 22. decembar u Čikagu! (7.30 PM – Irish American Heritage Center) \nKarte možete kupiti OVDE… kao i na 20 lokacija (restorana\, prodavnica\, klubova) u Čikagu i okolini. \nKroz spoj glume\, pevanja i plesa\, pozorišna predstava “Lepa Brena Project” postala je pravi fenomen\, vodeći nas od suza do smeha i donoseći duboke poruke o popularnosti\, raspadu bivše zemlje i sudbinama njenih građana\, svih nacija i vera. \nPredstava se bavi životom jedne od najvećih zvezda Jugoslavije\, Lepe Brene\, čije različite verzije na sceni tumači čak pet glumaca (tačnije\, 4 glumice i 1 glumac)\, te kroz njih prikazuju svu složenost i kontradikcije poslednjih četrdeset godina na balkanskim prostorima. \nVidimo se 22. decembra u Čikagu!
URL:https://usadesavanja.com/event/lepa-brena-project-irish-american-heritage-center-chicago-decembar-22-2024/
LOCATION:Irish American Heritage Center\, 4626 N Knox Ave\, Chicago\, IL\, Chicago\, IL\, 60630\, United States
CATEGORIES:Illinois,Pozoriste
ATTACH;FMTTYPE=image/jpeg:https://usadesavanja.com/wp-content/uploads/2024/12/IMG-7566d691b71d14f84de386d4dae0db52-V.jpg
END:VEVENT
BEGIN:VEVENT
DTSTART;VALUE=DATE:20241221
DTEND;VALUE=DATE:20241222
DTSTAMP:20260425T215458
CREATED:20241216T200133Z
LAST-MODIFIED:20241216T200133Z
UID:14983-1734739200-1734825599@usadesavanja.com
SUMMARY:HUSA\, IVICA\, LEPA LANA\, ZIKA & EMIR // SRPSKI KLUB // NEW YORK // DECEMBAR 21. 2024.
DESCRIPTION:Srpski Klub Vas poziva na odličnu svirku! \nU subotu 21. decembra od 9PM – Muzika uživo\, nastupaju: Husa (zvezda filma Nedelja)\, Lepa Lana\, Ivica Kostić\, Žika Ameerika i Emir Vakufac \nUlaz $25! \nInfo: 718 821 9875 \nŽelimo Vam da se odlično provedete!
URL:https://usadesavanja.com/event/husa-ivica-lepa-lana-zika-emir-srpski-klub-new-york-decembar-21-2024/
LOCATION:Srpski Klub New York\, 7254 65th Pl\, Queens\, NY\, New York\, NY\, 11385\, United States
CATEGORIES:New York
ATTACH;FMTTYPE=image/png:https://usadesavanja.com/wp-content/uploads/2024/12/husa-ps-8786756.png
END:VEVENT
BEGIN:VEVENT
DTSTART;VALUE=DATE:20241221
DTEND;VALUE=DATE:20241222
DTSTAMP:20260425T215458
CREATED:20241216T165451Z
LAST-MODIFIED:20241216T165451Z
UID:14961-1734739200-1734825599@usadesavanja.com
SUMMARY:DRAGANA\, RAJKO & MILE // COMPASS ARENA // CHICAGO // DECEMBAR 21. 2024.
DESCRIPTION:Compass Arena Vas poziva u subotu 21. decembra od 9PM na odličnu svirku! \nNastupaju: Dragana\, Rajko i Mile \nInfo: 630 523 9933 \nŽelimo Vam odličan provod!
URL:https://usadesavanja.com/event/dragana-rajko-mile-compass-arena-chicago-decembar-21-2024/
LOCATION:Compass Arena\, 625 Joliet Rd\, Willowbrook\, Chicago\, IL\, /adresar/compass-arena\, United States
CATEGORIES:Illinois
ATTACH;FMTTYPE=image/png:https://usadesavanja.com/wp-content/uploads/2024/09/dragana-rajko-i-mile.png
END:VEVENT
BEGIN:VEVENT
DTSTART;VALUE=DATE:20241221
DTEND;VALUE=DATE:20241222
DTSTAMP:20260425T215458
CREATED:20241212T172647Z
LAST-MODIFIED:20241212T172647Z
UID:14897-1734739200-1734825599@usadesavanja.com
SUMMARY:BALKAN PARTY // DMG CAFE // ST. PETERSBURG // DECEMBAR 21. 2024.
DESCRIPTION:DMG Cafe Vas poziva na Balkan party. \nSubota 21. decembar od 22h. \nCover: $10 \nAge: 18+ \nNastupa: DJ Voicelove \nInfo i rezervacije: 727 280 3317
URL:https://usadesavanja.com/event/balkan-party-dmg-cafe-st-petersburg-decembar-21-2024/
LOCATION:DMG Cafe\, 9031 Dr M.L.K. Jr St N\, St. Petersburg\, FL\, 33702\, United States
CATEGORIES:Florida,Restorani
ATTACH;FMTTYPE=image/jpeg:https://usadesavanja.com/wp-content/uploads/2021/02/party-all-night.jpg
ORGANIZER;CN="DMG Cafe":MAILTO:milosevickc@gmail.com
END:VEVENT
BEGIN:VEVENT
DTSTART;VALUE=DATE:20241221
DTEND;VALUE=DATE:20241222
DTSTAMP:20260425T215458
CREATED:20241210T183644Z
LAST-MODIFIED:20241214T152057Z
UID:14845-1734739200-1734825599@usadesavanja.com
SUMMARY:SERBIAN NIGHT // JOY DISTRICT // CHICAGO // DECEMBAR 21. 2024.
DESCRIPTION:Serbian Night Official Vas poziva na Serbian Night žurku koja će se održati u subotu 21. decembra od 21h u klubu Joy District. \nInfo: 708 601 4399 // 708 655 2771
URL:https://usadesavanja.com/event/serbian-night-joy-district-chicago-decembar-21-2024/
LOCATION:Joy District\, 112 W Hubbard St\, Chicago\, IL\, Chicago\, IL\, 60654\, United States
CATEGORIES:Illinois
ATTACH;FMTTYPE=image/jpeg:https://usadesavanja.com/wp-content/uploads/2021/08/underground.jpg
END:VEVENT
BEGIN:VEVENT
DTSTART;VALUE=DATE:20241221
DTEND;VALUE=DATE:20241222
DTSTAMP:20260425T215458
CREATED:20241204T190142Z
LAST-MODIFIED:20241219T112640Z
UID:14811-1734739200-1734825599@usadesavanja.com
SUMMARY:BOZICNA RADIONICA // CRKVA SV. NIKOLE // LYONS // DECEMBAR 21. 2024.
DESCRIPTION:Crkva Sv. Nikole (Lyons) Vas poziva na Božićnu radionicu\, za decu uzrasta od 3 do 10 godina. \nOd 21. do 23. decembra\nObavezna prijava do 18. decembra. \nViše informacija na flajeru ispod:\nInfo: 907 570 4834\, email: presschool@nikolateslaps.com
URL:https://usadesavanja.com/event/bozicna-radionica-crkva-sv-nikole-lyons-decembar-21-2024/
LOCATION:Crkva Sv. Nikole (Joliet Ave\, Lyons)\, 4315 Joliet Ave\, Lyons\, IL 60534\, Chicago\, IL\, 60534\, United States
CATEGORIES:Illinois
ATTACH;FMTTYPE=image/png:https://usadesavanja.com/wp-content/uploads/2024/12/IMG-5091db360ad69d470b1694bc6e2de2b8-V883.png
END:VEVENT
BEGIN:VEVENT
DTSTART;VALUE=DATE:20241221
DTEND;VALUE=DATE:20241222
DTSTAMP:20260425T215458
CREATED:20241127T225931Z
LAST-MODIFIED:20241127T233104Z
UID:14773-1734739200-1734825599@usadesavanja.com
SUMMARY:MIRZA DELIC // IMPERIA LOUNGE // CHICAGO // DECEMBAR 21. 2024.
DESCRIPTION:Imperia Lounge Vas poziva na odličnu svirku! \nSubota 21. decembar. Nastupa: Mirza Delić \nUlaz $30 \nInfo i rezervacije: 872 302 4164 \nŽelimo Vam odličan provod!
URL:https://usadesavanja.com/event/mirza-delic-imperia-lounge-chicago-decembar-21-2024/
LOCATION:Imperia Lounge\, 2610 W Peterson Ave\, Chicago\, IL\, Chicago\, IL\, 60659\, United States
CATEGORIES:Illinois
ATTACH;FMTTYPE=image/jpeg:https://usadesavanja.com/wp-content/uploads/2024/11/mirza-delic-jkhjgfzz.jpg
END:VEVENT
BEGIN:VEVENT
DTSTART;VALUE=DATE:20241221
DTEND;VALUE=DATE:20241222
DTSTAMP:20260425T215458
CREATED:20241123T110247Z
LAST-MODIFIED:20241215T111243Z
UID:14720-1734739200-1734825599@usadesavanja.com
SUMMARY:IVANA PILJA & DEJAN ALICIC // RESTORAN ZORA // CHICAGO // DECEMBAR 21. 2024.
DESCRIPTION:Etno restoran Zora Vas srdačno poziva da budete njihovi gosti! \nU subotu\, 21. decembra očekuje Vas sjajna svirka! \nNastupaju: Ivana Pilja & Dejan Aličić \nInfo: 773 625 7087 \nŽelimo Vam odličan provod!
URL:https://usadesavanja.com/event/ivana-pilja-danka-josifovski-restoran-zora-chicago-decembar-21-2024/
LOCATION:Restoran Zora\, 8445 W Lawrence Ave\, Chicago\, IL\, Chicago\, IL\, /adresar/etno-restoran-zora\, United States
CATEGORIES:Illinois,Restorani
ATTACH;FMTTYPE=image/jpeg:https://usadesavanja.com/wp-content/uploads/2021/09/zora-3.jpg
END:VEVENT
BEGIN:VEVENT
DTSTART;VALUE=DATE:20241221
DTEND;VALUE=DATE:20241222
DTSTAMP:20260425T215458
CREATED:20241122T180707Z
LAST-MODIFIED:20241122T180707Z
UID:14693-1734739200-1734825599@usadesavanja.com
SUMMARY:SEJLA ZONIC & ANID CUSIC // ROYAL BALLROOM // ATLANTA // DECEMBAR 21. 2024.
DESCRIPTION:Balkan Sound Promotion & Royal Ballroom Vas pozivaju na koncert\, u subotu 21. decembra \nŠejla Zonić & Anid Ćušić \nStart: 20. 30h \nInfo i rezervacije: 770 743 5234 \n \n 
URL:https://usadesavanja.com/event/sejla-zonic-anid-cusic-royal-ballroom-atlanta-decembar-21-2024/
LOCATION:Royal Ballroom\, 6185 Buford Hwy c2\, Peachtree Corners\, Atlanta\, GA\, 30071\, United States
CATEGORIES:Utah
ATTACH;FMTTYPE=image/jpeg:https://usadesavanja.com/wp-content/uploads/2024/11/sejla-i-anid.jpg
END:VEVENT
BEGIN:VEVENT
DTSTART;VALUE=DATE:20241221
DTEND;VALUE=DATE:20241222
DTSTAMP:20260425T215458
CREATED:20241111T182048Z
LAST-MODIFIED:20241111T182048Z
UID:14612-1734739200-1734825599@usadesavanja.com
SUMMARY:BILJANA\, MILOS & LJUBA // SKADARLIYA // CHICAGO // DECEMBAR 21. 2024.
DESCRIPTION:Restoran Skadarliya Vas poziva na sjajnu svirku! \nSubota\, 21. decembar\, Biljana\, Miloš & Ljuba \nInfo: 708 905 5919 \nŽelimo Vam odličan provod!
URL:https://usadesavanja.com/event/biljana-milos-ljuba-skadarliya-chicago-decembar-21-2024/
LOCATION:Skadarliya\, 9237 West Ogden Ave\, Brookfield\, Chicago\, IL\, 60513\, United States
CATEGORIES:Illinois,Restorani
ATTACH;FMTTYPE=image/jpeg:https://usadesavanja.com/wp-content/uploads/2021/08/bilja-acoustic.jpg
END:VEVENT
BEGIN:VEVENT
DTSTART;VALUE=DATE:20241220
DTEND;VALUE=DATE:20241221
DTSTAMP:20260425T215458
CREATED:20241218T181835Z
LAST-MODIFIED:20241218T182819Z
UID:15010-1734652800-1734739199@usadesavanja.com
SUMMARY:FAREWELL BOHEMIAN NIGHT // COMPASS ARENA // CHICAGO // DECEMBAR 20. 2024.
DESCRIPTION:Farewell Bohemian Night u Čikagu! \nLokacija: Premier Lounge\, Compass Arena\nDatum: Petak\, 20. decembar\nPočetak: 9 PM \nMuzika uživo: \nHusa Alijević\, Ivana Pilja\, Miloš Kaliča\, Sanel\, Saša \nUlaznice: $35 \nInfo i rezervacije: 630 523 9933\nAdresa: 625 Joliet Road\, Willowbrook\, IL 60527 \nOčekuje Vas veče ispunjeno boemskim duhom\, sjajnom muzikom i nezaboravnom atmosferom!
URL:https://usadesavanja.com/event/farewell-bohemian-night-compass-arena-chicago-decembar-20-2024/
LOCATION:Compass Arena\, 625 Joliet Rd\, Willowbrook\, Chicago\, IL\, /adresar/compass-arena\, United States
CATEGORIES:Illinois
ATTACH;FMTTYPE=image/png:https://usadesavanja.com/wp-content/uploads/2024/12/IMG-df0bc8c017e9f92d22001a3203286227-Vnbkjvhg.png
END:VEVENT
BEGIN:VEVENT
DTSTART;VALUE=DATE:20241220
DTEND;VALUE=DATE:20241221
DTSTAMP:20260425T215458
CREATED:20241216T190410Z
LAST-MODIFIED:20241216T190410Z
UID:14981-1734652800-1734739199@usadesavanja.com
SUMMARY:KAFANSKI KVIZ (DJ SPAZ) // CAFE DERBI // LAS VEGAS // DECEMBAR 20. 2024.
DESCRIPTION:Cafe Derbi Vas poziva na sjajnu žurku i Kafanski kviz! \nPetak\, 20. decembar\, DJ Spaz \nKviz počinje u 9:30PM\, nagrada za pobednike! \nInfo: 702 818 3613 \nŽelimo Vam odličan provod!
URL:https://usadesavanja.com/event/kafanski-kviz-dj-spaz-cafe-derbi-las-vegas-decembar-20-2024/
LOCATION:Cafe Derbi\, 5920 W Flamingo Rd Las Vegas\, NV 89103\, Las Vegas\, NV\, 89103\, United States
CATEGORIES:Nevada
ATTACH;FMTTYPE=image/jpeg:https://usadesavanja.com/wp-content/uploads/2021/12/spaz-event.jpg
END:VEVENT
BEGIN:VEVENT
DTSTART;VALUE=DATE:20241220
DTEND;VALUE=DATE:20241221
DTSTAMP:20260425T215458
CREATED:20241216T175850Z
LAST-MODIFIED:20241216T185215Z
UID:14971-1734652800-1734739199@usadesavanja.com
SUMMARY:JINGLE & MINGLE // CRKVA SV. KIRILA I METODIJA // CHICAGO // DECEMBAR 20. 2024.
DESCRIPTION:Crkva Sv. Kirila i Metodija i Makedonski kulturni centar Vas pozivaju na Jingle & Mingle after work! \nPetak 20. decembar\, od 6:30PM do 9PM. Nastupaju: Dragana Rakčević\, Bojan Vasilić & Mile Vujnović\, posle 10PM DJ Sick Nick \nUlaz $20! \nInfo: 708 557 8750 \nŽelimo Vam odličan provod!
URL:https://usadesavanja.com/event/jingle-mingle-crkva-sv-kirila-i-metodija-chicago-decembar-20-2024/
LOCATION:Crkva Sv. Kirila i Metodija\, 10S330 IL-83\, Willowbrook\, IL\, Chicago\, IL\, 60527\, United States
CATEGORIES:Illinois
ATTACH;FMTTYPE=image/png:https://usadesavanja.com/wp-content/uploads/2024/12/dragana-r-986756.png
END:VEVENT
BEGIN:VEVENT
DTSTART;VALUE=DATE:20241220
DTEND;VALUE=DATE:20241221
DTSTAMP:20260425T215458
CREATED:20241216T160047Z
LAST-MODIFIED:20241216T160047Z
UID:14952-1734652800-1734739199@usadesavanja.com
SUMMARY:DANKA & BILJANA // RESTORAN ZORA // CHICAGO // DECEMBAR 20. 2024.
DESCRIPTION:Etno restoran Zora Vas srdačno poziva da budete njihovi gosti! \nU petak\, 20. decembra očekuje Vas sjajna svirka! \nNastupaju: Danka Gajić i Biljana Đorđević \nInfo: 773 625 7087 \nŽelimo Vam odličan provod!
URL:https://usadesavanja.com/event/danka-biljana-restoran-zora-chicago-decembar-20-2024/
LOCATION:Restoran Zora\, 8445 W Lawrence Ave\, Chicago\, IL\, Chicago\, IL\, /adresar/etno-restoran-zora\, United States
CATEGORIES:Illinois,Restorani
ATTACH;FMTTYPE=image/png:https://usadesavanja.com/wp-content/uploads/2024/07/danka-i-bilja.png
END:VEVENT
END:VCALENDAR