BEGIN:VCALENDAR
VERSION:2.0
PRODID:-//USA Desavanja - ECPv6.15.17.1//NONSGML v1.0//EN
CALSCALE:GREGORIAN
METHOD:PUBLISH
X-WR-CALNAME:USA Desavanja
X-ORIGINAL-URL:https://usadesavanja.com
X-WR-CALDESC:Events for USA Desavanja
REFRESH-INTERVAL;VALUE=DURATION:PT1H
X-Robots-Tag:noindex
X-PUBLISHED-TTL:PT1H
BEGIN:VTIMEZONE
TZID:UTC
BEGIN:STANDARD
TZOFFSETFROM:+0000
TZOFFSETTO:+0000
TZNAME:UTC
DTSTART:20240101T000000
END:STANDARD
END:VTIMEZONE
BEGIN:VTIMEZONE
TZID:America/Chicago
BEGIN:DAYLIGHT
TZOFFSETFROM:-0600
TZOFFSETTO:-0500
TZNAME:CDT
DTSTART:20240310T080000
END:DAYLIGHT
BEGIN:STANDARD
TZOFFSETFROM:-0500
TZOFFSETTO:-0600
TZNAME:CST
DTSTART:20241103T070000
END:STANDARD
BEGIN:DAYLIGHT
TZOFFSETFROM:-0600
TZOFFSETTO:-0500
TZNAME:CDT
DTSTART:20250309T080000
END:DAYLIGHT
BEGIN:STANDARD
TZOFFSETFROM:-0500
TZOFFSETTO:-0600
TZNAME:CST
DTSTART:20251102T070000
END:STANDARD
BEGIN:DAYLIGHT
TZOFFSETFROM:-0600
TZOFFSETTO:-0500
TZNAME:CDT
DTSTART:20260308T080000
END:DAYLIGHT
BEGIN:STANDARD
TZOFFSETFROM:-0500
TZOFFSETTO:-0600
TZNAME:CST
DTSTART:20261101T070000
END:STANDARD
END:VTIMEZONE
BEGIN:VEVENT
DTSTART;VALUE=DATE:20251024
DTEND;VALUE=DATE:20251025
DTSTAMP:20260419T122801
CREATED:20251007T175108Z
LAST-MODIFIED:20251007T175108Z
UID:17146-1761264000-1761350399@usadesavanja.com
SUMMARY:TAMBURICA HOUSE BAND // RESTORAN ZORA // CHICAGO // OKTOBAR 24. 2025.
DESCRIPTION:Etno restoran Zora Vas poziva da budete njihovi gosti! \nU petak\, 24. oktobara od 22h očekuje Vas sjajna svirka! \nNastupa: Tamburica House Band \nInfo: 773 625 7087 \nŽelimo Vam odličan provod!
URL:https://usadesavanja.com/event/tamburica-house-band-restoran-zora-chicago-oktobar-24-2025/
LOCATION:Restoran Zora\, 8445 W Lawrence Ave\, Chicago\, IL\, Chicago\, IL\, /adresar/etno-restoran-zora\, United States
CATEGORIES:Illinois,Restorani
ATTACH;FMTTYPE=image/jpeg:https://usadesavanja.com/wp-content/uploads/2024/01/tamburica-haus-bend.jpg
END:VEVENT
BEGIN:VEVENT
DTSTART;VALUE=DATE:20251024
DTEND;VALUE=DATE:20251025
DTSTAMP:20260419T122801
CREATED:20251005T131451Z
LAST-MODIFIED:20251005T131451Z
UID:17126-1761264000-1761350399@usadesavanja.com
SUMMARY:LJUBOMIR ZARIC & GORAN STANIMIROVIC // DMG CAFE // ST. PETERSBURG\, FL // OKTOBAR 24. 2025.
DESCRIPTION:DMG Cafe Vas poziva na sjajnu žurku. \nPetak 24. oktobar od 11PM. Nastupaju: Ljubomir Zarić i Goran Stanimirović \nInfo i rezervacije: 727 280 3317 \nUlaz $20 \nŽelimo Vam odličan provod!
URL:https://usadesavanja.com/event/ljubomir-zaric-goran-stanimirovic-dmg-cafe-st-petersburg-fl-oktobar-24-2025/
LOCATION:DMG Cafe\, 9031 Dr M.L.K. Jr St N\, St. Petersburg\, FL\, 33702\, United States
CATEGORIES:Florida,Restorani
ATTACH;FMTTYPE=image/jpeg:https://usadesavanja.com/wp-content/uploads/2023/11/ljuba-zaric-new.jpg
ORGANIZER;CN="DMG Cafe":MAILTO:milosevickc@gmail.com
END:VEVENT
BEGIN:VEVENT
DTSTART;VALUE=DATE:20251024
DTEND;VALUE=DATE:20251025
DTSTAMP:20260419T122801
CREATED:20250925T165001Z
LAST-MODIFIED:20251008T183213Z
UID:17015-1761264000-1761350399@usadesavanja.com
SUMMARY:NIKOLA ROKVIC & FULL BAND // CRKVA SV. DJORDJA // CLEARWATER\, FL // OKTOBAR 24. 2025.
DESCRIPTION:NIKOLA ROKVIĆ & FULL BAND – USA TOUR 2025 \nJedna od najvećih muzičkih zvezda regiona dolazi u Clearwater!Pridružite nam se na spektakularnoj svirci u petak\, 24. oktobra u Crkvi Sv Đorđa. \nPetak\, 24. oktobar\, Crkva Sv. ĐorđaVrata se otvaraju u 21h \nRezervišite svoje mesto na vreme!Info / RSVP: 727 210 7741 \nKarte možete kupiti ovde. \nCene karata: online $35\, gate $45 \nNe propustite nezaboravno veče uz hitove Nikole Rokvića i energiju koju samo full band može da donese! \nŽelimo Vam odličan provod! \n  \n 
URL:https://usadesavanja.com/event/nikola-rokvic-full-band-crkva-sv-djordja-clearwater-oktobar-24-2025/
LOCATION:Hram Sv. Georgija (Clearwater)\, 15250 58th St N\, Clearwater\, FL\, Clearwater\, FL\, 33760\, United States
CATEGORIES:Florida,Restorani
ATTACH;FMTTYPE=image/jpeg:https://usadesavanja.com/wp-content/uploads/2025/09/nikola-rokvic.jpg
END:VEVENT
BEGIN:VEVENT
DTSTART;VALUE=DATE:20251023
DTEND;VALUE=DATE:20251024
DTSTAMP:20260419T122801
CREATED:20251023T173853Z
LAST-MODIFIED:20251023T173853Z
UID:17283-1761177600-1761263999@usadesavanja.com
SUMMARY:ACOUSTIC NIGHT // NIKOLA RESTAURANT & BAR // CHICAGO // OKTOBAR 23. 2025.
DESCRIPTION:NIKOLA restaurant & bar Vas poziva na Acoustic night! \nČetvrtak\, 23. oktobar. Nastupaju: Mladen i gosti \nInfo: 312 772 1003 \nŽelimo Vam odličan provod!
URL:https://usadesavanja.com/event/acoustic-night-nikola-restaurant-bar-chicago-oktobar-23-2025/
LOCATION:NIKOLA restaurant & bar\, 7316 W Lawrence Ave\, Harwood Heights\, IL 60706\, Chicago\, IL\, United States
CATEGORIES:Illinois,Restorani,Zurke
ATTACH;FMTTYPE=image/jpeg:https://usadesavanja.com/wp-content/uploads/2024/05/guitar-gary-meulemans-fWzqFbKe9Wo-unsplash.jpg
END:VEVENT
BEGIN:VEVENT
DTSTART;VALUE=DATE:20251022
DTEND;VALUE=DATE:20251023
DTSTAMP:20260419T122801
CREATED:20251020T175821Z
LAST-MODIFIED:20251020T175821Z
UID:17261-1761091200-1761177599@usadesavanja.com
SUMMARY:ADNAN NEZIROV // CAFE DERBI // LAS VEGAS // OKTOBAR 22. 2025.
DESCRIPTION:Cafe Derbi Vas poziva na sjajnu žurku! \nSreda 22. oktobar od 21h. Nastupa: Adnan Nezirov \nInfo: 702 818 3613 \nŽelimo Vam odličan provod!
URL:https://usadesavanja.com/event/adnan-nezirov-cafe-derbi-las-vegas-oktobar-22-2025/
LOCATION:Cafe Derbi\, 5920 W Flamingo Rd Las Vegas\, NV 89103\, Las Vegas\, NV\, 89103\, United States
CATEGORIES:Nevada,Zurke
ATTACH;FMTTYPE=image/jpeg:https://usadesavanja.com/wp-content/uploads/2020/12/adnan-nezirov-new.jpg
END:VEVENT
BEGIN:VEVENT
DTSTART;VALUE=DATE:20251019
DTEND;VALUE=DATE:20251020
DTSTAMP:20260419T122801
CREATED:20250929T171132Z
LAST-MODIFIED:20250929T171132Z
UID:17064-1760832000-1760918399@usadesavanja.com
SUMMARY:PREDSTAVA "KO JE OVDE LUD" // SKOKIE THEATER // CHICAGO // OKTOBAR 19. 2025.
DESCRIPTION:Serbian Theater Chicago Vas poziva na hit predstavu „Ko je ovde lud“\, komediju koja razbija svaku dijagnozu i obećava večeri ispunjene smehom do suza. \nDatumi izvođenja:\n– 17. oktobar 2025. u 20h\n– 18. oktobar 2025. u 20h\n– 19. oktobar 2025. u 17h \nMesto: Skokie Theater\, 7924 Lincoln Ave\, Skokie\, IL 60077 \nKarte su u prodaji na: serbiantheater.com \nNe propustite priliku da uživate u vrhunskoj glumi i humoru koji osvaja publiku širom Amerike!
URL:https://usadesavanja.com/event/predstava-ko-je-ovde-lud-skokie-theater-chicago-oktobar-19-2025/
LOCATION:Skokie Theater\, 7924 Lincoln Ave\, Skokie\, IL\, Chicago\, IL\, 60077\, United States
CATEGORIES:Illinois,Pozoriste
ATTACH;FMTTYPE=image/jpeg:https://usadesavanja.com/wp-content/uploads/2024/09/theatre-ai-generated-8581405_1280.jpg
END:VEVENT
BEGIN:VEVENT
DTSTART;VALUE=DATE:20251018
DTEND;VALUE=DATE:20251019
DTSTAMP:20260419T122801
CREATED:20251018T130339Z
LAST-MODIFIED:20251018T130533Z
UID:17247-1760745600-1760831999@usadesavanja.com
SUMMARY:SIMULTANKA SA DEJANOM MAKSIMOVICEM // MANASTIR SV. SAVA // CHICAGO // OKTOBAR 18. 2025.
DESCRIPTION:Testirajte svoje šahovske veštine protiv svetskog majstora! \nPozivamo sve ljubitelje šaha da nam se pridruže na jedinstvenom događaju — simultanki sa međunarodnim šahovskim majstorom Dejanom Maksimovićem (MAX)! \nSubota\, 18. oktobar u 13:00 hStara rezidencija manastira Sveti Sava\,32377 N Milwaukee Ave\, Libertyville\, IL 60048 \nUčešće je besplatno!Dobrovoljni prilozi biće usmereni na obnovu konaka manastira. \nNagrade: \n\n\nPobeda nad majstorom: 2 sata individualnog učenja \n\n\nNerešeno: 1 sat individualnog učenja \n\n\nSpecijalna nagrada za najboljeg igrača dana \n\n\nNapomena:Broj mesta je ograničen na 68. Registrujte se unapred kako biste osigurali svoje mesto i tablu. \nDođite\, igrajte i uživajte u nezaboravnom danu šaha sa vrhunskim igračem i trenerom koji inspiriše generacije!
URL:https://usadesavanja.com/event/simultanka-sa-dejanom-maksimovicem-manastir-sv-sava-chicago-oktobar-18-2025/
LOCATION:Manastir Sv Sava\, N Milwaukee Ave\, Libertyville\, IL 60048\, Chicago\, United States
CATEGORIES:Illinois
ATTACH;FMTTYPE=image/jpeg:https://usadesavanja.com/wp-content/uploads/2023/03/chess-cd.jpg
END:VEVENT
BEGIN:VEVENT
DTSTART;VALUE=DATE:20251018
DTEND;VALUE=DATE:20251019
DTSTAMP:20260419T122801
CREATED:20251015T163857Z
LAST-MODIFIED:20251015T163857Z
UID:17219-1760745600-1760831999@usadesavanja.com
SUMMARY:RAZGOVOR SA IGUMANOM HILANDARA // NOVA GRACANICA // CHICAGO // OKTOBAR 18. 2025.
DESCRIPTION:Sa blagoslovom Njegovog Visokopreosveštenstva G. Longina\, Mitropolita Srednjezapadnoameričkog SPC\, Iguman Manastira Hilandara\, G. Metodije\, posetiće Manastir Nova Gračanica. \nPozivamo sav verni narod da prisustvuje ovom jedinstvenom događaju! \nSubota\, 18. Oktobar 2025. \nPROGRAM:\n– 17:00 – Večernje\n– 17:30 – Akatist Presvetoj Bogorodici Trojeručici\n– 18:00 – Poučni razgovor sa Igumanom Metodijem \nDOBRODOŠLI!
URL:https://usadesavanja.com/event/razgovor-sa-igumanom-hilandara-nova-gracanica-chicago-oktobar-18-2025/
LOCATION:Manastir Nova Gracanica\, 35240 W. Grant Ave\, Third Lake\, IL\, Chicago\, IL\, 60046\, United States
CATEGORIES:Illinois
ATTACH;FMTTYPE=image/jpeg:https://usadesavanja.com/wp-content/uploads/2024/02/gracanica.jpg
END:VEVENT
BEGIN:VEVENT
DTSTART;VALUE=DATE:20251018
DTEND;VALUE=DATE:20251019
DTSTAMP:20260419T122801
CREATED:20251003T194320Z
LAST-MODIFIED:20251003T194320Z
UID:17124-1760745600-1760831999@usadesavanja.com
SUMMARY:SLAVA KOLA SRPSKIH SESTARA // CRKVA SV. ARHANGELA MIHAILA // UTAH // OKTOBAR 18. 2025.
DESCRIPTION:Pozivamo vas da zajedno proslavimo Slavu Kola Srpskih Sestara u radosnoj i svečanoj atmosferi. \nSubota\, 18. oktobar\nPočetak u 19 časova\nSrpska Pravoslavna Parohija Svetog Arhangela Mihaila \nZa dobar provod pobrinuće se Boris Batula\, dok će kuma slave biti Mirela Ranković. \nUlaz:\nOdrasli: $35\nDeca (7–15 godina): $20 \nDobrodošli\, dragi gosti! \nHajde da u zajedništvu i veselju obeležimo ovaj svečani dan! \nŽiveli!
URL:https://usadesavanja.com/event/slava-kola-srpskih-sestara-crkva-sv-arhangela-mihaila-utah-oktobar-18-2025/
LOCATION:Crkva Sv. Arhangela Mihaila (SLC)\, 1606 S 1000 W\, Salt Lake City\, UT\, Salt Lake City\, UT\, 84104\, United States
CATEGORIES:Restorani,Utah,Zurke
ATTACH;FMTTYPE=image/jpeg:https://usadesavanja.com/wp-content/uploads/2023/05/folklore.jpg
END:VEVENT
BEGIN:VEVENT
DTSTART;VALUE=DATE:20251018
DTEND;VALUE=DATE:20251019
DTSTAMP:20260419T122801
CREATED:20251003T191431Z
LAST-MODIFIED:20251003T191431Z
UID:17112-1760745600-1760831999@usadesavanja.com
SUMMARY:DC ELECTRIC BAND // AMBAR CLARENDON // WASHINGTON DC // OKTOBAR 18. 2025.
DESCRIPTION:AMBAR Restaurant\, Clarendon Vas poziva na fenomenalnu svirku. \nU subotu 18. oktobra od 20h za Vas nastupa DC Electric Band \nŽelimo Vam odličan provod!
URL:https://usadesavanja.com/event/dc-electric-band-ambar-clarendon-washington-dc-oktobar-18-2025/
LOCATION:AMBAR Restaurant\, Clarendon\, 2901 Wilson Blvd\, Arlington\, VA 22201\, Washington DC\, WA\, United States
CATEGORIES:Washington,Zurke
ATTACH;FMTTYPE=image/jpeg:https://usadesavanja.com/wp-content/uploads/2025/10/dc-electric-band.jpg
END:VEVENT
BEGIN:VEVENT
DTSTART;VALUE=DATE:20251018
DTEND;VALUE=DATE:20251019
DTSTAMP:20260419T122801
CREATED:20250929T171039Z
LAST-MODIFIED:20250929T171048Z
UID:17062-1760745600-1760831999@usadesavanja.com
SUMMARY:PREDSTAVA "KO JE OVDE LUD" // SKOKIE THEATER // CHICAGO // OKTOBAR 18. 2025.
DESCRIPTION:Serbian Theater Chicago Vas poziva na hit predstavu „Ko je ovde lud“\, komediju koja razbija svaku dijagnozu i obećava večeri ispunjene smehom do suza. \nDatumi izvođenja:\n– 17. oktobar 2025. u 20h\n– 18. oktobar 2025. u 20h\n– 19. oktobar 2025. u 17h \nMesto: Skokie Theater\, 7924 Lincoln Ave\, Skokie\, IL 60077 \nKarte su u prodaji na: serbiantheater.com \nNe propustite priliku da uživate u vrhunskoj glumi i humoru koji osvaja publiku širom Amerike!
URL:https://usadesavanja.com/event/predstava-ko-je-ovde-lud-skokie-theater-chicago-oktobar-18-2025/
LOCATION:Skokie Theater\, 7924 Lincoln Ave\, Skokie\, IL\, Chicago\, IL\, 60077\, United States
CATEGORIES:Illinois,Pozoriste
ATTACH;FMTTYPE=image/jpeg:https://usadesavanja.com/wp-content/uploads/2024/09/theatre-ai-generated-8581405_1280.jpg
END:VEVENT
BEGIN:VEVENT
DTSTART;VALUE=DATE:20251018
DTEND;VALUE=DATE:20251019
DTSTAMP:20260419T122801
CREATED:20250924T144548Z
LAST-MODIFIED:20250924T144548Z
UID:16989-1760745600-1760831999@usadesavanja.com
SUMMARY:DRAGANA RAKCEVIC // COMPASS ARENA // CHICAGO // SEPTEMBAR 27. 2025.
DESCRIPTION:Compass Arena Vas poziva na fenomenalnu svirku! \nNastupa: Dragana Rakčević \nSubota\, 18. oktobar od 21h \nInfo: 630 448 5723 \nŽelimo Vam odličan provod!
URL:https://usadesavanja.com/event/dragana-rakcevic-compass-arena-chicago-septembar-27-2025-2/
LOCATION:Compass Arena\, 625 Joliet Rd\, Willowbrook\, Chicago\, IL\, /adresar/compass-arena\, United States
CATEGORIES:Illinois
ATTACH;FMTTYPE=image/jpeg:https://usadesavanja.com/wp-content/uploads/2023/09/dragana-rakcevic-02.jpg
END:VEVENT
BEGIN:VEVENT
DTSTART;VALUE=DATE:20251018
DTEND;VALUE=DATE:20251019
DTSTAMP:20260419T122801
CREATED:20250917T141936Z
LAST-MODIFIED:20250917T141936Z
UID:16939-1760745600-1760831999@usadesavanja.com
SUMMARY:DANKA\, LJUBA & SANEL // SKADARLIYA // CHICAGO // OKTOBAR 18. 2025.
DESCRIPTION:Skadarliya Vas poziva na sjajnu svirku! \nSubota\, 18. oktobar\, od 21h. \nNastupaju: Danka Gajić\, Ljubomir Zarić i Sanel Bajrami \nInfo: 708 905 5919 \nŽelimo Vam odličan provod!
URL:https://usadesavanja.com/event/danka-ljuba-sanel-skadarliya-chicago-oktobar-18-2025/
LOCATION:Skadarliya\, 9237 West Ogden Ave\, Brookfield\, Chicago\, IL\, 60513\, United States
CATEGORIES:Illinois,Restorani
ATTACH;FMTTYPE=image/jpeg:https://usadesavanja.com/wp-content/uploads/2025/04/Screenshot_20250422_152154.jpg
END:VEVENT
BEGIN:VEVENT
DTSTART;VALUE=DATE:20251018
DTEND;VALUE=DATE:20251019
DTSTAMP:20260419T122801
CREATED:20250915T170058Z
LAST-MODIFIED:20250915T170058Z
UID:16924-1760745600-1760831999@usadesavanja.com
SUMMARY:IVANA PILJA & LJUBA ZARIC // RESTORAN ZORA // CHICAGO // OKTOBAR 18. 2025.
DESCRIPTION:Etno restoran Zora Vas poziva da budete njihovi gosti! \nU subotu\, 18. oktobara od 22h očekuje Vas sjajna svirka! \nNastupa: Ivana Pilja i Ljuba Zarić \nInfo: 773 625 7087 \nŽelimo Vam odličan provod!
URL:https://usadesavanja.com/event/ivana-pilja-ljuba-zaric-restoran-zora-chicago-oktobar-18-2025/
LOCATION:Restoran Zora\, 8445 W Lawrence Ave\, Chicago\, IL\, Chicago\, IL\, /adresar/etno-restoran-zora\, United States
CATEGORIES:Illinois,Restorani
ATTACH;FMTTYPE=image/jpeg:https://usadesavanja.com/wp-content/uploads/2021/09/zora-5.jpg
END:VEVENT
BEGIN:VEVENT
DTSTART;VALUE=DATE:20251018
DTEND;VALUE=DATE:20251019
DTSTAMP:20260419T122801
CREATED:20250908T164951Z
LAST-MODIFIED:20250908T164951Z
UID:16834-1760745600-1760831999@usadesavanja.com
SUMMARY:ALMIR M & TRIBUN BAND // IMPERIA LOUNGE // CHICAGO // OKTOBAR 18. 2025.
DESCRIPTION:Imperia Lounge Vas poziva na odličnu svirku. \nSubota 18. oktobar\, od 9PM \nNastupaju: Almir M & Tribune band \nInfo: 872 302 4164 \nŽelimo Vam odličan provod!
URL:https://usadesavanja.com/event/almir-m-tribun-band-imperia-lounge-chicago-oktobar-18-2025/
LOCATION:Imperia Lounge\, 2610 W Peterson Ave\, Chicago\, IL\, Chicago\, IL\, 60659\, United States
CATEGORIES:Illinois
ATTACH;FMTTYPE=image/png:https://usadesavanja.com/wp-content/uploads/2025/05/almir-m-i-tribun-bend-9765678.png
END:VEVENT
BEGIN:VEVENT
DTSTART;VALUE=DATE:20251018
DTEND;VALUE=DATE:20251019
DTSTAMP:20260419T122801
CREATED:20250902T164758Z
LAST-MODIFIED:20250902T164758Z
UID:16793-1760745600-1760831999@usadesavanja.com
SUMMARY:ALEN SLAVICA // CAFE DERBI // LAS VEGAS // OKTOBAR 18. 2025.
DESCRIPTION:Cafe Derbi Vas poziva na sjajnu žurku! \nSubota 18. oktobar od 21h. Nastupa: Alen Slavica \nInfo: 702 818 3613 \nŽelimo Vam odličan provod!
URL:https://usadesavanja.com/event/alen-slavica-cafe-derbi-las-vegas-oktobar-18-2025/
LOCATION:Cafe Derbi\, 5920 W Flamingo Rd Las Vegas\, NV 89103\, Las Vegas\, NV\, 89103\, United States
CATEGORIES:Nevada
ATTACH;FMTTYPE=image/jpeg:https://usadesavanja.com/wp-content/uploads/2025/09/alen1-920x480-1.jpeg
END:VEVENT
BEGIN:VEVENT
DTSTART;VALUE=DATE:20251017
DTEND;VALUE=DATE:20251018
DTSTAMP:20260419T122801
CREATED:20251015T131245Z
LAST-MODIFIED:20251015T131245Z
UID:17214-1760659200-1760745599@usadesavanja.com
SUMMARY:LADIES NIGHT // STEREO NIGHTCLUB // CHICAGO // OKTOBAR 17. 2025.
DESCRIPTION:Stereo Nightclub Vas poziva na Ladies night! \nPetak\, 17. oktobar\, od 20h. Hitovi 2000’s & 2010’s \nBesplatan ulaz! \nZa više informacija posetite www.stereochicago.com
URL:https://usadesavanja.com/event/ladies-night-stereo-nightclub-chicago-oktobar-17-2025/
LOCATION:Stereo Nightclub\, 5616 W Diversey Ave\, Chicago\, IL\, Chicago\, IL\, 60639\, United States
CATEGORIES:Illinois,Zurke
ATTACH;FMTTYPE=image/jpeg:https://usadesavanja.com/wp-content/uploads/2023/07/dj-zac-bromell-y8PLjuPoDlM-unsplash.jpg
END:VEVENT
BEGIN:VEVENT
DTSTART;VALUE=DATE:20251017
DTEND;VALUE=DATE:20251018
DTSTAMP:20260419T122801
CREATED:20251014T131447Z
LAST-MODIFIED:20251014T131447Z
UID:17206-1760659200-1760745599@usadesavanja.com
SUMMARY:NOC POSVECENA HALIDU BESLICU // SKADARLIYA // CHICAGO // OKTOBAR 17. 2025.
DESCRIPTION:Skadarliya Vas poziva na veče posvećeno Halidu Bešliću! \nPetak\, 17. oktobar\, od 21h. \nNastupaju: Adnan Babajić i Nikola Prvulović \nInfo: 708 905 5919 \nŽelimo Vam odličan provod!
URL:https://usadesavanja.com/event/noc-posvecena-halidu-beslicu-skadarliya-chicago-oktobar-17-2025/
LOCATION:Skadarliya\, 9237 West Ogden Ave\, Brookfield\, Chicago\, IL\, 60513\, United States
CATEGORIES:Illinois,Restorani
ATTACH;FMTTYPE=image/jpeg:https://usadesavanja.com/wp-content/uploads/2022/09/adnan-babajic-new.jpg
END:VEVENT
BEGIN:VEVENT
DTSTART;VALUE=DATE:20251017
DTEND;VALUE=DATE:20251018
DTSTAMP:20260419T122801
CREATED:20251002T135149Z
LAST-MODIFIED:20251002T135149Z
UID:17074-1760659200-1760745599@usadesavanja.com
SUMMARY:BALKAN NIGHT // PLAYBOOK // CHICAGO // OKTOBAR 17. 2025.
DESCRIPTION:Playbook Vas poziva u petak 17. oktobra na Balkan night. \nStart: 22h – Nastupaju: Bojan\, Sanja\, Sanel i DJ Sick Nick \nInfo i rezervacije: 312 841 3584 \nŽelimo Vam odličan provod!
URL:https://usadesavanja.com/event/balkan-night-playbook-chicago-oktobar-17-2025/
LOCATION:Playbook\, 6913 N Milwaukee Ave\, Niles\, IL\, Niles\, IL\, 60714\, United States
CATEGORIES:Illinois
ATTACH;FMTTYPE=image/png:https://usadesavanja.com/wp-content/uploads/2025/04/sanja-bojan-sanel-987.png
END:VEVENT
BEGIN:VEVENT
DTSTART;VALUE=DATE:20251017
DTEND;VALUE=DATE:20251018
DTSTAMP:20260419T122801
CREATED:20250929T170922Z
LAST-MODIFIED:20250929T170922Z
UID:17059-1760659200-1760745599@usadesavanja.com
SUMMARY:PREDSTAVA "KO JE OVDE LUD" // SKOKIE THEATER // CHICAGO // OKTOBAR 17. 2025.
DESCRIPTION:Serbian Theater Chicago Vas poziva na hit predstavu „Ko je ovde lud“\, komediju koja razbija svaku dijagnozu i obećava večeri ispunjene smehom do suza. \nDatumi izvođenja:\n– 17. oktobar 2025. u 20h\n– 18. oktobar 2025. u 20h\n– 19. oktobar 2025. u 17h \nMesto: Skokie Theater\, 7924 Lincoln Ave\, Skokie\, IL 60077 \nKarte su u prodaji na: serbiantheater.com \nNe propustite priliku da uživate u vrhunskoj glumi i humoru koji osvaja publiku širom Amerike!
URL:https://usadesavanja.com/event/predstava-ko-je-ovde-lud-skokie-theater-chicago-oktobar-17-2025/
LOCATION:Skokie Theater\, 7924 Lincoln Ave\, Skokie\, IL\, Chicago\, IL\, 60077\, United States
CATEGORIES:Illinois,Pozoriste
ATTACH;FMTTYPE=image/jpeg:https://usadesavanja.com/wp-content/uploads/2024/09/theatre-ai-generated-8581405_1280.jpg
END:VEVENT
BEGIN:VEVENT
DTSTART;VALUE=DATE:20251017
DTEND;VALUE=DATE:20251018
DTSTAMP:20260419T122801
CREATED:20250924T144350Z
LAST-MODIFIED:20250924T144350Z
UID:16987-1760659200-1760745599@usadesavanja.com
SUMMARY:KAFANSKO VECE // COMPASS ARENA // CHICAGO // OKTOBAR 17. 2025.
DESCRIPTION:Compass Arena Vas poziva na kafansko veče! \nPetak\, 17. oktobar\, od 21h. Nastupaju: Ivana Pilja i Radiša Rašula \nInfo: 630 448 5723 \nŽelimo Vam odličan provod!
URL:https://usadesavanja.com/event/kafansko-vece-compass-arena-chicago-oktobar-17-2025/
LOCATION:Compass Arena\, 625 Joliet Rd\, Willowbrook\, Chicago\, IL\, /adresar/compass-arena\, United States
CATEGORIES:Illinois,Restorani
ATTACH;FMTTYPE=image/png:https://usadesavanja.com/wp-content/uploads/2024/12/radisa-rasula-kalendar.png
END:VEVENT
BEGIN:VEVENT
DTSTART;VALUE=DATE:20251017
DTEND;VALUE=DATE:20251018
DTSTAMP:20260419T122801
CREATED:20250915T165941Z
LAST-MODIFIED:20251014T131115Z
UID:16922-1760659200-1760745599@usadesavanja.com
SUMMARY:DRAGANA\, MILOS KALCA & MILE // RESTORAN ZORA // CHICAGO // OKTOBAR 17. 2025.
DESCRIPTION:Etno restoran Zora Vas poziva da budete njihovi gosti! \nU petak\, 17. oktobara od 22h očekuje Vas sjajna svirka! \nNastupa: Dragana Rakčević\, Miloš Kalča i Mile Vujnović \nInfo: 773 625 7087 \nŽelimo Vam odličan provod!
URL:https://usadesavanja.com/event/dragana-milos-kalca-restoran-zora-chicago-oktobar-17-2025/
LOCATION:Restoran Zora\, 8445 W Lawrence Ave\, Chicago\, IL\, Chicago\, IL\, /adresar/etno-restoran-zora\, United States
CATEGORIES:Illinois,Restorani
ATTACH;FMTTYPE=image/jpeg:https://usadesavanja.com/wp-content/uploads/2024/06/dragana-i-kalca-Screenshot_20240624_203128_edit_877402731002585.jpg
END:VEVENT
BEGIN:VEVENT
DTSTART;VALUE=DATE:20251016
DTEND;VALUE=DATE:20251017
DTSTAMP:20260419T122801
CREATED:20251013T172556Z
LAST-MODIFIED:20251014T165114Z
UID:17199-1760572800-1760659199@usadesavanja.com
SUMMARY:ACOUSTIC NIGHT // SKADARLIYA // CHICAGO // OKTOBAR 16. 2025.
DESCRIPTION:Skadarliya Vas poziva na Acoustic night! \nČetvrtak\, 16. oktobar\, od 22h. \nNastupaju: Sanja Grahovac i Sanel Bajrami \nInfo: 708 905 5919 \nŽelimo Vam odličan provod!
URL:https://usadesavanja.com/event/acoustic-night-skadarliya-chicago-oktobar-16-2025/
LOCATION:Skadarliya\, 9237 West Ogden Ave\, Brookfield\, Chicago\, IL\, 60513\, United States
CATEGORIES:Illinois,Restorani
ATTACH;FMTTYPE=image/jpeg:https://usadesavanja.com/wp-content/uploads/2025/06/sanja-i-sanel-t7r677t8.jpg
END:VEVENT
BEGIN:VEVENT
DTSTART;VALUE=DATE:20251014
DTEND;VALUE=DATE:20251015
DTSTAMP:20260419T122801
CREATED:20251002T133254Z
LAST-MODIFIED:20251002T133254Z
UID:17070-1760400000-1760486399@usadesavanja.com
SUMMARY:DJ VOICELOVE // RAKIJA LOUNGE // MIAMI // OKTOBAR 14. 2025.
DESCRIPTION:Rakija Lounge Vas poziva na sjajnu žurku!\n \nUtorak 14. oktobar od 21h. Nastupa DJ Voicelove \nRezervišite svoje mesto na: 786 558 4805 \nŽelimo vam odličan provod!
URL:https://usadesavanja.com/event/dj-voicelove-rakija-lounge-miami-oktobar-14-2025/
LOCATION:Rakija Lounge\, 1131 Collins Ave\, Miami Beach\, FL\, Miami\, FL\, 33139\, United States
CATEGORIES:Florida
ATTACH;FMTTYPE=image/jpeg:https://usadesavanja.com/wp-content/uploads/2025/04/dj-voicelove-Screenshot_20250418_214857.jpg
END:VEVENT
BEGIN:VEVENT
DTSTART;VALUE=DATE:20251013
DTEND;VALUE=DATE:20251014
DTSTAMP:20260419T122801
CREATED:20250923T210508Z
LAST-MODIFIED:20250923T210847Z
UID:16982-1760313600-1760399999@usadesavanja.com
SUMMARY:ARGENTINA VS. PUERTO RICO // SOLDIER FIELD  // CHICAGO // OKTOBAR 13. 2025.
DESCRIPTION:Čikago će svedočiti istorijskoj noći! \nArgentina\, aktuelni svetski šampioni\, suočavaju se sa Porto Rico-om po prvi put u okršaju koji će ući u istoriju na Soldier Field Stadionu. \nPonedeljak\, 13. oktobar\, 19:00h \nOvo nije samo utakmica… Ovo je istorija koja se piše. \nOnline ulaznice možete kupiti ovde. \nInfo: 312 235 7000
URL:https://usadesavanja.com/event/argentina-vs-puerto-rico-soldier-field-chicago-oktobar-13-2025/
LOCATION:Soldier Field\, 1410 Special Olympics Dr\, Chicago\, IL\, Chicago\, IL\, 60605\, United States
CATEGORIES:Illinois
ATTACH;FMTTYPE=image/jpeg:https://usadesavanja.com/wp-content/uploads/2022/11/football-game.jpg
END:VEVENT
BEGIN:VEVENT
DTSTART;VALUE=DATE:20251012
DTEND;VALUE=DATE:20251013
DTSTAMP:20260419T122801
CREATED:20251005T145957Z
LAST-MODIFIED:20251005T150131Z
UID:17131-1760227200-1760313599@usadesavanja.com
SUMMARY:DAMIR IMAMOVIC // NICHOLS CONCERT HALL // EVANSTON\, IL // OKTOBAR 12. 2025.
DESCRIPTION:Poznati umetnik iz Bosne i jedan od najistaknutijih izvođača sevdaha\, Damir Imamović\, nastupiće sa svojim triom u čuvenoj dvorani Nichols Concert Hall\, Music Institute u Evanstonu. \nPubliku očekuje nezaboravno muzičko veče ispunjeno emocijom\, tradicijom i vrhunskim umetničkim izražajem. \nDatumi i vreme:\n– Subota\, 11. oktobar 2025. od 20:00 do 22:00\n– Nedelja\, 12. oktobar 2025. od 18:00 do 20:00 \nNe propustite priliku da doživite magiju sevdaha uživo\, u intimnoj atmosferi jedne od najlepših koncertnih dvorana u Čikagu. \nKarte možete nabaviti OVDE
URL:https://usadesavanja.com/event/damir-imamovic-nichols-concert-hall-evanston-il-oktobar-12-2025/
LOCATION:Nichols Concert Hall\, 1490 Chicago Ave\, Evanston\, IL 60201\, Chicago\, IL\, United States
CATEGORIES:Illinois,Koncerti
ATTACH;FMTTYPE=image/png:https://usadesavanja.com/wp-content/uploads/2025/10/damir-imamovic-zt-ps.png
END:VEVENT
BEGIN:VEVENT
DTSTART;VALUE=DATE:20251012
DTEND;VALUE=DATE:20251013
DTSTAMP:20260419T122801
CREATED:20251003T190611Z
LAST-MODIFIED:20251003T190611Z
UID:17114-1760227200-1760313599@usadesavanja.com
SUMMARY:JESENJI SERBFEST // CRKVA SV. LUKE // WASHINGTON\, DC // OKTOBAR 12. 2025.
DESCRIPTION:Pridružite nam se na jesenjem SerbFest-u \nSubota\, 11. oktobar i nedelja\, 12. oktobar \nTradicionalna jela i pića iz srpske kuhinje \nKulturni program \nMuzika uživo tokom celog vikenda \nViše informacija na linku.
URL:https://usadesavanja.com/event/jesenji-serbfest-crkva-sv-luke-washington-dc-oktobar-12-2025/
LOCATION:Crkva Sv. Luke (Potomac)\, 10660 River Rd\, Potomac\, MD\, Potomac\, MD\, 20854\, United States
CATEGORIES:Washington
ATTACH;FMTTYPE=image/png:https://usadesavanja.com/wp-content/uploads/2024/08/Screenshot_20240731_srpska-hrana.png
END:VEVENT
BEGIN:VEVENT
DTSTART;VALUE=DATE:20251012
DTEND;VALUE=DATE:20251013
DTSTAMP:20260419T122801
CREATED:20251003T182320Z
LAST-MODIFIED:20251010T142425Z
UID:17097-1760227200-1760313599@usadesavanja.com
SUMMARY:GOODBAY PARTY - BALKANSKOM ULICOM // RESTORAN ZORA // CHICAGO // OKTOBAR 12. 2025.
DESCRIPTION:Etno restoran Zora Vas poziva da budete njihovi gosti! \nNedelja\, 12. oktobar Goodbay party Balkanskom ulicom sa Vesnom Dedić:\n19:30h – 20:30h Promocija i prodaja knjige\n20:30h Party – Nastupaju Ivana Pilja i Rajko Paunović \nInfo: 773 625 7087 \nŽelimo Vam odličan provod!
URL:https://usadesavanja.com/event/goodbay-party-balkanskom-ulicom-restoran-zora-chicago-oktobar-12-2025/
LOCATION:Restoran Zora\, 8445 W Lawrence Ave\, Chicago\, IL\, Chicago\, IL\, /adresar/etno-restoran-zora\, United States
CATEGORIES:Illinois,Restorani
ATTACH;FMTTYPE=image/jpeg:https://usadesavanja.com/wp-content/uploads/2025/09/vesna-dedic.jpg
END:VEVENT
BEGIN:VEVENT
DTSTART;VALUE=DATE:20251012
DTEND;VALUE=DATE:20251013
DTSTAMP:20260419T122801
CREATED:20250912T173255Z
LAST-MODIFIED:20250912T173255Z
UID:16896-1760227200-1760313599@usadesavanja.com
SUMMARY:SERB FEST // CRKVA SV. PETKE // ORLANDO\, FL // OKTOBAR 12. 2025.
DESCRIPTION:Pridružite nam se na Serb Fest Orlando 2025\, nezaboravnom vikendu ispunjenom srpskom hranom\, muzikom\, plesom i kulturom! \nPozovite porodicu i prijatelje i zajedno doživite čari naših tradicija. \nDatum: 10–12. oktobar 2025.Lokacija: St. Petka Serbian Orthodox Church\, Orlando \nNe propustite najveću srpsku proslavu na Floridi – sjajna atmosfera\, ukusna hrana i muzika koja će Vas podsećati na dom!
URL:https://usadesavanja.com/event/serb-fest-crkva-sv-petke-orlando-fl-oktobar-12-2025/
LOCATION:Crkva Sv. Petke (Orlando)\, 1990 Lake Emma Rd\, Longwood\, FL\, Orlando\, FL\, 32750\, United States
CATEGORIES:Festivali,Florida
ATTACH;FMTTYPE=image/jpeg:https://usadesavanja.com/wp-content/uploads/2022/09/serb-fest-nosnja.jpg
END:VEVENT
BEGIN:VEVENT
DTSTART;VALUE=DATE:20251011
DTEND;VALUE=DATE:20251012
DTSTAMP:20260419T122801
CREATED:20251008T131452Z
LAST-MODIFIED:20251008T182543Z
UID:17153-1760140800-1760227199@usadesavanja.com
SUMMARY:GIORGOS KAKOSAIOS // COMPASS ARENA // CHICAGO // OKTOBAR 11. 2025.
DESCRIPTION:Compass Arena Vas poziva na grčko veče! \nSubota\, 11. oktobar\, od 21h. Nastupa: Giorgos Kakosaios \nInfo: 630 234 2183 // 630 205 1403 \nŽelimo Vam odličan provod!
URL:https://usadesavanja.com/event/giorgos-kakosaios-compass-arena-chicago-oktobar-11-2025/
LOCATION:Compass Arena\, 625 Joliet Rd\, Willowbrook\, Chicago\, IL\, /adresar/compass-arena\, United States
CATEGORIES:Illinois,Restorani
ATTACH;FMTTYPE=image/jpeg:https://usadesavanja.com/wp-content/uploads/2021/02/compass-arenna.jpg
END:VEVENT
END:VCALENDAR