BEGIN:VCALENDAR
VERSION:2.0
PRODID:-//USA Desavanja - ECPv6.15.17.1//NONSGML v1.0//EN
CALSCALE:GREGORIAN
METHOD:PUBLISH
X-WR-CALNAME:USA Desavanja
X-ORIGINAL-URL:https://usadesavanja.com
X-WR-CALDESC:Events for USA Desavanja
REFRESH-INTERVAL;VALUE=DURATION:PT1H
X-Robots-Tag:noindex
X-PUBLISHED-TTL:PT1H
BEGIN:VTIMEZONE
TZID:America/Chicago
BEGIN:DAYLIGHT
TZOFFSETFROM:-0600
TZOFFSETTO:-0500
TZNAME:CDT
DTSTART:20240310T080000
END:DAYLIGHT
BEGIN:STANDARD
TZOFFSETFROM:-0500
TZOFFSETTO:-0600
TZNAME:CST
DTSTART:20241103T070000
END:STANDARD
BEGIN:DAYLIGHT
TZOFFSETFROM:-0600
TZOFFSETTO:-0500
TZNAME:CDT
DTSTART:20250309T080000
END:DAYLIGHT
BEGIN:STANDARD
TZOFFSETFROM:-0500
TZOFFSETTO:-0600
TZNAME:CST
DTSTART:20251102T070000
END:STANDARD
BEGIN:DAYLIGHT
TZOFFSETFROM:-0600
TZOFFSETTO:-0500
TZNAME:CDT
DTSTART:20260308T080000
END:DAYLIGHT
BEGIN:STANDARD
TZOFFSETFROM:-0500
TZOFFSETTO:-0600
TZNAME:CST
DTSTART:20261101T070000
END:STANDARD
END:VTIMEZONE
BEGIN:VTIMEZONE
TZID:UTC
BEGIN:STANDARD
TZOFFSETFROM:+0000
TZOFFSETTO:+0000
TZNAME:UTC
DTSTART:20240101T000000
END:STANDARD
END:VTIMEZONE
BEGIN:VEVENT
DTSTART;VALUE=DATE:20250712
DTEND;VALUE=DATE:20250713
DTSTAMP:20260421T054918
CREATED:20250710T130202Z
LAST-MODIFIED:20250710T130202Z
UID:16445-1752278400-1752364799@usadesavanja.com
SUMMARY:JASMINA & SALE // NIKOLA RESTAURANT & BAR // CHICAGO // JUL 12. 2025.
DESCRIPTION:NIKOLA restaurant & bar Vas poziva na sjajnu svirku! \nSubota\, 12. jul od 10PM. Nastupaju: Jasmina i Sale \nInfo: 312 772 1003 \nŽelimo Vam odličan provod!
URL:https://usadesavanja.com/event/jasmina-sale-nikola-restaurant-bar-chicago-jul-12-2025/
LOCATION:NIKOLA restaurant & bar\, 7316 W Lawrence Ave\, Harwood Heights\, IL 60706\, Chicago\, IL\, United States
CATEGORIES:Illinois,Zurke
ATTACH;FMTTYPE=image/jpeg:https://usadesavanja.com/wp-content/uploads/2023/01/jasmina-i-sale-6.jpg
END:VEVENT
BEGIN:VEVENT
DTSTART;VALUE=DATE:20250712
DTEND;VALUE=DATE:20250713
DTSTAMP:20260421T054918
CREATED:20250707T145005Z
LAST-MODIFIED:20250707T145005Z
UID:16437-1752278400-1752364799@usadesavanja.com
SUMMARY:TAMBURICA HAUS BEND // IMPERIA LOUNGE // CHICAGO // JUL 12. 2025.
DESCRIPTION:Imperia Lounge Vas poziva na odličnu svirku. \nSubota 12. jul\, od 9PM . Nastupa: Tamburica Haus Bend \nInfo i rezervacije: 312 731 8708 \nŽelimo Vam odličan provod!
URL:https://usadesavanja.com/event/tamburica-haus-bend-imperia-lounge-chicago-jul-12-2025/
LOCATION:Imperia Lounge\, 2610 W Peterson Ave\, Chicago\, IL\, Chicago\, IL\, 60659\, United States
CATEGORIES:Illinois
ATTACH;FMTTYPE=image/jpeg:https://usadesavanja.com/wp-content/uploads/2020/12/tamburica-house.jpg
END:VEVENT
BEGIN:VEVENT
DTSTART;VALUE=DATE:20250712
DTEND;VALUE=DATE:20250713
DTSTAMP:20260421T054918
CREATED:20250703T183305Z
LAST-MODIFIED:20250704T172419Z
UID:16409-1752278400-1752364799@usadesavanja.com
SUMMARY:TROPICAL NIGHTS // COMPASS ARENA // CHICAGO // JUL 12. 2025.
DESCRIPTION:Compass Arena & Balkan Events Chicago vas poziva na nezaboravno veče pod zvezdama! \nTropical  Nights – Afro Latin Edition Subota\, 12. julOd 21h do 2h \nSa vama ove večeri:DJ Vlada SaxBongo Mike – u ritmu afrolatinskih bubnjeva! \nUlaz: $20 \nSpecijalni tropski kokteli: $12Grey Goose/Jameson flaše: $200 \nZa informacije i rezervacije:708 557 8750773 864 9547 \nPridružite nam se! \nLuda žurka u tropskom stilu – ritmovi\, ples\, osvežavajuća pića i dobra energija zagarantovani!
URL:https://usadesavanja.com/event/tropical-night-compass-arena-chicago-jul-12-2025/
LOCATION:Compass Arena\, 625 Joliet Rd\, Willowbrook\, Chicago\, IL\, /adresar/compass-arena\, United States
CATEGORIES:Illinois
ATTACH;FMTTYPE=image/jpeg:https://usadesavanja.com/wp-content/uploads/2022/02/Premiere-Lounge-arena.jpg
END:VEVENT
BEGIN:VEVENT
DTSTART;VALUE=DATE:20250712
DTEND;VALUE=DATE:20250713
DTSTAMP:20260421T054918
CREATED:20250703T155123Z
LAST-MODIFIED:20250703T155123Z
UID:16371-1752278400-1752364799@usadesavanja.com
SUMMARY:DRAGANA RAKCEVIC & MILOS KALCA // RESTORAN ZORA // CHICAGO // JUL 12. 2025.
DESCRIPTION:Etno restoran Zora Vas srdačno poziva da budete njihovi gosti! \nU subotu\, 12. jula od 22h očekuje Vas sjajna svirka! \nNastupaju: Dragana Rakčević i Miloš Kalča \nInfo: 773 625 7087 \nŽelimo Vam odličan provod!
URL:https://usadesavanja.com/event/dragana-rakcevic-milos-kalca-restoran-zora-chicago-jul-12-2025/
LOCATION:Restoran Zora\, 8445 W Lawrence Ave\, Chicago\, IL\, Chicago\, IL\, /adresar/etno-restoran-zora\, United States
CATEGORIES:Illinois,Restorani
ATTACH;FMTTYPE=image/jpeg:https://usadesavanja.com/wp-content/uploads/2023/03/kalca-i-dragana.jpg
END:VEVENT
BEGIN:VEVENT
DTSTART;VALUE=DATE:20250712
DTEND;VALUE=DATE:20250713
DTSTAMP:20260421T054918
CREATED:20250618T143856Z
LAST-MODIFIED:20250618T143856Z
UID:16302-1752278400-1752364799@usadesavanja.com
SUMMARY:SANJA\, RAJKO & SANEL // SKADARLIYA // CHICAGO // JUL 12. 2025.
DESCRIPTION:Skadarliya Vas poziva na sjajnu svirku! \nSubota\, 12. jul\, od 21h. Nastupaju: Sanja Grahovac\, Rajko Paunović i Sanel Bajrami \nInfo: 708 905 5919 \nŽelimo Vam odličan provod!
URL:https://usadesavanja.com/event/sanja-rajko-sanel-skadarliya-chicago-jul-12-2025/
LOCATION:Skadarliya\, 9237 West Ogden Ave\, Brookfield\, Chicago\, IL\, 60513\, United States
CATEGORIES:Illinois,Restorani
ATTACH;FMTTYPE=image/jpeg:https://usadesavanja.com/wp-content/uploads/2024/01/sanja-grahovac-new.jpg
END:VEVENT
BEGIN:VEVENT
DTSTART;VALUE=DATE:20250711
DTEND;VALUE=DATE:20250712
DTSTAMP:20260421T054918
CREATED:20250709T174708Z
LAST-MODIFIED:20250709T174708Z
UID:16443-1752192000-1752278399@usadesavanja.com
SUMMARY:JASMINA & SASA // SRPSKI KLUB // CHICAGO // JUL 11. 2025.
DESCRIPTION:Srpski klub Vas poziva na sjajnu svirku u petak 11 jula. \nNastupaju: Jasmina Ilić i Saša Minić \nŽelimo Vam odličan provod!
URL:https://usadesavanja.com/event/jasmina-sasa-srpski-klub-chicago-jul-11-2025/
LOCATION:Srpski Klub Chicago\, 4526 N Milwaukee Ave.\, Chicago\, IL\, 60630\, United States
CATEGORIES:Illinois
ATTACH;FMTTYPE=image/jpeg:https://usadesavanja.com/wp-content/uploads/2024/05/aidan-hampson-KuduDhiLe6omklj-unsplash.jpg
END:VEVENT
BEGIN:VEVENT
DTSTART;VALUE=DATE:20250711
DTEND;VALUE=DATE:20250712
DTSTAMP:20260421T054918
CREATED:20250703T183046Z
LAST-MODIFIED:20250703T183046Z
UID:16407-1752192000-1752278399@usadesavanja.com
SUMMARY:DRAGANA RAKCEVIC // COMPASS ARENA // CHICAGO // JUL 11. 2025.
DESCRIPTION:Compass Arena Vas poziva na fenomenalnu svirku! \nNastupa: Dragana Rakčević \nPetak\, 11. jul od 21h \nInfo: 630 523 9933 \nŽelimo Vam odličan provod!
URL:https://usadesavanja.com/event/dragana-rakcevic-compass-arena-chicago-jul-11-2025/
LOCATION:Compass Arena\, 625 Joliet Rd\, Willowbrook\, Chicago\, IL\, /adresar/compass-arena\, United States
CATEGORIES:Illinois
ATTACH;FMTTYPE=image/jpeg:https://usadesavanja.com/wp-content/uploads/2025/02/i-MTGBZg3-X2.jpg
END:VEVENT
BEGIN:VEVENT
DTSTART;VALUE=DATE:20250711
DTEND;VALUE=DATE:20250712
DTSTAMP:20260421T054918
CREATED:20250703T154926Z
LAST-MODIFIED:20250707T145218Z
UID:16369-1752192000-1752278399@usadesavanja.com
SUMMARY:SANJA GRAHOVAC & RAJKO PAUNOVIC // RESTORAN ZORA // CHICAGO // JUL 11. 2025.
DESCRIPTION:Etno restoran Zora Vas srdačno poziva da budete njihovi gosti! \nU petak\, 11. jula od 22h očekuje Vas sjajna svirka! \nNastupaju: Sanja Grahovac i Rajko Paunović \nInfo: 773 625 7087 \nŽelimo Vam odličan provod!
URL:https://usadesavanja.com/event/sanja-grahovac-rajko-paunovic-restoran-zora-chicago-jul-11-2025/
LOCATION:Restoran Zora\, 8445 W Lawrence Ave\, Chicago\, IL\, Chicago\, IL\, /adresar/etno-restoran-zora\, United States
CATEGORIES:Illinois,Restorani
ATTACH;FMTTYPE=image/jpeg:https://usadesavanja.com/wp-content/uploads/2024/06/sanja-grahovac-new-2024.jpg
END:VEVENT
BEGIN:VEVENT
DTSTART;VALUE=DATE:20250710
DTEND;VALUE=DATE:20250711
DTSTAMP:20260421T054918
CREATED:20250708T132826Z
LAST-MODIFIED:20250708T132826Z
UID:16441-1752105600-1752191999@usadesavanja.com
SUMMARY:ACOUSTIC NIGHT // CAFE MIRAGE // CHICAGO // JUL 10. 2025.
DESCRIPTION:Cafe Mirage Vas poziva u četvrtak 10. jula od 19:30 – 23h na muziku uživo u bašti! \nNastupa: Sanja Grahovac  \nInfo: 872 222 3830 \nŽelimo Vam odličan provod!
URL:https://usadesavanja.com/event/acoustic-night-cafe-mirage-chicago-jul-10-2025/
LOCATION:Cafe Mirage\, 9845 Lawrence Ave\, Schiller Park\, Chicago\, IL\, 60176\, United States
CATEGORIES:Illinois
ATTACH;FMTTYPE=image/jpeg:https://usadesavanja.com/wp-content/uploads/2025/02/i-CDvq8Ng-X2.jpg
END:VEVENT
BEGIN:VEVENT
DTSTART;VALUE=DATE:20250705
DTEND;VALUE=DATE:20250706
DTSTAMP:20260421T054918
CREATED:20250703T182651Z
LAST-MODIFIED:20250703T182651Z
UID:16405-1751673600-1751759999@usadesavanja.com
SUMMARY:DJ MARKUS // CIGARS & CARS // COMPASS ARENA // CHICAGO // JUL 5. 2025.
DESCRIPTION:Compass Arena Vas poziva u subotu 05. jula na dan za druženje ispunjen najboljim kolima\, cigarama i muzikom! \nPonesite svoje omiljene cigare i uživajte u atmosferi uz specijalnu ponudu: \nBulleit Old Fashion – samo $12! \nMuziku vrti: DJ Markus \nStart: 13h \nRezervacije: 630 523 9933 \nNajbolji automobili. Najbolje cigare. Ponesi oba. \nŽelimo Vam odličan provod!
URL:https://usadesavanja.com/event/dj-markus-cigars-cars-compass-arena-chicago-jul-5-2025/
LOCATION:Compass Arena\, 625 Joliet Rd\, Willowbrook\, Chicago\, IL\, /adresar/compass-arena\, United States
CATEGORIES:Illinois
ATTACH;FMTTYPE=image/jpeg:https://usadesavanja.com/wp-content/uploads/2022/02/compass-arena-00.jpg
END:VEVENT
BEGIN:VEVENT
DTSTART;VALUE=DATE:20250705
DTEND;VALUE=DATE:20250706
DTSTAMP:20260421T054918
CREATED:20250703T154716Z
LAST-MODIFIED:20250703T154716Z
UID:16367-1751673600-1751759999@usadesavanja.com
SUMMARY:IVANA PILJA & RAJKO PAUNOVIC // RESTORAN ZORA // CHICAGO // JUL 05. 2025.
DESCRIPTION:Etno restoran Zora Vas srdačno poziva da budete njihovi gosti! \nU subotu\, 05. jula od 22h očekuje Vas sjajna svirka! \nNastupaju: Ivana Pilja i Rajko Paunović \nInfo: 773 625 7087 \nŽelimo Vam odličan provod!
URL:https://usadesavanja.com/event/ivana-pilja-rajko-paunovic-restoran-zora-chicago-jul-05-2025/
LOCATION:Restoran Zora\, 8445 W Lawrence Ave\, Chicago\, IL\, Chicago\, IL\, /adresar/etno-restoran-zora\, United States
CATEGORIES:Illinois,Restorani
ATTACH;FMTTYPE=image/jpeg:https://usadesavanja.com/wp-content/uploads/2022/02/zora-restoran-33.jpg
END:VEVENT
BEGIN:VEVENT
DTSTART;VALUE=DATE:20250705
DTEND;VALUE=DATE:20250706
DTSTAMP:20260421T054918
CREATED:20250702T155006Z
LAST-MODIFIED:20250702T155006Z
UID:16363-1751673600-1751759999@usadesavanja.com
SUMMARY:SANDRA & PEDJA // TITO'S CAFE // ST. PETERSBURG // JUL 05. 2025.
DESCRIPTION:Tito’s Cafe Vas srdačno poziva da budete njihovi gosti! \nU subotu\, 05. jula od 21h\, očekuje Vas Balkan party night! \nNastupaju: Sandra i Peđa \nNo cover! Free parking! \nInfo: 727 225 0006 \nŽelimo Vam odličan provod!
URL:https://usadesavanja.com/event/sandra-pedja-titos-cafe-st-petersburg-jul-05-2025/
LOCATION:Tito’s Cafe\, 6514 4th St N\, Saint Petersburg\, FL\, 33702\, United States
CATEGORIES:Florida
ATTACH;FMTTYPE=image/png:https://usadesavanja.com/wp-content/uploads/2025/04/sandra-ostojic-hug6.png
END:VEVENT
BEGIN:VEVENT
DTSTART;VALUE=DATE:20250705
DTEND;VALUE=DATE:20250706
DTSTAMP:20260421T054918
CREATED:20250630T212041Z
LAST-MODIFIED:20250630T212108Z
UID:16351-1751673600-1751759999@usadesavanja.com
SUMMARY:HITOVI 2000-IH (BILJANA I MILOS) // SKADARLIYA // CHICAGO // JUL 05. 2025.
DESCRIPTION:Skadarliya Vas poziva na nezaboravnu svirku! \nSubota\, 05. jul od 21h. \nVraćamo vreme unazad uz zaboravljene hitove iz 2000-ih! \nBiljana i Miloš Đorđević uživo\, vrhunska atmosfera i ritmovi koji bude uspomene – sve to vas čeka na najjačoj retro žurci u gradu! \nRezervišite svoje mesto na vreme!\nInfo & rezervacije: 708 905 5919 \nVidimo se!
URL:https://usadesavanja.com/event/hitovi-2000-ih-biljana-i-milos-skadarliya-chicago-jul-05-2025/
LOCATION:Skadarliya\, 9237 West Ogden Ave\, Brookfield\, Chicago\, IL\, 60513\, United States
CATEGORIES:Illinois
ATTACH;FMTTYPE=image/jpeg:https://usadesavanja.com/wp-content/uploads/2020/09/bilja-i-milos.jpg
END:VEVENT
BEGIN:VEVENT
DTSTART;VALUE=DATE:20250705
DTEND;VALUE=DATE:20250706
DTSTAMP:20260421T054918
CREATED:20250630T194333Z
LAST-MODIFIED:20250630T194333Z
UID:16345-1751673600-1751759999@usadesavanja.com
SUMMARY:JASMINA & SALE // NIKOLA RESTAURANT & BAR // CHICAGO // JUL 05. 2025.
DESCRIPTION:NIKOLA restaurant & bar Vas poziva na sjajnu svirku! \nSubota\, 05. jul od 10PM. Nastupaju: Jasmina i Sale \nInfo: 312 772 1003 \nŽelimo Vam odličan provod!
URL:https://usadesavanja.com/event/jasmina-sale-nikola-restaurant-bar-chicago-jul-05-2025/
LOCATION:NIKOLA restaurant & bar\, 7316 W Lawrence Ave\, Harwood Heights\, IL 60706\, Chicago\, IL\, United States
CATEGORIES:Illinois,Zurke
ATTACH;FMTTYPE=image/jpeg:https://usadesavanja.com/wp-content/uploads/2023/01/jasmina-i-sale-6.jpg
END:VEVENT
BEGIN:VEVENT
DTSTART;VALUE=DATE:20250705
DTEND;VALUE=DATE:20250706
DTSTAMP:20260421T054918
CREATED:20250630T152952Z
LAST-MODIFIED:20250630T153042Z
UID:16339-1751673600-1751759999@usadesavanja.com
SUMMARY:DJ NOKTURNAL // BEVO CAFFE & LOUNGE // ST. LOUIS // JUL 05. 2025.
DESCRIPTION:Bevo Caffe & Lounge Vas poziva u subotu 5. jula od 21h na sjajnu žurku. \nMuziku vrti: DJ Nokturnal \nInfo: 314 393 3685
URL:https://usadesavanja.com/event/dj-nokturnal-bevo-caffe-lounge-st-louis-jul-05-2025/
LOCATION:Bevo Caffe & Lounge\, 5822 Gravois Ave.\, St Louis\, MO\, 63116\, United States
CATEGORIES:Missouri
ATTACH;FMTTYPE=image/jpeg:https://usadesavanja.com/wp-content/uploads/2021/01/dj-set-up.jpg
END:VEVENT
BEGIN:VEVENT
DTSTART;VALUE=DATE:20250705
DTEND;VALUE=DATE:20250706
DTSTAMP:20260421T054918
CREATED:20250617T172031Z
LAST-MODIFIED:20250618T140856Z
UID:16290-1751673600-1751759999@usadesavanja.com
SUMMARY:DRAGANA\, MILE\, DJ SPAZ & DJ WHO // THE PALAZZO GRANDE // DETROIT // JUL 05. 2025.
DESCRIPTION:The Palazzo Grande Vas poziva u subotu 5. jula od 8PM na fenomenalnu žurku. \nNastupaju: Dragana Rakčević\, Mile Vujnović\, DJ Spaz i DJ Who \nInfo: 708 579 0621 \nŽelimo Vam odličan provod!
URL:https://usadesavanja.com/event/dragana-mile-dj-spaz-dj-who-the-palazzo-grande-detroit-jul-05-2025/
LOCATION:The Palazzo Grande\, 54660 Van Dyke Ave\, Shelby Township\, MI 48316\, Shelby Township (Detroit)\, MI\, United States
CATEGORIES:Michigan
ATTACH;FMTTYPE=image/jpeg:https://usadesavanja.com/wp-content/uploads/2023/12/dragana-090.jpg
END:VEVENT
BEGIN:VEVENT
DTSTART;VALUE=DATE:20250705
DTEND;VALUE=DATE:20250706
DTSTAMP:20260421T054918
CREATED:20250602T172722Z
LAST-MODIFIED:20250602T172722Z
UID:16123-1751673600-1751759999@usadesavanja.com
SUMMARY:IVANA\, BOJAN & ZORAN // IMPERIA LOUNGE // CHICAGO // JUL 05. 2025.
DESCRIPTION:Imperia Lounge Vas poziva na odličnu svirku. \nSubota 5 jul\, od 9PM . Nastupaju: Ivana\, Bojan i Zoran \nInfo i rezervacije: 312 731 8708 \nŽelimo Vam odličan provod!
URL:https://usadesavanja.com/event/ivana-bojan-zoran-imperia-lounge-chicago-jul-05-2025/
LOCATION:Imperia Lounge\, 2610 W Peterson Ave\, Chicago\, IL\, Chicago\, IL\, 60659\, United States
CATEGORIES:Illinois
ATTACH;FMTTYPE=image/png:https://usadesavanja.com/wp-content/uploads/2024/11/bojan-vasilic-2024-11.png
END:VEVENT
BEGIN:VEVENT
DTSTART;VALUE=DATE:20250704
DTEND;VALUE=DATE:20250705
DTSTAMP:20260421T054918
CREATED:20250702T154850Z
LAST-MODIFIED:20250702T154850Z
UID:16361-1751587200-1751673599@usadesavanja.com
SUMMARY:SANDRA & PEDJA // TITO'S CAFE // ST. PETERSBURG // JUL 04. 2025.
DESCRIPTION:Tito’s Cafe Vas srdačno poziva da budete njihovi gosti! \nU petak\, 04. jula od 21h\, očekuje Vas Balkan party night! \nNastupaju: Sandra i Peđa \nNo cover! Free parking! \nInfo: 727 225 0006 \nŽelimo Vam odličan provod!
URL:https://usadesavanja.com/event/sandra-pedja-titos-cafe-st-petersburg-jul-04-2025/
LOCATION:Tito’s Cafe\, 6514 4th St N\, Saint Petersburg\, FL\, 33702\, United States
CATEGORIES:Florida
ATTACH;FMTTYPE=image/jpeg:https://usadesavanja.com/wp-content/uploads/2025/04/titos-cafe-st-pete.jpg
END:VEVENT
BEGIN:VEVENT
DTSTART;VALUE=DATE:20250704
DTEND;VALUE=DATE:20250705
DTSTAMP:20260421T054918
CREATED:20250630T194139Z
LAST-MODIFIED:20250630T194139Z
UID:16343-1751587200-1751673599@usadesavanja.com
SUMMARY:JASMINA & SALE // NIKOLA RESTAURANT & BAR // CHICAGO // JUL 04. 2025.
DESCRIPTION:NIKOLA restaurant & bar Vas poziva na sjajnu svirku! \nPetak\, 04. jul od 10PM. Nastupaju: Jasmina i Sale \nInfo: 312 772 1003 \nŽelimo Vam odličan provod!
URL:https://usadesavanja.com/event/jasmina-sale-nikola-restaurant-bar-chicago-jul-04-2025/
LOCATION:NIKOLA restaurant & bar\, 7316 W Lawrence Ave\, Harwood Heights\, IL 60706\, Chicago\, IL\, United States
CATEGORIES:Illinois,Zurke
ATTACH;FMTTYPE=image/jpeg:https://usadesavanja.com/wp-content/uploads/2022/11/sale-jasmina-new.jpg
END:VEVENT
BEGIN:VEVENT
DTSTART;VALUE=DATE:20250704
DTEND;VALUE=DATE:20250705
DTSTAMP:20260421T054918
CREATED:20250620T172251Z
LAST-MODIFIED:20250624T135621Z
UID:16312-1751587200-1751673599@usadesavanja.com
SUMMARY:SERBIAN NIGHT // ELECTRIC HOTEL // CHICAGO // JUL 04. 2025.
DESCRIPTION:Elecrtic Hotel Vas poziva 4. jula od 22h – 04h na Serbian Night. \nInfo: 708 601 4399 // 708 655 2771 \nŽelimo Vam odličan provod!
URL:https://usadesavanja.com/event/serbian-night-electric-hotel-chicago-jul-04-2025/
LOCATION:Electric Hotel\, 222 W Ontario St\, Chicago\, IL\, Chicago\, IL\, 60654\, United States
ATTACH;FMTTYPE=image/jpeg:https://usadesavanja.com/wp-content/uploads/2024/07/party-night-dkojh8.jpg
END:VEVENT
BEGIN:VEVENT
DTSTART;VALUE=DATE:20250704
DTEND;VALUE=DATE:20250705
DTSTAMP:20260421T054918
CREATED:20250618T181900Z
LAST-MODIFIED:20250703T160256Z
UID:16308-1751587200-1751673599@usadesavanja.com
SUMMARY:BILJANA\, MILOS & KALCA // RESTORAN ZORA // CHICAGO // JUL 04. 2025.
DESCRIPTION:Etno restoran Zora Vas srdačno poziva da budete njihovi gosti! \nU petak\, 4. jula od 21h očekuje Vas sjajna svirka! \nNastupaju: Biljana Đorđević\, Miloš Đorđević i Miloš Kalča \nInfo: 773 625 7087 \nŽelimo Vam odličan provod!
URL:https://usadesavanja.com/event/biljana-milos-djordjevic-restoran-zora-chicago-jul-04-2025/
LOCATION:Restoran Zora\, 8445 W Lawrence Ave\, Chicago\, IL\, Chicago\, IL\, /adresar/etno-restoran-zora\, United States
CATEGORIES:Illinois,Restorani
ATTACH;FMTTYPE=image/png:https://usadesavanja.com/wp-content/uploads/2025/06/kalendar-zurka-4-jul-v2.png
END:VEVENT
BEGIN:VEVENT
DTSTART;VALUE=DATE:20250704
DTEND;VALUE=DATE:20250705
DTSTAMP:20260421T054918
CREATED:20250617T163355Z
LAST-MODIFIED:20250617T163355Z
UID:16281-1751587200-1751673599@usadesavanja.com
SUMMARY:DJ VOICELOVE // DMG CAFE // ST. PETERSBURG // JUL 04. 2025.
DESCRIPTION:DMG Cafe Vas poziva na sjajnu žurku. \nPetak 4. jul od 10PM. Nastupa: DJ Voicelove \nInfo i rezervacije: 727 280 3317 \nUlaz $10! \nŽelimo Vam odličan provod!
URL:https://usadesavanja.com/event/dj-voicelove-dmg-cafe-st-petersburg-jul-04-2025/
LOCATION:DMG Cafe\, 9031 Dr M.L.K. Jr St N\, St. Petersburg\, FL\, 33702\, United States
CATEGORIES:Florida,Restorani
ATTACH;FMTTYPE=image/jpeg:https://usadesavanja.com/wp-content/uploads/2023/04/dmg-cafe.jpg
ORGANIZER;CN="DMG Cafe":MAILTO:milosevickc@gmail.com
END:VEVENT
BEGIN:VEVENT
DTSTART;VALUE=DATE:20250703
DTEND;VALUE=DATE:20250704
DTSTAMP:20260421T054918
CREATED:20250630T200439Z
LAST-MODIFIED:20250701T210314Z
UID:16347-1751500800-1751587199@usadesavanja.com
SUMMARY:ACOUSTIC NIGHT // CAFE MIRAGE // CHICAGO // JUL 03. 2025.
DESCRIPTION:Cafe Mirage Vas poziva u četvrtak 03. jula od 19:30 – 23h na muziku uživo u bašti! \nNastupa: Sanja Grahovac  \nInfo: 872 222 3830 \nŽelimo Vam odličan provod!
URL:https://usadesavanja.com/event/acoustic-night-cafe-mirage-chicago-jul-03-2025/
LOCATION:Cafe Mirage\, 9845 Lawrence Ave\, Schiller Park\, Chicago\, IL\, 60176\, United States
CATEGORIES:Illinois
ATTACH;FMTTYPE=image/jpeg:https://usadesavanja.com/wp-content/uploads/2024/06/sanja-grahovac-new-2024.jpg
END:VEVENT
BEGIN:VEVENT
DTSTART;VALUE=DATE:20250703
DTEND;VALUE=DATE:20250704
DTSTAMP:20260421T054918
CREATED:20250605T170819Z
LAST-MODIFIED:20250627T210254Z
UID:16242-1751500800-1751587199@usadesavanja.com
SUMMARY:DRAGANA\, MILE\, DJ SPAZ & DJ KIBO // PRYSM // CHICAGO // JUL 03. 2025.
DESCRIPTION:Prysm Vas poziva na nezaboravnu žurku. \nU četvrtak 3. jula od 10PM.\nNastupaju: Dragana Rakčević\, Mile Vujnović\, DJ Spaz i DJ Kibo \nLink za kupovinu karata ovde. \nŽelimo Vam odličan provod!
URL:https://usadesavanja.com/event/dragana-mile-dj-spaz-dj-kibo-prysm-chicago-jul-03-2025/
LOCATION:Prysm\, 1543 N Kingsbury St\, Chicago\, IL\, Chicago\, IL\, 60642\, United States
CATEGORIES:Illinois,Zurke
ATTACH;FMTTYPE=image/jpeg:https://usadesavanja.com/wp-content/uploads/2023/11/dragana-rakcevic-6.jpg
END:VEVENT
BEGIN:VEVENT
DTSTART;VALUE=DATE:20250629
DTEND;VALUE=DATE:20250630
DTSTAMP:20260421T054918
CREATED:20250609T113126Z
LAST-MODIFIED:20250609T113126Z
UID:16257-1751155200-1751241599@usadesavanja.com
SUMMARY:VIDOVDANSKA PROSLAVA // NOVA GRACANICA // CHICAGO // JUN 29. 2025.
DESCRIPTION:Prisustvujte velikoj Vidovdanskoj proslavi i obeležavanju 84. Kongresa Srpske narodne odbrane u Americi\, koji će se održati 28. i 29. juna 2025. godine u Čikagu. \n– Subota\, 28. jun 2025.Sala Doma Srpske narodne odbrane \n– 9:00 AM – Registracija delegata\n– 9:30 AM – Otvaranje Kongresa\n– 12:00 PM – Ručak za delegate i goste \n– Nedelja\, 29. jun 2025.Sala manastira Nova Gračanica\, Third Lake\, Illinois \n– 1:00 PM – Slava Srpske narodne odbrane \nSlava će biti obeležena svečanim slavskim banketom\nDomaćin slave: Gradimir Marković \n– Vidovdanska akademija – 13:00hNakon Svete liturgije i slavskog banketa u velikoj sali manastira: \n– Beseda: Mitropolit Longin\n– Istorijski čas i folklorna grupa “Oko Sokolovo”\n– Specijalni gost iz otadžbine: Mlađan Đorđević – govoriće o Vidovdanu\, Kosovu i Metohiji\, Republici Srpskoj i očuvanju srpstva širom sveta \nRezervacije i informacije:773 775 7772info@snd-us.com
URL:https://usadesavanja.com/event/vidovdanska-proslava-nova-gracanica-chicago-jun-29-2025/
LOCATION:Manastir Nova Gracanica\, 35240 W. Grant Ave\, Third Lake\, IL\, Chicago\, IL\, 60046\, United States
CATEGORIES:Illinois
ATTACH;FMTTYPE=image/jpeg:https://usadesavanja.com/wp-content/uploads/2024/06/vidovdan.jpg
END:VEVENT
BEGIN:VEVENT
DTSTART;VALUE=DATE:20250629
DTEND;VALUE=DATE:20250630
DTSTAMP:20260421T054918
CREATED:20250603T180349Z
LAST-MODIFIED:20250617T133841Z
UID:16228-1751155200-1751241599@usadesavanja.com
SUMMARY:VIDOVDANSKA PROSLAVA // CRKVA SV. SAVE // SAN GABRIEL\, CA // JUN 29. 2025.
DESCRIPTION:Srpska pravoslavna crkva Svetog Save u San Gabrielu Vas svečano poziva na molitveno sećanje i proslavu Vidovdana\, dana kada se sa zahvalnošću i poštovanjem prisećamo žrtvene ljubavi svetog kneza Lazara i svih svetih kosovskih mučenika i novomučenika srpskih. \nNedelja\, 29. jun 2025.St. Sava Serbian Orthodox Church\, 1640 S. San Gabriel Blvd\, San Gabriel\, CA 91766www.saintsavachurchla.org \nProgram:– 10:00 – Sveta liturgija– 11:30 – Parastos kosovskim mučenicima– 12:00 – Priredba za kraj školske godine– 12:30 – Svečani ručak \nDobrodošli da zajedno obeležimo jedan od najvažnijih dana u srpskoj duhovnoj i istorijskoj tradiciji!
URL:https://usadesavanja.com/event/vidovdanska-proslava-crkva-sv-save-san-gabriel-ca-jun-29-2025/
LOCATION:Crkva Sv. Save (San Gabriel)\, 1640 S San Gabriel Blvd\, San Gabriel\, CA\, San Gabriel\, CA\, 91776\, United States
CATEGORIES:California
ATTACH;FMTTYPE=image/png:https://usadesavanja.com/wp-content/uploads/2025/06/crkva-sv-sava-san-gabriele-yt-ps.png
END:VEVENT
BEGIN:VEVENT
DTSTART;VALUE=DATE:20250628
DTEND;VALUE=DATE:20250629
DTSTAMP:20260421T054918
CREATED:20250617T164852Z
LAST-MODIFIED:20250617T164852Z
UID:16286-1751068800-1751155199@usadesavanja.com
SUMMARY:COMEDY BELLY & DANCE SHOW // IMPERIA LOUNGE // CHICAGO // JUN 28. 2025.
DESCRIPTION:Imperia Lounge Vas poziva na Comedy Belly & Dance Show. \nSubota 28. jun\, od 8:30PM . Nastupaju: Melike\, Mark Allen\, Just Jeff\, Igor Materić\, Khaleel Izrael\, Alicia Molina \nKarte u pretprodaji $25\, na ulazu $30! \nInfo i rezervacije: 312 731 8708 \nŽelimo Vam odličan provod!
URL:https://usadesavanja.com/event/comedy-belly-dance-show-imperia-lounge-chicago-jun-28-2025/
LOCATION:Imperia Lounge\, 2610 W Peterson Ave\, Chicago\, IL\, Chicago\, IL\, 60659\, United States
CATEGORIES:Illinois
ATTACH;FMTTYPE=image/jpeg:https://usadesavanja.com/wp-content/uploads/2024/09/microphone-6046111_1280.jpg
END:VEVENT
BEGIN:VEVENT
DTSTART;VALUE=DATE:20250628
DTEND;VALUE=DATE:20250629
DTSTAMP:20260421T054918
CREATED:20250613T164417Z
LAST-MODIFIED:20250618T142225Z
UID:16272-1751068800-1751155199@usadesavanja.com
SUMMARY:DJ CROWN // DIVAN // CHICAGO // JUN 28. 2025.
DESCRIPTION:The Crown Entertainment i Divan Vas pozivaju na fenomenalnu žurku! \nSubota\, 28. jun od 10:30h do 02h. Nastupa: DJ Crown \nInfo: 630 999 5236 \nŽelimo Vam odličan provod!
URL:https://usadesavanja.com/event/dj-crown-divan-chicago-jun-28-2025/
LOCATION:Divan (Chicago)\, 868 N Franklin St\, Chicago\, IL 60610\, Chicago\, IL\, United States
CATEGORIES:Illinois,Zurke
ATTACH;FMTTYPE=image/png:https://usadesavanja.com/wp-content/uploads/2025/06/kruna-dj-hugzf.png
END:VEVENT
BEGIN:VEVENT
DTSTART;VALUE=DATE:20250628
DTEND;VALUE=DATE:20250629
DTSTAMP:20260421T054918
CREATED:20250609T113001Z
LAST-MODIFIED:20250609T113007Z
UID:16254-1751068800-1751155199@usadesavanja.com
SUMMARY:VIDOVDANSKA PROSLAVA // DOM SRPSKE NARODNE ODBRANE // CHICAGO // JUN 28. 2025.
DESCRIPTION:Prisustvujte velikoj Vidovdanskoj proslavi i obeležavanju 84. Kongresa Srpske narodne odbrane u Americi\, koji će se održati 28. i 29. juna 2025. godine u Čikagu. \n– Subota\, 28. jun 2025.Sala Doma Srpske narodne odbrane \n– 9:00 AM – Registracija delegata\n– 9:30 AM – Otvaranje Kongresa\n– 12:00 PM – Ručak za delegate i goste \n– Nedelja\, 29. jun 2025.Sala manastira Nova Gračanica\, Third Lake\, Illinois \n– 1:00 PM – Slava Srpske narodne odbrane \nSlava će biti obeležena svečanim slavskim banketom\nDomaćin slave: Gradimir Marković \n– Vidovdanska akademija – 13:00hNakon Svete liturgije i slavskog banketa u velikoj sali manastira: \n– Beseda: Mitropolit Longin\n– Istorijski čas i folklorna grupa “Oko Sokolovo”\n– Specijalni gost iz otadžbine: Mlađan Đorđević – govoriće o Vidovdanu\, Kosovu i Metohiji\, Republici Srpskoj i očuvanju srpstva širom sveta \nRezervacije i informacije:773 775 7772info@snd-us.com
URL:https://usadesavanja.com/event/vidovdanska-proslava-dom-srpske-narodne-odbrane-chicago-jun-28-2025/
LOCATION:Serbian National Defense Council\, 5782 N Elston Ave\, Chicago\, IL 60646\, Sjedinjene Američke Države\, Chicago\, IL\, United States
CATEGORIES:Illinois
ATTACH;FMTTYPE=image/jpeg:https://usadesavanja.com/wp-content/uploads/2024/06/vidovdan.jpg
END:VEVENT
BEGIN:VEVENT
DTSTART;VALUE=DATE:20250628
DTEND;VALUE=DATE:20250629
DTSTAMP:20260421T054918
CREATED:20250529T165234Z
LAST-MODIFIED:20250529T165234Z
UID:16191-1751068800-1751155199@usadesavanja.com
SUMMARY:IVANA PILJA & MILOS KALCA // RESTORAN ZORA // CHICAGO // JUN 28. 2025.
DESCRIPTION:Etno restoran Zora Vas srdačno poziva da budete njihovi gosti! \nU subotu\, 28. juna od 22h očekuje Vas sjajna svirka! \nNastupaju: Ivana Pilja i Miloš Kalča \nInfo: 773 625 7087 \nŽelimo Vam odličan provod!
URL:https://usadesavanja.com/event/ivana-pilja-milos-kalca-restoran-zora-chicago-jun-28-2025/
LOCATION:Restoran Zora\, 8445 W Lawrence Ave\, Chicago\, IL\, Chicago\, IL\, /adresar/etno-restoran-zora\, United States
CATEGORIES:Illinois,Restorani
ATTACH;FMTTYPE=image/jpeg:https://usadesavanja.com/wp-content/uploads/2022/02/zora-restoran-33.jpg
END:VEVENT
END:VCALENDAR