BEGIN:VCALENDAR
VERSION:2.0
PRODID:-//USA Desavanja - ECPv6.15.17.1//NONSGML v1.0//EN
CALSCALE:GREGORIAN
METHOD:PUBLISH
X-WR-CALNAME:USA Desavanja
X-ORIGINAL-URL:https://usadesavanja.com
X-WR-CALDESC:Events for USA Desavanja
REFRESH-INTERVAL;VALUE=DURATION:PT1H
X-Robots-Tag:noindex
X-PUBLISHED-TTL:PT1H
BEGIN:VTIMEZONE
TZID:America/Chicago
BEGIN:DAYLIGHT
TZOFFSETFROM:-0600
TZOFFSETTO:-0500
TZNAME:CDT
DTSTART:20240310T080000
END:DAYLIGHT
BEGIN:STANDARD
TZOFFSETFROM:-0500
TZOFFSETTO:-0600
TZNAME:CST
DTSTART:20241103T070000
END:STANDARD
BEGIN:DAYLIGHT
TZOFFSETFROM:-0600
TZOFFSETTO:-0500
TZNAME:CDT
DTSTART:20250309T080000
END:DAYLIGHT
BEGIN:STANDARD
TZOFFSETFROM:-0500
TZOFFSETTO:-0600
TZNAME:CST
DTSTART:20251102T070000
END:STANDARD
BEGIN:DAYLIGHT
TZOFFSETFROM:-0600
TZOFFSETTO:-0500
TZNAME:CDT
DTSTART:20260308T080000
END:DAYLIGHT
BEGIN:STANDARD
TZOFFSETFROM:-0500
TZOFFSETTO:-0600
TZNAME:CST
DTSTART:20261101T070000
END:STANDARD
END:VTIMEZONE
BEGIN:VTIMEZONE
TZID:UTC
BEGIN:STANDARD
TZOFFSETFROM:+0000
TZOFFSETTO:+0000
TZNAME:UTC
DTSTART:20240101T000000
END:STANDARD
END:VTIMEZONE
BEGIN:VEVENT
DTSTART;VALUE=DATE:20250629
DTEND;VALUE=DATE:20250630
DTSTAMP:20260421T090034
CREATED:20250609T113126Z
LAST-MODIFIED:20250609T113126Z
UID:16257-1751155200-1751241599@usadesavanja.com
SUMMARY:VIDOVDANSKA PROSLAVA // NOVA GRACANICA // CHICAGO // JUN 29. 2025.
DESCRIPTION:Prisustvujte velikoj Vidovdanskoj proslavi i obeležavanju 84. Kongresa Srpske narodne odbrane u Americi\, koji će se održati 28. i 29. juna 2025. godine u Čikagu. \n– Subota\, 28. jun 2025.Sala Doma Srpske narodne odbrane \n– 9:00 AM – Registracija delegata\n– 9:30 AM – Otvaranje Kongresa\n– 12:00 PM – Ručak za delegate i goste \n– Nedelja\, 29. jun 2025.Sala manastira Nova Gračanica\, Third Lake\, Illinois \n– 1:00 PM – Slava Srpske narodne odbrane \nSlava će biti obeležena svečanim slavskim banketom\nDomaćin slave: Gradimir Marković \n– Vidovdanska akademija – 13:00hNakon Svete liturgije i slavskog banketa u velikoj sali manastira: \n– Beseda: Mitropolit Longin\n– Istorijski čas i folklorna grupa “Oko Sokolovo”\n– Specijalni gost iz otadžbine: Mlađan Đorđević – govoriće o Vidovdanu\, Kosovu i Metohiji\, Republici Srpskoj i očuvanju srpstva širom sveta \nRezervacije i informacije:773 775 7772info@snd-us.com
URL:https://usadesavanja.com/event/vidovdanska-proslava-nova-gracanica-chicago-jun-29-2025/
LOCATION:Manastir Nova Gracanica\, 35240 W. Grant Ave\, Third Lake\, IL\, Chicago\, IL\, 60046\, United States
CATEGORIES:Illinois
ATTACH;FMTTYPE=image/jpeg:https://usadesavanja.com/wp-content/uploads/2024/06/vidovdan.jpg
END:VEVENT
BEGIN:VEVENT
DTSTART;VALUE=DATE:20250629
DTEND;VALUE=DATE:20250630
DTSTAMP:20260421T090034
CREATED:20250603T180349Z
LAST-MODIFIED:20250617T133841Z
UID:16228-1751155200-1751241599@usadesavanja.com
SUMMARY:VIDOVDANSKA PROSLAVA // CRKVA SV. SAVE // SAN GABRIEL\, CA // JUN 29. 2025.
DESCRIPTION:Srpska pravoslavna crkva Svetog Save u San Gabrielu Vas svečano poziva na molitveno sećanje i proslavu Vidovdana\, dana kada se sa zahvalnošću i poštovanjem prisećamo žrtvene ljubavi svetog kneza Lazara i svih svetih kosovskih mučenika i novomučenika srpskih. \nNedelja\, 29. jun 2025.St. Sava Serbian Orthodox Church\, 1640 S. San Gabriel Blvd\, San Gabriel\, CA 91766www.saintsavachurchla.org \nProgram:– 10:00 – Sveta liturgija– 11:30 – Parastos kosovskim mučenicima– 12:00 – Priredba za kraj školske godine– 12:30 – Svečani ručak \nDobrodošli da zajedno obeležimo jedan od najvažnijih dana u srpskoj duhovnoj i istorijskoj tradiciji!
URL:https://usadesavanja.com/event/vidovdanska-proslava-crkva-sv-save-san-gabriel-ca-jun-29-2025/
LOCATION:Crkva Sv. Save (San Gabriel)\, 1640 S San Gabriel Blvd\, San Gabriel\, CA\, San Gabriel\, CA\, 91776\, United States
CATEGORIES:California
ATTACH;FMTTYPE=image/png:https://usadesavanja.com/wp-content/uploads/2025/06/crkva-sv-sava-san-gabriele-yt-ps.png
END:VEVENT
BEGIN:VEVENT
DTSTART;VALUE=DATE:20250628
DTEND;VALUE=DATE:20250629
DTSTAMP:20260421T090034
CREATED:20250617T164852Z
LAST-MODIFIED:20250617T164852Z
UID:16286-1751068800-1751155199@usadesavanja.com
SUMMARY:COMEDY BELLY & DANCE SHOW // IMPERIA LOUNGE // CHICAGO // JUN 28. 2025.
DESCRIPTION:Imperia Lounge Vas poziva na Comedy Belly & Dance Show. \nSubota 28. jun\, od 8:30PM . Nastupaju: Melike\, Mark Allen\, Just Jeff\, Igor Materić\, Khaleel Izrael\, Alicia Molina \nKarte u pretprodaji $25\, na ulazu $30! \nInfo i rezervacije: 312 731 8708 \nŽelimo Vam odličan provod!
URL:https://usadesavanja.com/event/comedy-belly-dance-show-imperia-lounge-chicago-jun-28-2025/
LOCATION:Imperia Lounge\, 2610 W Peterson Ave\, Chicago\, IL\, Chicago\, IL\, 60659\, United States
CATEGORIES:Illinois
ATTACH;FMTTYPE=image/jpeg:https://usadesavanja.com/wp-content/uploads/2024/09/microphone-6046111_1280.jpg
END:VEVENT
BEGIN:VEVENT
DTSTART;VALUE=DATE:20250628
DTEND;VALUE=DATE:20250629
DTSTAMP:20260421T090034
CREATED:20250613T164417Z
LAST-MODIFIED:20250618T142225Z
UID:16272-1751068800-1751155199@usadesavanja.com
SUMMARY:DJ CROWN // DIVAN // CHICAGO // JUN 28. 2025.
DESCRIPTION:The Crown Entertainment i Divan Vas pozivaju na fenomenalnu žurku! \nSubota\, 28. jun od 10:30h do 02h. Nastupa: DJ Crown \nInfo: 630 999 5236 \nŽelimo Vam odličan provod!
URL:https://usadesavanja.com/event/dj-crown-divan-chicago-jun-28-2025/
LOCATION:Divan (Chicago)\, 868 N Franklin St\, Chicago\, IL 60610\, Chicago\, IL\, United States
CATEGORIES:Illinois,Zurke
ATTACH;FMTTYPE=image/png:https://usadesavanja.com/wp-content/uploads/2025/06/kruna-dj-hugzf.png
END:VEVENT
BEGIN:VEVENT
DTSTART;VALUE=DATE:20250628
DTEND;VALUE=DATE:20250629
DTSTAMP:20260421T090034
CREATED:20250609T113001Z
LAST-MODIFIED:20250609T113007Z
UID:16254-1751068800-1751155199@usadesavanja.com
SUMMARY:VIDOVDANSKA PROSLAVA // DOM SRPSKE NARODNE ODBRANE // CHICAGO // JUN 28. 2025.
DESCRIPTION:Prisustvujte velikoj Vidovdanskoj proslavi i obeležavanju 84. Kongresa Srpske narodne odbrane u Americi\, koji će se održati 28. i 29. juna 2025. godine u Čikagu. \n– Subota\, 28. jun 2025.Sala Doma Srpske narodne odbrane \n– 9:00 AM – Registracija delegata\n– 9:30 AM – Otvaranje Kongresa\n– 12:00 PM – Ručak za delegate i goste \n– Nedelja\, 29. jun 2025.Sala manastira Nova Gračanica\, Third Lake\, Illinois \n– 1:00 PM – Slava Srpske narodne odbrane \nSlava će biti obeležena svečanim slavskim banketom\nDomaćin slave: Gradimir Marković \n– Vidovdanska akademija – 13:00hNakon Svete liturgije i slavskog banketa u velikoj sali manastira: \n– Beseda: Mitropolit Longin\n– Istorijski čas i folklorna grupa “Oko Sokolovo”\n– Specijalni gost iz otadžbine: Mlađan Đorđević – govoriće o Vidovdanu\, Kosovu i Metohiji\, Republici Srpskoj i očuvanju srpstva širom sveta \nRezervacije i informacije:773 775 7772info@snd-us.com
URL:https://usadesavanja.com/event/vidovdanska-proslava-dom-srpske-narodne-odbrane-chicago-jun-28-2025/
LOCATION:Serbian National Defense Council\, 5782 N Elston Ave\, Chicago\, IL 60646\, Sjedinjene Američke Države\, Chicago\, IL\, United States
CATEGORIES:Illinois
ATTACH;FMTTYPE=image/jpeg:https://usadesavanja.com/wp-content/uploads/2024/06/vidovdan.jpg
END:VEVENT
BEGIN:VEVENT
DTSTART;VALUE=DATE:20250628
DTEND;VALUE=DATE:20250629
DTSTAMP:20260421T090034
CREATED:20250529T165234Z
LAST-MODIFIED:20250529T165234Z
UID:16191-1751068800-1751155199@usadesavanja.com
SUMMARY:IVANA PILJA & MILOS KALCA // RESTORAN ZORA // CHICAGO // JUN 28. 2025.
DESCRIPTION:Etno restoran Zora Vas srdačno poziva da budete njihovi gosti! \nU subotu\, 28. juna od 22h očekuje Vas sjajna svirka! \nNastupaju: Ivana Pilja i Miloš Kalča \nInfo: 773 625 7087 \nŽelimo Vam odličan provod!
URL:https://usadesavanja.com/event/ivana-pilja-milos-kalca-restoran-zora-chicago-jun-28-2025/
LOCATION:Restoran Zora\, 8445 W Lawrence Ave\, Chicago\, IL\, Chicago\, IL\, /adresar/etno-restoran-zora\, United States
CATEGORIES:Illinois,Restorani
ATTACH;FMTTYPE=image/jpeg:https://usadesavanja.com/wp-content/uploads/2022/02/zora-restoran-33.jpg
END:VEVENT
BEGIN:VEVENT
DTSTART;VALUE=DATE:20250628
DTEND;VALUE=DATE:20250629
DTSTAMP:20260421T090034
CREATED:20250528T141600Z
LAST-MODIFIED:20250621T151916Z
UID:16169-1751068800-1751155199@usadesavanja.com
SUMMARY:IVANA SALIPUR\, BOJAN & RAJKO // SKADARLIYA // CHICAGO // JUN 28. 2025.
DESCRIPTION:Skadarliya Vas poziva na sjajnu svirku! \nSubota\, 28. jun\, od 21h. Nastupaju: Ivana Šalipur\, Bojan Vasilić i Rajko Paunović \nInfo: 708 905 5919 \nŽelimo Vam odličan provod!
URL:https://usadesavanja.com/event/sanja-rajko-skadarliya-chicago-jun-28-2025/
LOCATION:Skadarliya\, 9237 West Ogden Ave\, Brookfield\, Chicago\, IL\, 60513\, United States
CATEGORIES:Illinois,Restorani
ATTACH;FMTTYPE=image/jpeg:https://usadesavanja.com/wp-content/uploads/2020/12/skadarliya-2.jpg
END:VEVENT
BEGIN:VEVENT
DTSTART;VALUE=DATE:20250628
DTEND;VALUE=DATE:20250629
DTSTAMP:20260421T090034
CREATED:20250606T164043Z
LAST-MODIFIED:20250607T105608Z
UID:16248-1751068800-1751155199@usadesavanja.com
SUMMARY:DRAGANA & MILE // STEFAN GRILL // CHICAGO // JUN 28. 2025.
DESCRIPTION:Stefan Grill Vas poziva u subotu 28. juna od 21h na fenomenalnu svirku. \nNastupaju: Dragana Rakčević i Mile Vujnović \nInfo: 708 579 0621 \nŽelimo Vam odličan provod!
URL:https://usadesavanja.com/event/dragana-mile-stefan-grill-chicago-jun-28-2025/
LOCATION:Stefan Grill\, 7101 Santa Fe Dr\, Hodgkins\, IL\, Chicago\, IL\, 60525\, United States
CATEGORIES:Illinois
ATTACH;FMTTYPE=image/jpeg:https://usadesavanja.com/wp-content/uploads/2024/05/stefan-grill-gallery-003.jpg
END:VEVENT
BEGIN:VEVENT
DTSTART;VALUE=DATE:20250627
DTEND;VALUE=DATE:20250628
DTSTAMP:20260421T090034
CREATED:20250624T173420Z
LAST-MODIFIED:20250624T173626Z
UID:16319-1750982400-1751068799@usadesavanja.com
SUMMARY:DRAGANA & MILE // CAFE MIRAGE // CHICAGO // JUN 27. 2025.
DESCRIPTION:Cafe Mirage Vas poziva u petak 27. juna od 9PM na uživo muziku! \nNastupaju: Dragana Rakčević i Mile Vujnović \nInfo: 773 863 2620 \nŽelimo Vam odličan provod!
URL:https://usadesavanja.com/event/dragana-mile-cafe-mirage-chicago-jun-27-2025/
LOCATION:Cafe Mirage\, 9845 Lawrence Ave\, Schiller Park\, Chicago\, IL\, 60176\, United States
CATEGORIES:Illinois
ATTACH;FMTTYPE=image/png:https://usadesavanja.com/wp-content/uploads/2024/12/dragana-r-986756.png
END:VEVENT
BEGIN:VEVENT
DTSTART;VALUE=DATE:20250627
DTEND;VALUE=DATE:20250628
DTSTAMP:20260421T090034
CREATED:20250619T185053Z
LAST-MODIFIED:20250619T185053Z
UID:16310-1750982400-1751068799@usadesavanja.com
SUMMARY:DANKA\, RAJKO & SANEL // COMPASS ARENA // CHICAGO // JUN 27. 2025.
DESCRIPTION:Compass Arena Vas poziva u petak 27. juna od 9PM na odličnu svirku! \nNastupaju: Danka Gajić\, Rajko Paunović i Sanel Bajrami \nInfo: 630 523 9933 \nŽelimo Vam odličan provod!
URL:https://usadesavanja.com/event/danka-rajko-sanel-compass-arena-chicago-jun-27-2025/
LOCATION:Compass Arena\, 625 Joliet Rd\, Willowbrook\, Chicago\, IL\, /adresar/compass-arena\, United States
CATEGORIES:Illinois
ATTACH;FMTTYPE=image/png:https://usadesavanja.com/wp-content/uploads/2024/08/danka-gajic-new24.png
END:VEVENT
BEGIN:VEVENT
DTSTART;VALUE=DATE:20250627
DTEND;VALUE=DATE:20250628
DTSTAMP:20260421T090034
CREATED:20250617T172926Z
LAST-MODIFIED:20250617T172926Z
UID:16293-1750982400-1751068799@usadesavanja.com
SUMMARY:BALKAN SUMMER BASH // ZUZU // DETROIT // JUN 27. 2025.
DESCRIPTION:Experience Zuzu Vas poziva na Balkan summer bash party! \nPetak 27. jun\, od 10-02h. Nastupaju: DJ Who & friends. Podrška DJ Bangerz \nInfo i rezervacije: 248 720 9951 \nŽelimo Vam odličan provod!
URL:https://usadesavanja.com/event/balkan-summer-bash-zuzu-detroit-jun-27-2025/
LOCATION:Experience Zuzu\, 511 Woodward Ave suite 100\, Detroit\, MI 48226\, Detroit\, MI\, United States
ATTACH;FMTTYPE=image/jpeg:https://usadesavanja.com/wp-content/uploads/2024/06/dj-7857067_1280.jpg
END:VEVENT
BEGIN:VEVENT
DTSTART;VALUE=DATE:20250627
DTEND;VALUE=DATE:20250628
DTSTAMP:20260421T090034
CREATED:20250514T195013Z
LAST-MODIFIED:20250625T123802Z
UID:16084-1750982400-1751068799@usadesavanja.com
SUMMARY:BILJANA & MILOS DJORDJEVIC // RESTORAN ZORA // CHICAGO // JUN 27. 2025.
DESCRIPTION:Etno restoran Zora Vas srdačno poziva da budete njihovi gosti! \nU petak\, 27. juna od 21h očekuje Vas sjajna svirka! \nNastupaju: Biljana i Miloš Đorđević \nInfo: 773 625 7087 \nŽelimo Vam odličan provod!
URL:https://usadesavanja.com/event/biljana-djordjevic-restoran-zora-chicago-jun-27-2025/
LOCATION:Restoran Zora\, 8445 W Lawrence Ave\, Chicago\, IL\, Chicago\, IL\, /adresar/etno-restoran-zora\, United States
CATEGORIES:Illinois,Restorani
ATTACH;FMTTYPE=image/png:https://usadesavanja.com/wp-content/uploads/2025/05/kalendar-zurka-27-jun.png
END:VEVENT
BEGIN:VEVENT
DTSTART;VALUE=DATE:20250626
DTEND;VALUE=DATE:20250627
DTSTAMP:20260421T090034
CREATED:20250625T131057Z
LAST-MODIFIED:20250625T131057Z
UID:16332-1750896000-1750982399@usadesavanja.com
SUMMARY:ACOUSTIC NIGHT // CAFE MIRAGE // CHICAGO // JUN 26. 2025.
DESCRIPTION:Cafe Mirage Vas poziva u četvrtak 26. juna od 19:30 – 23h na muziku uživo u bašti! \nNastupaju: Sanja Grahovac i Sanel Bajrami \nInfo: 847 678 8614 \nŽelimo Vam odličan provod!
URL:https://usadesavanja.com/event/acoustic-night-cafe-mirage-chicago-jun-26-2025/
LOCATION:Cafe Mirage\, 9845 Lawrence Ave\, Schiller Park\, Chicago\, IL\, 60176\, United States
CATEGORIES:Illinois
ATTACH;FMTTYPE=image/jpeg:https://usadesavanja.com/wp-content/uploads/2025/06/sanja-i-sanel-t7r677t8.jpg
END:VEVENT
BEGIN:VEVENT
DTSTART;VALUE=DATE:20250621
DTEND;VALUE=DATE:20250622
DTSTAMP:20260421T090034
CREATED:20250617T142035Z
LAST-MODIFIED:20250617T142035Z
UID:16276-1750464000-1750550399@usadesavanja.com
SUMMARY:SUMMER COSTUME PARTY // CAFE DERBI // LAS VEGAS // JUN 21. 2025.
DESCRIPTION:Cafe Derbi Vas poziva na sjajnu žurku! \nSubota 21. jun od 21h. Nastupa: DJ Anninha \nInfo: 702 824 4699 \nŽelimo Vam odličan provod!
URL:https://usadesavanja.com/event/summer-costume-party-cafe-derbi-las-vegas-jun-21-2025/
LOCATION:Cafe Derbi\, 5920 W Flamingo Rd Las Vegas\, NV 89103\, Las Vegas\, NV\, 89103\, United States
CATEGORIES:Nevada
ATTACH;FMTTYPE=image/jpeg:https://usadesavanja.com/wp-content/uploads/2024/06/dj-party-hand-1850120_1280.jpg
END:VEVENT
BEGIN:VEVENT
DTSTART;VALUE=DATE:20250621
DTEND;VALUE=DATE:20250622
DTSTAMP:20260421T090034
CREATED:20250529T165008Z
LAST-MODIFIED:20250529T165008Z
UID:16188-1750464000-1750550399@usadesavanja.com
SUMMARY:IVANA PILJA & MILOS KALCA // RESTORAN ZORA // CHICAGO // JUN 21. 2025.
DESCRIPTION:Etno restoran Zora Vas srdačno poziva da budete njihovi gosti! \nU subotu\, 21. juna od 22h očekuje Vas sjajna svirka! \nNastupaju: Ivana Pilja i Miloš Kalča \nInfo: 773 625 7087 \nŽelimo Vam odličan provod!
URL:https://usadesavanja.com/event/ivana-pilja-milos-kalca-restoran-zora-chicago-jun-21-2025/
LOCATION:Restoran Zora\, 8445 W Lawrence Ave\, Chicago\, IL\, Chicago\, IL\, /adresar/etno-restoran-zora\, United States
CATEGORIES:Illinois,Restorani
ATTACH;FMTTYPE=image/jpeg:https://usadesavanja.com/wp-content/uploads/2024/08/milos-kalca-new-2024.jpg
END:VEVENT
BEGIN:VEVENT
DTSTART;VALUE=DATE:20250621
DTEND;VALUE=DATE:20250622
DTSTAMP:20260421T090034
CREATED:20250528T141437Z
LAST-MODIFIED:20250528T141437Z
UID:16167-1750464000-1750550399@usadesavanja.com
SUMMARY:SANJA\, RAJKO & SANEL // SKADARLIYA // CHICAGO // JUN 21. 2025.
DESCRIPTION:Skadarliya Vas poziva na sjajnu svirku! \nSubota\, 21. jun\, od 21h. Nastupaju: Sanja Grahovac\, Rajko Paunović i Sanel Bajrami \nInfo: 708 905 5919 \nŽelimo Vam odličan provod!
URL:https://usadesavanja.com/event/sanja-rajko-sanel-skadarliya-chicago-jun-21-2025/
LOCATION:Skadarliya\, 9237 West Ogden Ave\, Brookfield\, Chicago\, IL\, 60513\, United States
CATEGORIES:Illinois,Restorani
ATTACH;FMTTYPE=image/png:https://usadesavanja.com/wp-content/uploads/2024/06/skadarliya-new-logo.png
END:VEVENT
BEGIN:VEVENT
DTSTART;VALUE=DATE:20250621
DTEND;VALUE=DATE:20250622
DTSTAMP:20260421T090034
CREATED:20250529T164422Z
LAST-MODIFIED:20250606T163852Z
UID:16183-1750464000-1750550399@usadesavanja.com
SUMMARY:DRAGANA RAKCEVIC & MILE // STEFAN GRILL // CHICAGO // JUN 21. 2025.
DESCRIPTION:Stefan Grill Vas poziva u subotu 21. juna od 21h na fenomenalnu svirku. \nNastupaju: Dragana Rakčević i Mile Vujnović \nInfo: 708 579 0621 \nŽelimo Vam odličan provod!
URL:https://usadesavanja.com/event/dragana-rakcevic-stefan-grill-chicago-jun-21-2025/
LOCATION:Stefan Grill\, 7101 Santa Fe Dr\, Hodgkins\, IL\, Chicago\, IL\, 60525\, United States
CATEGORIES:Illinois
ATTACH;FMTTYPE=image/jpeg:https://usadesavanja.com/wp-content/uploads/2023/09/dragana-rakcevic-02.jpg
END:VEVENT
BEGIN:VEVENT
DTSTART;VALUE=DATE:20250620
DTEND;VALUE=DATE:20250621
DTSTAMP:20260421T090034
CREATED:20250617T165101Z
LAST-MODIFIED:20250617T165101Z
UID:16288-1750377600-1750463999@usadesavanja.com
SUMMARY:IVANA PILJA & CEDO ZELENOVIC // NIKOLA RESTAURANT & BAR // CHICAGO // JUN 20. 2025.
DESCRIPTION:NIKOLA restaurant & bar Vas poziva na sjajnu svirku! \nPetak\, 20. jun od 10PM. Nastupaju: Ivana Pilja i Čedo Zelenović \nInfo: 312 772 1003 \nŽelimo Vam odličan provod!
URL:https://usadesavanja.com/event/ivana-pilja-cedo-zelenovic-nikola-restaurant-bar-chicago-jun-20-2025/
LOCATION:NIKOLA restaurant & bar\, 7316 W Lawrence Ave\, Harwood Heights\, IL 60706\, Chicago\, IL\, United States
CATEGORIES:Illinois,Zurke
ATTACH;FMTTYPE=image/jpeg:https://usadesavanja.com/wp-content/uploads/2025/03/mic-live-music-freepik-67.jpg
END:VEVENT
BEGIN:VEVENT
DTSTART;VALUE=DATE:20250620
DTEND;VALUE=DATE:20250621
DTSTAMP:20260421T090034
CREATED:20250617T162835Z
LAST-MODIFIED:20250617T162835Z
UID:16278-1750377600-1750463999@usadesavanja.com
SUMMARY:DRAGANA\, MILE\, BOJAN & DJ DEX // PLAYBOOK // CHICAGO // JUN 20. 2025.
DESCRIPTION:Playbook Vas poziva u petak 20. juna na fenomenalnu žurku. \nNastupaju: Dragana Rakčević\, Mile Vujnović\, Bojan Vasilić i DJ Dex \nInfo: 847 588 7529 \nŽelimo Vam odličan provod!
URL:https://usadesavanja.com/event/dragana-mile-bojan-dj-dex-playbook-chicago-jun-20-2025/
LOCATION:Playbook\, 6913 N Milwaukee Ave\, Niles\, IL\, Niles\, IL\, 60714\, United States
CATEGORIES:Illinois
ATTACH;FMTTYPE=image/png:https://usadesavanja.com/wp-content/uploads/2025/06/mile-dragana-i-bojan-uioyt7t8.png
END:VEVENT
BEGIN:VEVENT
DTSTART;VALUE=DATE:20250620
DTEND;VALUE=DATE:20250621
DTSTAMP:20260421T090034
CREATED:20250605T174038Z
LAST-MODIFIED:20250605T174038Z
UID:16245-1750377600-1750463999@usadesavanja.com
SUMMARY:TOSHE & LIVE BAND // COMPASS ARENA // CHICAGO // JUN 20. 2025.
DESCRIPTION:Compass Arena Vas poziva u petak 20. juna od 9PM na odličnu svirku! \nNastupaju: Toshe & Live Band \nUlaz $20 \nInfo: 630 523 9933 \nŽelimo Vam odličan provod!
URL:https://usadesavanja.com/event/toshe-live-band-compass-arena-chicago-jun-20-2025/
LOCATION:Compass Arena\, 625 Joliet Rd\, Willowbrook\, Chicago\, IL\, /adresar/compass-arena\, United States
CATEGORIES:Illinois
ATTACH;FMTTYPE=image/jpeg:https://usadesavanja.com/wp-content/uploads/2022/02/compass-arena-00.jpg
END:VEVENT
BEGIN:VEVENT
DTSTART;VALUE=DATE:20250620
DTEND;VALUE=DATE:20250621
DTSTAMP:20260421T090034
CREATED:20250529T164835Z
LAST-MODIFIED:20250529T164835Z
UID:16186-1750377600-1750463999@usadesavanja.com
SUMMARY:RAJKO & DANKA // RESTORAN ZORA // CHICAGO // JUN 20. 2025.
DESCRIPTION:Etno restoran Zora Vas srdačno poziva da budete njihovi gosti! \nU petak\, 20. juna od 22h očekuje Vas sjajna svirka! \nNastupaju: Rajko Paunović i Danka Gajić \nInfo: 773 625 7087 \nŽelimo Vam odličan provod!
URL:https://usadesavanja.com/event/rajko-danka-restoran-zora-chicago-jun-20-2025/
LOCATION:Restoran Zora\, 8445 W Lawrence Ave\, Chicago\, IL\, Chicago\, IL\, /adresar/etno-restoran-zora\, United States
CATEGORIES:Illinois,Restorani
ATTACH;FMTTYPE=image/png:https://usadesavanja.com/wp-content/uploads/2024/08/danka-gajic-new24.png
END:VEVENT
BEGIN:VEVENT
DTSTART;VALUE=DATE:20250619
DTEND;VALUE=DATE:20250620
DTSTAMP:20260421T090034
CREATED:20250617T163750Z
LAST-MODIFIED:20250617T163750Z
UID:16283-1750291200-1750377599@usadesavanja.com
SUMMARY:ACOUSTIC NIGHT // CAFE MIRAGE // CHICAGO // JUN 19. 2025.
DESCRIPTION:Cafe Mirage Vas poziva u četvrtak 19. juna od 18-22h na muziku uživo u bašti! \nNastupaju: Sanja Grahovac i Sanel Bajrami \nInfo: 847 678 8614 \nŽelimo Vam odličan provod!
URL:https://usadesavanja.com/event/acoustic-night-cafe-mirage-chicago-jun-19-2025/
LOCATION:Cafe Mirage\, 9845 Lawrence Ave\, Schiller Park\, Chicago\, IL\, 60176\, United States
CATEGORIES:Illinois
ATTACH;FMTTYPE=image/jpeg:https://usadesavanja.com/wp-content/uploads/2025/06/sanja-i-sanel-t7r677t8.jpg
END:VEVENT
BEGIN:VEVENT
DTSTART;VALUE=DATE:20250615
DTEND;VALUE=DATE:20250616
DTSTAMP:20260421T090034
CREATED:20250602T200653Z
LAST-MODIFIED:20250603T152237Z
UID:16212-1749945600-1750031999@usadesavanja.com
SUMMARY:85TH ANNUAL SNF BASKETBALL TOURNAMENT // CRKVA SV. SAVE // MILWAUKEE // JUN 15. 2025.
DESCRIPTION:Dobro došli na 85.godišnji SNF Košarkaški turnir\, Milvoki\, Viskonsin od 12 – 15. juna \nDomaćin: \nSt Sava Serbian Orthodox Church\, 3201 S 51st St\, MILWAUKEE\, WI 53219 \nViše od 100 srpskih ekipa iz Amerike i Kanade okupiće se na jednom mestu da se nadmeću na najvećem srpskom košarkaškom turniru u Severnoj Americi!! \nČetvrtak\, 12. jun u 19h – Dobrodošlica i registracija ekipa \nMuzika: DJ Spaz i DJ Maksim – Novi bar u Kulturnom centru \nPetak\, 13. jun – Utakmice počinju u 8h \nKulturni Centar i paviljon Svetog Save biće otvoreni tokom celog dana\, sa hranom i pićem. \nPetak uveče – Serb Hall u 19h \nMuzika: Prva Sala – Dragana Rakčević i Mile Vujnović \nDJ Spaz\, DJ Miki\, DJ Maksim \nDruga Sala – Saša Kušević\, Zoran Miletić\, Zoran Radovanović\, Milan Marić \nSubota\, 14. jun – Utakmice počinju u 8h \nHrana i piće dostupni tokom celog dana u Kulturnom Centru i paviljonu. \nSvi finalni mečevi održaće se u dvorani Kulturnog centra Svetog Save. \nSubota\, 14. jun uveče – Serb Hall u 19h \nMuzika: Prva Sala – Ivana Pilja i Nikola Prvulović \nDJ Spaz\, DJ Dex \nDruga Sala – Aleks Jakovljević\, Danny Danilović\, Bojan i Saša Jasnić \nNedelja\, 15. jun – piknik od 12h do 22h u Paviljonu \nUživo muzika\, hrana i piće dostupni tokom celog dana!
URL:https://usadesavanja.com/event/85th-annual-snf-basketball-tournament-crkva-sv-save-milwaukee-jun-15-2025/
LOCATION:Crkva Sv. Save (Milwaukee)\, 3201 S 51st St.\, Milwaukee\, WI\, 53219\, United States
CATEGORIES:Wisconsin
ATTACH;FMTTYPE=image/png:https://usadesavanja.com/wp-content/uploads/2024/05/EXTENSION1-njgbkj.png
END:VEVENT
BEGIN:VEVENT
DTSTART;VALUE=DATE:20250615
DTEND;VALUE=DATE:20250616
DTSTAMP:20260421T090034
CREATED:20250529T171004Z
LAST-MODIFIED:20250529T171004Z
UID:16195-1749945600-1750031999@usadesavanja.com
SUMMARY:LIFEGUARDS PARTY // NIGHT CLUB STRAND // WASHINGTON DC // JUN 15. 2025.
DESCRIPTION:Night Club Strand i Balkan Nights Vas pozivaju na fenomenalnu žurku! \nNedelja\, 15. jun od 22h – DJ Euroflow \nInfo: 571 332 1160 i 202 207 8074 \nŽelimo Vam odličan provod!
URL:https://usadesavanja.com/event/lifeguards-party-night-club-strand-washington-dc-jun-15-2025/
LOCATION:Night Club Strand\, 1400 I St NW\, Washington\, DC 20005\, Washington\, DC\, WA\, United States
CATEGORIES:Washington
ATTACH;FMTTYPE=image/jpeg:https://usadesavanja.com/wp-content/uploads/2022/12/dj-set.jpg
END:VEVENT
BEGIN:VEVENT
DTSTART;VALUE=DATE:20250614
DTEND;VALUE=DATE:20250615
DTSTAMP:20260421T090034
CREATED:20250610T143829Z
LAST-MODIFIED:20250610T143829Z
UID:16266-1749859200-1749945599@usadesavanja.com
SUMMARY:RASPRODAJA // CRKVA SV. DJORDJA // MOUNT PLEASANT // JUN 14. 2025.
DESCRIPTION:Crkva Sv. Đorđa Vas poziva na veliku rasprodaju hrane i peciva. \nPetak 13. i subota 14. jun od 9AM do 6PM
URL:https://usadesavanja.com/event/rasprodaja-crkva-sv-djordja-mount-pleasant-jun-14-2025/
LOCATION:Crkva Sv. Đorđa (Mt Pleasant)\, 6108 Braun Rd\, Mt Pleasant\, WI\, Mt Pleasant\, WI\, 53403\, United States
CATEGORIES:Wisconsin
ATTACH;FMTTYPE=image/png:https://usadesavanja.com/wp-content/uploads/2025/06/st-george-church-MOUNT-PLEASANT.png
END:VEVENT
BEGIN:VEVENT
DTSTART;VALUE=DATE:20250614
DTEND;VALUE=DATE:20250615
DTSTAMP:20260421T090034
CREATED:20250605T145248Z
LAST-MODIFIED:20250605T145248Z
UID:16239-1749859200-1749945599@usadesavanja.com
SUMMARY:OPEN HOUSE // SONO BELLA CLINIC // CHICAGO // JUN 14. 2025.
DESCRIPTION:Dođite na Open House u prestižnu SonoBella Clinic – Medical Spa u subotu\, 14. juna\, od 9 ujutru do 16 časova i otkrijte kako da zablistate uz vrhunsku negu kože i tela! \nŠta vas očekuje?– Besplatni tretmani– Pokloni za sve posetioce– Osveženje– Nagradne igre– Velike promocije i popusti na sve usluge! \nRezervišite svoje mesto već danas pozivom na 847 967 0707
URL:https://usadesavanja.com/event/open-house-sono-bella-clinic-chicago-jun-14-2025/
LOCATION:Sono Bella Clinic\, 5920 Dempster St\, Morton Grove\, IL 60053\, Morton Grove\, IL\, 60053\, United States
CATEGORIES:Illinois
ATTACH;FMTTYPE=image/png:https://usadesavanja.com/wp-content/uploads/2025/05/MDE-SBC.png
END:VEVENT
BEGIN:VEVENT
DTSTART;VALUE=DATE:20250614
DTEND;VALUE=DATE:20250615
DTSTAMP:20260421T090034
CREATED:20250602T200504Z
LAST-MODIFIED:20250603T152139Z
UID:16210-1749859200-1749945599@usadesavanja.com
SUMMARY:85TH ANNUAL SNF BASKETBALL TOURNAMENT // CRKVA SV. SAVE // MILWAUKEE // JUN 14. 2025.
DESCRIPTION:Dobro došli na 85.godišnji SNF Košarkaški turnir\, Milvoki\, Viskonsin od 12 – 15. juna \nDomaćin: \nSt Sava Serbian Orthodox Church\, 3201 S 51st St\, MILWAUKEE\, WI 53219 \nViše od 100 srpskih ekipa iz Amerike i Kanade okupiće se na jednom mestu da se nadmeću na najvećem srpskom košarkaškom turniru u Severnoj Americi!! \nČetvrtak\, 12. jun u 19h – Dobrodošlica i registracija ekipa \nMuzika: DJ Spaz i DJ Maksim – Novi bar u Kulturnom centru \nPetak\, 13. jun – Utakmice počinju u 8h \nKulturni Centar i paviljon Svetog Save biće otvoreni tokom celog dana\, sa hranom i pićem. \nPetak uveče – Serb Hall u 19h \nMuzika: Prva Sala – Dragana Rakčević i Mile Vujnović \nDJ Spaz\, DJ Miki\, DJ Maksim \nDruga Sala – Saša Kušević\, Zoran Miletić\, Zoran Radovanović\, Milan Marić \nSubota\, 14. jun – Utakmice počinju u 8h \nHrana i piće dostupni tokom celog dana u Kulturnom Centru i paviljonu. \nSvi finalni mečevi održaće se u dvorani Kulturnog centra Svetog Save. \nSubota\, 14. jun uveče – Serb Hall u 19h \nMuzika: Prva Sala – Ivana Pilja i Nikola Prvulović \nDJ Spaz\, DJ Dex \nDruga Sala – Aleks Jakovljević\, Danny Danilović\, Bojan i Saša Jasnić \nNedelja\, 15. jun – piknik od 12h do 22h u Paviljonu \nUživo muzika\, hrana i piće dostupni tokom celog dana!
URL:https://usadesavanja.com/event/85th-annual-snf-basketball-tournament-crkva-sv-save-milwaukee-jun-14-2025/
LOCATION:Crkva Sv. Save (Milwaukee)\, 3201 S 51st St.\, Milwaukee\, WI\, 53219\, United States
CATEGORIES:Wisconsin
ATTACH;FMTTYPE=image/png:https://usadesavanja.com/wp-content/uploads/2024/05/EXTENSION1-njgbkj.png
END:VEVENT
BEGIN:VEVENT
DTSTART;VALUE=DATE:20250614
DTEND;VALUE=DATE:20250615
DTSTAMP:20260421T090034
CREATED:20250529T165947Z
LAST-MODIFIED:20250529T165947Z
UID:16193-1749859200-1749945599@usadesavanja.com
SUMMARY:DANCE ZURKA // SRPSKI KLUB // NEW YORK // JUN 14. 2025.
DESCRIPTION:Srpski Klub Vas poziva na odličnu žurku! \nU subotu 14. juna od 9PM – Domaći hitovi ’90 – DJ Marko \nPrikupljanje sredstava za folklornu grupu Opančići. Predloženi prilog $25 \nInfo: 718 821 9875 \nŽelimo Vam da se odlično provedete!
URL:https://usadesavanja.com/event/dance-zurka-srpski-klub-new-york-jun-14-2025/
LOCATION:Srpski Klub New York\, 7254 65th Pl\, Queens\, NY\, New York\, NY\, 11385\, United States
CATEGORIES:New York
ATTACH;FMTTYPE=image/jpeg:https://usadesavanja.com/wp-content/uploads/2024/05/dj-20127-freepik.jpg
END:VEVENT
BEGIN:VEVENT
DTSTART;VALUE=DATE:20250614
DTEND;VALUE=DATE:20250615
DTSTAMP:20260421T090034
CREATED:20250528T140336Z
LAST-MODIFIED:20250528T140501Z
UID:16160-1749859200-1749945599@usadesavanja.com
SUMMARY:RAJKO & DANKA // RESTORAN ZORA // CHICAGO // JUN 14. 2025.
DESCRIPTION:Etno restoran Zora Vas srdačno poziva da budete njihovi gosti! \nU subotu\, 14. juna od 22h očekuje Vas sjajna svirka! \nNastupaju: Rajko Paunović i Danka Gajić \nInfo: 773 625 7087 \nŽelimo Vam odličan provod!
URL:https://usadesavanja.com/event/rajko-danka-restoran-zora-chicago-jun-14-2025/
LOCATION:Restoran Zora\, 8445 W Lawrence Ave\, Chicago\, IL\, Chicago\, IL\, /adresar/etno-restoran-zora\, United States
CATEGORIES:Illinois,Restorani
ATTACH;FMTTYPE=image/jpeg:https://usadesavanja.com/wp-content/uploads/2024/06/danka-gajic-zora-cd.jpg
END:VEVENT
BEGIN:VEVENT
DTSTART;VALUE=DATE:20250614
DTEND;VALUE=DATE:20250615
DTSTAMP:20260421T090034
CREATED:20250514T175235Z
LAST-MODIFIED:20250527T145154Z
UID:16077-1749859200-1749945599@usadesavanja.com
SUMMARY:HITOVI 2000-IH (BILJANA I MILOS) // SKADARLIYA // CHICAGO // JUN 14. 2025.
DESCRIPTION:Skadarliya Vas poziva na nezaboravnu svirku! \nSubota\, 14. jun od 21h. \nVraćamo vreme unazad uz zaboravljene hitove iz 2000-ih! \nBiljana i Miloš uživo\, vrhunska atmosfera i ritmovi koji bude uspomene – sve to vas čeka na najjačoj retro žurci u gradu! \nRezervišite svoje mesto na vreme!\nInfo & rezervacije: 708 905 5919 \nVidimo se!
URL:https://usadesavanja.com/event/hitovi-2000-ih-biljana-i-milos-skadarliya-chicago-jun-14-2025/
LOCATION:Club 220\, 7021 W Higgins Ave\, Chicago\, IL\, Chicago\, IL\, 60656\, United States
CATEGORIES:Illinois
ATTACH;FMTTYPE=image/png:https://usadesavanja.com/wp-content/uploads/2025/05/kalendar-hitovi-2000.png
END:VEVENT
END:VCALENDAR