BEGIN:VCALENDAR
VERSION:2.0
PRODID:-//USA Desavanja - ECPv6.15.17.1//NONSGML v1.0//EN
CALSCALE:GREGORIAN
METHOD:PUBLISH
X-WR-CALNAME:USA Desavanja
X-ORIGINAL-URL:https://usadesavanja.com
X-WR-CALDESC:Events for USA Desavanja
REFRESH-INTERVAL;VALUE=DURATION:PT1H
X-Robots-Tag:noindex
X-PUBLISHED-TTL:PT1H
BEGIN:VTIMEZONE
TZID:UTC
BEGIN:STANDARD
TZOFFSETFROM:+0000
TZOFFSETTO:+0000
TZNAME:UTC
DTSTART:20240101T000000
END:STANDARD
END:VTIMEZONE
BEGIN:VTIMEZONE
TZID:America/Chicago
BEGIN:DAYLIGHT
TZOFFSETFROM:-0600
TZOFFSETTO:-0500
TZNAME:CDT
DTSTART:20240310T080000
END:DAYLIGHT
BEGIN:STANDARD
TZOFFSETFROM:-0500
TZOFFSETTO:-0600
TZNAME:CST
DTSTART:20241103T070000
END:STANDARD
BEGIN:DAYLIGHT
TZOFFSETFROM:-0600
TZOFFSETTO:-0500
TZNAME:CDT
DTSTART:20250309T080000
END:DAYLIGHT
BEGIN:STANDARD
TZOFFSETFROM:-0500
TZOFFSETTO:-0600
TZNAME:CST
DTSTART:20251102T070000
END:STANDARD
BEGIN:DAYLIGHT
TZOFFSETFROM:-0600
TZOFFSETTO:-0500
TZNAME:CDT
DTSTART:20260308T080000
END:DAYLIGHT
BEGIN:STANDARD
TZOFFSETFROM:-0500
TZOFFSETTO:-0600
TZNAME:CST
DTSTART:20261101T070000
END:STANDARD
END:VTIMEZONE
BEGIN:VEVENT
DTSTART;VALUE=DATE:20250510
DTEND;VALUE=DATE:20250511
DTSTAMP:20260421T234534
CREATED:20250415T182012Z
LAST-MODIFIED:20250415T182012Z
UID:15872-1746835200-1746921599@usadesavanja.com
SUMMARY:IVANA PILJA & MILOS KALCA // RESTORAN ZORA // CHICAGO // MAJ 10. 2025.
DESCRIPTION:Etno restoran Zora Vas srdačno poziva da budete njihovi gosti! \nU subotu\, 10. maja od 21h očekuje Vas sjajna svirka! \nNastupaju: Ivana Pillja i Miloš Kalča \nInfo: 773 625 7087 \nŽelimo Vam odličan provod!
URL:https://usadesavanja.com/event/ivana-pilja-milos-kalca-restoran-zora-chicago-maj-10-2025/
LOCATION:Restoran Zora\, 8445 W Lawrence Ave\, Chicago\, IL\, Chicago\, IL\, /adresar/etno-restoran-zora\, United States
CATEGORIES:Illinois,Restorani
ATTACH;FMTTYPE=image/jpeg:https://usadesavanja.com/wp-content/uploads/2024/07/kalca-i-ivana-pilja.jpg
END:VEVENT
BEGIN:VEVENT
DTSTART;VALUE=DATE:20250510
DTEND;VALUE=DATE:20250511
DTSTAMP:20260421T234534
CREATED:20250414T181826Z
LAST-MODIFIED:20250414T181826Z
UID:15857-1746835200-1746921599@usadesavanja.com
SUMMARY:DJURDJEVDANSKI URANAK // CRKVA SV. SAVE // MILWAUKEE // MAJ 10. 2025.
DESCRIPTION:Crkva Sv. Save Vas poziva u subotu 10. maja na Đurđevdanski uranak! \nOčekuje Vas odlična hrana (sveže pečenje i ćevapi sa roštilja)\, uz bogat zabavni program i muziku uživo. Nastupaju: Sandra Ostojić i Aleksandar Božović\, uz pratnju Bojana i Saše Jasnića. \nŽelimo Vam odličan provod!
URL:https://usadesavanja.com/event/djurdjevdanski-uranak-crkva-sv-save-milwaukee-maj-10-2025/
LOCATION:Crkva Sv. Save (Milwaukee)\, 3201 S 51st St.\, Milwaukee\, WI\, 53219\, United States
CATEGORIES:Sport,Wisconsin
ATTACH;FMTTYPE=image/jpeg:https://usadesavanja.com/wp-content/uploads/2024/06/aesthetic-2093136_1280.jpg
END:VEVENT
BEGIN:VEVENT
DTSTART;VALUE=DATE:20250510
DTEND;VALUE=DATE:20250511
DTSTAMP:20260421T234534
CREATED:20250414T133343Z
LAST-MODIFIED:20250414T133343Z
UID:15854-1746835200-1746921599@usadesavanja.com
SUMMARY:BALKAN NIGHTS SF // BAR VIA // SAN FRANCISCO // MAJ 10. 2025.
DESCRIPTION:Balkan Nights SF predstavlja spektakularnu svirku! \nSubota 10. maj od 20h. Nastupaju: DJ Ivica Millennium\, Tedi Eroteeva i Anika \nUlaz $25 \nŽelimo Vam odličan provod!
URL:https://usadesavanja.com/event/balkan-nights-sf-bar-via-san-francisco-maj-10-2025/
LOCATION:Bar Via\, 138 King St\, San Francisco\, CA\, 94107-1905\, United States
CATEGORIES:California
ATTACH;FMTTYPE=image/jpeg:https://usadesavanja.com/wp-content/uploads/2024/11/party-30650.jpg
END:VEVENT
BEGIN:VEVENT
DTSTART;VALUE=DATE:20250510
DTEND;VALUE=DATE:20250511
DTSTAMP:20260421T234534
CREATED:20250321T184426Z
LAST-MODIFIED:20250511T174734Z
UID:15724-1746835200-1746921599@usadesavanja.com
SUMMARY:MORAVAC SPRING FEST // CRKVA SVETOG NIKOLE // LYONS // MAJ 10. 2025.
DESCRIPTION:MORAVAC SPRING FEST – PROLEĆNI FESTIVAL TRADICIJE I ZABAVE! \nDatum: 10. maj\nVrata se otvaraju u 17:00\nPočetak programa u 18:00 \nUživajte u bogatom kulturnom programu\, odličnoj hrani i uzbudljivoj lutriji! \nDomaćini: Folklorna grupa Moravac & Srpska pravoslavna crkva Sveti Nikola \nNe propustite veče ispunjeno muzikom\, tradicijom i nezaboravnim trenucima!
URL:https://usadesavanja.com/event/moravac-spring-fest-crkva-svetog-nikole-lyons-maj-10-2025/
LOCATION:Crkva Sv. Nikole (Lyons)\, 4315 Joliet Rd Lyons\, IL 60534\, Chicago\, IL\, 60534\, United States
CATEGORIES:Film,Illinois
ATTACH;FMTTYPE=image/png:https://usadesavanja.com/wp-content/uploads/2025/03/IMG-c53f929fa8fee73976f7b31693f28463-Vbgu.png
END:VEVENT
BEGIN:VEVENT
DTSTART;VALUE=DATE:20250509
DTEND;VALUE=DATE:20250510
DTSTAMP:20260421T234534
CREATED:20250506T161110Z
LAST-MODIFIED:20250512T154839Z
UID:16025-1746748800-1746835199@usadesavanja.com
SUMMARY:MACEDONIAN NIGHT // SKADARLIYA // CHICAGO // MAJ 09. 2025.
DESCRIPTION:Skadarliya Vas poziva na sjajnu svirku! \nPetak\, 9. maj\, od 21h. Nastupaju: Riste Tevdoski i Saško Apostolović \nInfo: 708 905 5919 \nŽelimo Vam odličan provod!
URL:https://usadesavanja.com/event/macedonian-night-skadarliya-chicago-maj-09-2025/
LOCATION:Skadarliya\, 9237 West Ogden Ave\, Brookfield\, Chicago\, IL\, 60513\, United States
CATEGORIES:Illinois,Restorani
ATTACH;FMTTYPE=image/png:https://usadesavanja.com/wp-content/uploads/2024/06/skadarliya-new-logo.png
END:VEVENT
BEGIN:VEVENT
DTSTART;VALUE=DATE:20250509
DTEND;VALUE=DATE:20250510
DTSTAMP:20260421T234534
CREATED:20250425T142241Z
LAST-MODIFIED:20250425T142241Z
UID:15983-1746748800-1746835199@usadesavanja.com
SUMMARY:SANJA\, BOJAN & SANEL // IMPERIA LOUNGE // CHICAGO // MAJ 09. 2025.
DESCRIPTION:Crown Entertanment i Imperia Lounge Vas pozivaju na odličnu svirku. \nPetak 9. maj\, od 9PM . Nastupaju: Sanja Grahovac\, Bojan Vasilić i Sanel Bajrami \nBesplatan ulaz! Info i rezervacije: 312 731 8708 \nŽelimo Vam odličan provod!
URL:https://usadesavanja.com/event/sanja-bojan-sanel-imperia-lounge-chicago-maj-09-2025/
LOCATION:Imperia Lounge\, 2610 W Peterson Ave\, Chicago\, IL\, Chicago\, IL\, 60659\, United States
CATEGORIES:Illinois
ATTACH;FMTTYPE=image/png:https://usadesavanja.com/wp-content/uploads/2025/01/sanja-i-bojan-776lkj.png
END:VEVENT
BEGIN:VEVENT
DTSTART;VALUE=DATE:20250509
DTEND;VALUE=DATE:20250510
DTSTAMP:20260421T234534
CREATED:20250415T181614Z
LAST-MODIFIED:20250415T181614Z
UID:15869-1746748800-1746835199@usadesavanja.com
SUMMARY:DAJANA & RAJKO // RESTORAN ZORA // CHICAGO // MAJ 09. 2025.
DESCRIPTION:Etno restoran Zora Vas srdačno poziva da budete njihovi gosti! \nU petak\, 9. maja od 21h očekuje Vas sjajna svirka! \nNastupaju: Dajana i Rajko \nInfo: 773 625 7087 \nŽelimo Vam odličan provod!
URL:https://usadesavanja.com/event/dajana-rajko-restoran-zora-chicago-maj-09-2025/
LOCATION:Restoran Zora\, 8445 W Lawrence Ave\, Chicago\, IL\, Chicago\, IL\, /adresar/etno-restoran-zora\, United States
CATEGORIES:Illinois,Restorani
ATTACH;FMTTYPE=image/jpeg:https://usadesavanja.com/wp-content/uploads/2021/09/zora-5.jpg
END:VEVENT
BEGIN:VEVENT
DTSTART;VALUE=DATE:20250509
DTEND;VALUE=DATE:20250510
DTSTAMP:20260421T234534
CREATED:20250415T175520Z
LAST-MODIFIED:20250506T160716Z
UID:15861-1746748800-1746835199@usadesavanja.com
SUMMARY:DRAGANA\, MILE & DJ TWINS // STEFAN GRILL // CHICAGO // MAJ 09. 2025.
DESCRIPTION:Stefan Grill Vas poziva u petak 9. maja od 21h na fenomenalnu svirku. \nNastupaju: Dragana Rakčević\, DJ Twins i Mile Vujnović \nInfo: 708 579 0621 \nŽelimo Vam odličan provod!
URL:https://usadesavanja.com/event/dragana-mile-stefan-grill-chicago-maj-09-2025/
LOCATION:Stefan Grill\, 7101 Santa Fe Dr\, Hodgkins\, IL\, Chicago\, IL\, 60525\, United States
CATEGORIES:Illinois
ATTACH;FMTTYPE=image/png:https://usadesavanja.com/wp-content/uploads/2024/12/dragana-r-986756.png
END:VEVENT
BEGIN:VEVENT
DTSTART;VALUE=DATE:20250508
DTEND;VALUE=DATE:20250509
DTSTAMP:20260421T234534
CREATED:20250417T144405Z
LAST-MODIFIED:20250417T144405Z
UID:15897-1746662400-1746748799@usadesavanja.com
SUMMARY:ITA ANNUAL NETWORKING EVENT 2025 // COMPASS ARENA // CHICAGO // MAJ 08. 2025.
DESCRIPTION:Pridružite se jednom od najvažnijih događaja u transportnoj industriji! \n8. maja 2025. godine sa početkom u 18:00h\, Compass Arena u Čikagu biće domaćin velikog godišnjeg okupljanja koje organizuje International Trucking Association (ITA). \nUpoznajte lidere i profesionalce iz sveta transporta\, proširite svoju mrežu kontakata\, izgradite vredne poslovne veze i uživajte u večeri uz muziku\, zabavu i vrhunsku večeru – sve uključeno u cenu ulaznice! \nCene ulaznica:\n• Sto za 10 osoba – $500 po stolu\n• Pojedinačna ulaznica – $50 po osobi\n(Ulaznice će biti dostupne i na ulazu\, u zavisnosti od raspoloživosti) \nRezervacije i informacije o sponzorstvu: 847 372 1930 \nNe propustite ovaj obavezni događaj za sve profesionalce iz sveta transporta – broj mesta je ograničen! Rezervišite svoje mesto na vreme! \nŽelimo Vam odličan provod!
URL:https://usadesavanja.com/event/ita-annual-networking-event-2025-compass-arena-chicago-maj-08-2025/
LOCATION:Compass Arena\, 625 Joliet Rd\, Willowbrook\, Chicago\, IL\, /adresar/compass-arena\, United States
CATEGORIES:Illinois
ATTACH;FMTTYPE=image/jpeg:https://usadesavanja.com/wp-content/uploads/2021/02/compass-arenna.jpg
END:VEVENT
BEGIN:VEVENT
DTSTART;VALUE=DATE:20250508
DTEND;VALUE=DATE:20250509
DTSTAMP:20260421T234534
CREATED:20250328T133400Z
LAST-MODIFIED:20250328T133626Z
UID:15776-1746662400-1746748799@usadesavanja.com
SUMMARY:KAFANSKO VECE // CRKVA SV. SIMEON MIROTOCIVI // LAS VEGAS // MAJ 08. 2025.
DESCRIPTION:SPC Sveti Simeon Mirotočivi poziva Vas na nezaboravno Kafansko veče koje će se održati 8. maja sa početkom u 20:00 časova! \nUlaz: $100 (večera uključena) \nNastupaju:Ivana Pilja\, Ljuba Zarić i Goran Stanimirović \nSav prihod biće usmeren ka Dečijem Fondu za očuvanje i širenje srpske kulture i tradicije. \nRezervacije i info: 702 375 7142Rezervacija obavezna do 1. maja! \nBroj mesta je ograničen! \nDođite da zajedno provedemo veče uz pesmu\, igru i duh kafanske atmosfere!
URL:https://usadesavanja.com/event/kafansko-vece-crkva-sv-simeon-mirotocivi-las-vegas-maj-08-2025/
LOCATION:Crkva Sv. Simeona (Las Vegas)\, 3950 S Jones Blvd.\, Las Vegas\, NV\, 89103\, United States
CATEGORIES:Nevada
ATTACH;FMTTYPE=image/jpeg:https://usadesavanja.com/wp-content/uploads/2024/09/IMG_20240909_170835.jpg
END:VEVENT
BEGIN:VEVENT
DTSTART;VALUE=DATE:20250506
DTEND;VALUE=DATE:20250507
DTSTAMP:20260421T234534
CREATED:20250423T145504Z
LAST-MODIFIED:20250423T145504Z
UID:15942-1746489600-1746575999@usadesavanja.com
SUMMARY:BALKAN PARTY // RAKIJA LOUNGE // MIAMI // MAJ 06. 2025.
DESCRIPTION:Rakija Lounge Vas poziva na Balkan party!\n \nUtorak 6. maj od 21h. Nastupa DJ Voicelove \nRezervišite svoje mesto na: 786 558 4805 \nŽelimo vam odličan provod!
URL:https://usadesavanja.com/event/balkan-party-rakija-lounge-miami-maj-06-2025/
LOCATION:Rakija Lounge\, 1131 Collins Ave\, Miami Beach\, FL\, Miami\, FL\, 33139\, United States
CATEGORIES:Florida
ATTACH;FMTTYPE=image/jpeg:https://usadesavanja.com/wp-content/uploads/2020/07/dj-usa.jpg
END:VEVENT
BEGIN:VEVENT
DTSTART;VALUE=DATE:20250505
DTEND;VALUE=DATE:20250506
DTSTAMP:20260421T234534
CREATED:20250425T145101Z
LAST-MODIFIED:20250425T145101Z
UID:15986-1746403200-1746489599@usadesavanja.com
SUMMARY:PREMIJERA FILMA "ZASTAVA BROTHERS" // ORIENTAL THEATRE // MILWAUKEE // MAJ 05. 2025.
DESCRIPTION:Kratki dokumentarni film “Zastava Brothers” premijerno će biti prikazan 5. maja u 18h u čuvenom Oriental Theatre MKE\, kao deo programa Milwaukee Film Festivala. \nKarte su već u prodaji i brzo se rasprodaju\, a dostupne su putem linka: mkefilm.org. \nFilm u trajanju od 22 minuta sniman je na lokacijama u Milwaukee-ju i Des Moines-u\, Iowa\, a predstavlja priču ispričanu kroz tri generacije – glumci Saša Ubović\, njegov sin Teodor i tast Čedo čine srce ove lične i emotivne priče. U filmu se pojavljuje i Boris Štrbac\, dok je logistiku na snimanju vodio D&S Deli. \nJedan od posebnih detalja premijere biće izloženi Yugo\, koji iz Des Moines-a dovozi Alen Rizvanović\, pa će publika imati priliku da ga vidi uživo ispred bioskopa. \nNakon premijere\, “Zastava Brothers” nastavlja festivalski život širom sveta: \n– Red Cedar Film Festival\, Menomonie\, Wisconsin – 17–20. jul\n– Aster Fest\, Strumica\, Makedonija – 1–5. avgust\n– APOX Film Festival\, Hrvatska – početak oktobra \nFilm je već prihvaćen na 5 festivala\, a prijavljen je na više od 70 širom sveta – po SAD-u\, Balkanu i ostatku Evrope. Uskoro se očekuje i zvanični trejler. \nNe propustite da budete deo ove filmske večeri u Milwaukee-ju – karte su u prodaji i planu je da sve bude spektakularno!
URL:https://usadesavanja.com/event/premijera-filma-zastava-brothers-oriental-theatre-milwaukee-maj-05-2025/
LOCATION:The Oriental Theatre\, 2230 N Farwell Ave\, Milwaukee\, WI 53202\, Milwaukee\, WI\, United States
CATEGORIES:Film,Wisconsin
ATTACH;FMTTYPE=image/jpeg:https://usadesavanja.com/wp-content/uploads/2020/08/movie-usaa.jpg
END:VEVENT
BEGIN:VEVENT
DTSTART;VALUE=DATE:20250504
DTEND;VALUE=DATE:20250505
DTSTAMP:20260421T234534
CREATED:20250502T171920Z
LAST-MODIFIED:20250502T171920Z
UID:16022-1746316800-1746403199@usadesavanja.com
SUMMARY:DJURDJEVDANSKI URANAK // SRPSKA BRATSKA POMOC // CHICAGO // MAJ 04. 2025.
DESCRIPTION:Srpska narodna odbrana u Americi\, Srpska bratska pomoć i Organizacija srpskih četnika Ravna Gora pozivaju Vas na Đurđevdanski uranak\, koji će se održati u nedelju\, 4. maja 2025. godine\, na imanju Srpske bratske pomoći. \nU duhu tradicije\, okupljamo se da zajednički proslavimo ovaj veliki hrišćanski praznik i narodni običaj – uz dobru muziku\, srpsku hranu i bratsko druženje! \nZa veselu atmosferu zaduženi su: Mirjana i Dragan Negovanović \nSpecijaliteti na meniju: praseće i jagnjeće pečenje\, kao i bogata ponuda domaće hrane. \nU slučaju kiše\, uranak se ne odlaže ni seli.
URL:https://usadesavanja.com/event/djurdjevdanski-uranak-srpska-bratska-pomoc-chicago-maj-04-2025/
LOCATION:Srpska Bratska Pomoc\, 19697 W Grand Ave\, Lake Villa\, IL\, Chicago\, IL\, 60046\, United States
CATEGORIES:Illinois
ATTACH;FMTTYPE=image/jpeg:https://usadesavanja.com/wp-content/uploads/2021/12/bratska-pomoc-cikago.jpg
END:VEVENT
BEGIN:VEVENT
DTSTART;VALUE=DATE:20250504
DTEND;VALUE=DATE:20250505
DTSTAMP:20260421T234534
CREATED:20250502T145500Z
LAST-MODIFIED:20250502T145500Z
UID:16016-1746316800-1746403199@usadesavanja.com
SUMMARY:SKUP PODRSKE SRPSKIM STUDENTIMA // KONZULAT SRBIJE // CHICAGO // MAJ 04. 2025.
DESCRIPTION:Pridružite se skupu podrške srpskim studentima koji već mesecima izražavaju svoje stavove kroz proteste i blokade. \nDatum: Nedelja\, 4. maj 2025.Vreme: 13:00hLokacija: Consulate General of Serbia\, 201 E Ohio St # 2\, Chicago\, IL 60611\n \nKako možete učestvovati? \n– Prisustvom izrazite solidarnost sa studentima.– Ponesite kreativne postere – poruke mogu biti i na engleskom.– Petnaestominutnim ćutanjem odajmo počast onima koji su pogođeni događajima zbog kojih studenti protestuju. \nNapomena: \nOkupljanje je isključivo mirnog karaktera\, bez političkih obeležja\, govora mržnje ili poziva na nasilje. \nCilj je da se podrži studentski pokret u njihovim zahtevima kroz dostojanstven i konstruktivan način izražavanja. \nDođite i budite deo zajedničke podrške!
URL:https://usadesavanja.com/event/skup-podrske-srpskim-studentima-konzulat-srbije-chicago-maj-04-2025/
LOCATION:Consulate General of Serbia\, 201 E Ohio St # 2\, Chicago\, IL 60611\, Chicago\, IL\, 60611\, United States
CATEGORIES:Illinois
ATTACH;FMTTYPE=image/jpeg:https://usadesavanja.com/wp-content/uploads/2025/03/SERBIA-stefan-kostic-M4335F5Cog0-unsplash.jpg
END:VEVENT
BEGIN:VEVENT
DTSTART;VALUE=DATE:20250503
DTEND;VALUE=DATE:20250504
DTSTAMP:20260421T234534
CREATED:20250502T171136Z
LAST-MODIFIED:20250502T171136Z
UID:16020-1746230400-1746316799@usadesavanja.com
SUMMARY:DJURDJEVDANSKI PIKNIK // CRKVA SV. NIKOLE // CALEDONIA // MAJ 03. 2025.
DESCRIPTION:Crkva Sv. Nikole u Wiskonsinu Vas poziva na Đurđevdanski piknik. \nSubota 3. maj od 12h. Muzika uživo: Dragan Lončar Cicko \nOčekuje Vas zabava za celu porodicu!
URL:https://usadesavanja.com/event/djurdjevdanski-piknik-crkva-sv-nikole-caledonia-maj-03-2025/
LOCATION:Crkva Sv. Nikole (Wisconsin)\, Highway V\, Caledonia\, Caledonia\, WI\, 53108\, United States
CATEGORIES:Wisconsin
ATTACH;FMTTYPE=image/jpeg:https://usadesavanja.com/wp-content/uploads/2023/06/picnic.jpg
END:VEVENT
BEGIN:VEVENT
DTSTART;VALUE=DATE:20250503
DTEND;VALUE=DATE:20250504
DTSTAMP:20260421T234534
CREATED:20250502T170529Z
LAST-MODIFIED:20250502T170529Z
UID:16018-1746230400-1746316799@usadesavanja.com
SUMMARY:SLAVA SRPSKOG KUBA // SRPSKI KLUB // NEW YORK // MAJ 03. 2025.
DESCRIPTION:Budete gosti na slavi Srpskog kluba i folklornog ansambla Opančići! \nSubota\, 3. maj od 5PM. \nInfo: 718 821 9875 \nŽelimo Vam da se odlično provedete!
URL:https://usadesavanja.com/event/slava-srpskog-kuba-srpski-klub-new-york-maj-03-2025/
LOCATION:Srpski Klub New York\, 7254 65th Pl\, Queens\, NY\, New York\, NY\, 11385\, United States
CATEGORIES:New York
ATTACH;FMTTYPE=image/jpeg:https://usadesavanja.com/wp-content/uploads/2024/05/srpski-klub-ny.jpg
END:VEVENT
BEGIN:VEVENT
DTSTART;VALUE=DATE:20250503
DTEND;VALUE=DATE:20250504
DTSTAMP:20260421T234534
CREATED:20250428T150813Z
LAST-MODIFIED:20250428T150813Z
UID:15994-1746230400-1746316799@usadesavanja.com
SUMMARY:VLADA DINIC & DJ SICK NICK // COMPASS ARENA // CHICAGO // MAJ 03. 2025.
DESCRIPTION:Compass Arena Vas poziva na odličnu žurku! \nNastupaju: Vlada Dinić & DJ Sick Nick \nSubota\, 3. maj od 21h – 90s & 00s hitovi! \nInfo: 630 523 9933 \nŽelimo Vam odličan provod!
URL:https://usadesavanja.com/event/vlada-dinic-dj-sick-nick-compass-arena-chicago-maj-03-2025/
LOCATION:Compass Arena\, 625 Joliet Rd\, Willowbrook\, Chicago\, IL\, /adresar/compass-arena\, United States
CATEGORIES:Illinois
ATTACH;FMTTYPE=image/jpeg:https://usadesavanja.com/wp-content/uploads/2024/06/dj-party-hand-1850120_1280.jpg
END:VEVENT
BEGIN:VEVENT
DTSTART;VALUE=DATE:20250503
DTEND;VALUE=DATE:20250504
DTSTAMP:20260421T234534
CREATED:20250425T141103Z
LAST-MODIFIED:20250425T141114Z
UID:15977-1746230400-1746316799@usadesavanja.com
SUMMARY:SANJA & RAJKO // RESTORAN ZORA // CHICAGO // MAJ 03. 2025.
DESCRIPTION:Etno restoran Zora Vas srdačno poziva da budete njihovi gosti! \nU subotu\, 3. maja od 21h očekuje Vas sjajna svirka! \nNastupaju: Sanja Grahovac i Rajko Paunović \nInfo: 773 625 7087 \nŽelimo Vam odličan provod!
URL:https://usadesavanja.com/event/sanja-rajko-restoran-zora-chicago-maj-03-2025/
LOCATION:Restoran Zora\, 8445 W Lawrence Ave\, Chicago\, IL\, Chicago\, IL\, /adresar/etno-restoran-zora\, United States
CATEGORIES:Illinois,Restorani
ATTACH;FMTTYPE=image/jpeg:https://usadesavanja.com/wp-content/uploads/2021/09/zora-2.jpg
END:VEVENT
BEGIN:VEVENT
DTSTART;VALUE=DATE:20250503
DTEND;VALUE=DATE:20250504
DTSTAMP:20260421T234534
CREATED:20250422T172935Z
LAST-MODIFIED:20250422T173011Z
UID:15935-1746230400-1746316799@usadesavanja.com
SUMMARY:DJ VOICELOVE // DMG CAFE // ST. PETERSBURG // MAJ 03. 2025.
DESCRIPTION:DMG Cafe Vas poziva na sjajnu žurku. \nSubota 3. maj od 10PM. Nastupa: DJ Voicelove \nInfo i rezervacije: 727 280 3317 \nUlaz slobodan! \nŽelimo Vam odličan provod!
URL:https://usadesavanja.com/event/dj-voicelove-dmg-cafe-st-petersburg-maj-03-2025/
LOCATION:DMG Cafe\, 9031 Dr M.L.K. Jr St N\, St. Petersburg\, FL\, 33702\, United States
CATEGORIES:Florida,Restorani
ATTACH;FMTTYPE=image/jpeg:https://usadesavanja.com/wp-content/uploads/2023/04/dmg-cafe.jpg
ORGANIZER;CN="DMG Cafe":MAILTO:milosevickc@gmail.com
END:VEVENT
BEGIN:VEVENT
DTSTART;VALUE=DATE:20250503
DTEND;VALUE=DATE:20250504
DTSTAMP:20260421T234534
CREATED:20250418T171647Z
LAST-MODIFIED:20250418T171647Z
UID:15915-1746230400-1746316799@usadesavanja.com
SUMMARY:SPRING FESTIVAL // MANASTIR SV. SAVE // LIBERTYVILLE // MAJ 03. 2025.
DESCRIPTION:Crkva Svetog Stefana Dečanskog organizuje nezaboravni Spring Festival u subotu\, 3. maja 2025. godine\, sa početkom u 13 časova! \nUživajte u proleću uz:– Dobru muziku– Tradicionalnu\, domaću hranu– Sjajno društvo \nOvaj događaj je savršen za celu porodicu – zabava za sve generacije!Ne propustite priliku da provedete dan u prirodi\, uz osmeh\, pesmu i ukusna jela!
URL:https://usadesavanja.com/event/spring-festival-manastir-sv-save-libertyville-maj-03-2025/
LOCATION:Crkva Sv. Save (Libertyville)\, N. Milwaukee Avenue\, Libertyville\, IL\, Libertyville\, IL\, 32377\, United States
CATEGORIES:Illinois
ATTACH;FMTTYPE=image/jpeg:https://usadesavanja.com/wp-content/uploads/2025/04/peach-blossoms-7826534_1280.jpg
END:VEVENT
BEGIN:VEVENT
DTSTART;VALUE=DATE:20250503
DTEND;VALUE=DATE:20250504
DTSTAMP:20260421T234534
CREATED:20250416T174343Z
LAST-MODIFIED:20250418T165941Z
UID:15888-1746230400-1746316799@usadesavanja.com
SUMMARY:MERAK SOUL // IMPERIA LOUNGE // CHICAGO // MAJ 03. 2025.
DESCRIPTION:Imperia Lounge i Stage Art Chicago Vas pozivaju na odličnu svirku. \nSubota 3. maj\, od 8PM . Nastupa: Merak Soul \nInfo i rezervacije: 773 644 0600 i 872 302 1464 \nŽelimo Vam odličan provod!
URL:https://usadesavanja.com/event/merak-soul-imperia-lounge-chicago-maj-03-2025/
LOCATION:Imperia Lounge\, 2610 W Peterson Ave\, Chicago\, IL\, Chicago\, IL\, 60659\, United States
CATEGORIES:Illinois
ATTACH;FMTTYPE=image/png:https://usadesavanja.com/wp-content/uploads/2024/11/imperia-lounge-gallery-photo-3.png
END:VEVENT
BEGIN:VEVENT
DTSTART;VALUE=DATE:20250503
DTEND;VALUE=DATE:20250504
DTSTAMP:20260421T234534
CREATED:20250415T183634Z
LAST-MODIFIED:20250415T183634Z
UID:15884-1746230400-1746316799@usadesavanja.com
SUMMARY:DANKA\, MILOS KALCA & GORAN // SKADARLIYA // CHICAGO // MAJ 03. 2025.
DESCRIPTION:Skadarliya Vas poziva na sjajnu svirku! \nSubota\, 3. maj\, od 21h. Nastupaju: Danka Gajić\, Miloš Kalča i Goran Stanimirović \nInfo: 708 905 5919 \nŽelimo Vam odličan provod!
URL:https://usadesavanja.com/event/danka-milos-kalca-goran-skadarliya-chicago-maj-03-2025/
LOCATION:Skadarliya\, 9237 West Ogden Ave\, Brookfield\, Chicago\, IL\, 60513\, United States
CATEGORIES:Illinois,Restorani
ATTACH;FMTTYPE=image/jpeg:https://usadesavanja.com/wp-content/uploads/2024/06/MILOS-KALCA-I-DANKA-01.jpg
END:VEVENT
BEGIN:VEVENT
DTSTART;VALUE=DATE:20250502
DTEND;VALUE=DATE:20250503
DTSTAMP:20260421T234534
CREATED:20250425T141631Z
LAST-MODIFIED:20250425T141631Z
UID:15980-1746144000-1746230399@usadesavanja.com
SUMMARY:SANJA\, BOJAN & SANEL // PLAYBOOK // CHICAGO // MAJ 02. 2025.
DESCRIPTION:Playbook Vas poziva u petak 2. maja od 10PM na fenomenalnu svirku. \nNastupaju: Sanja Grahovac\, Bojan Vasilić i Sanel Bajrami \nInfo: 847 588 7529 \nŽelimo Vam odličan provod!
URL:https://usadesavanja.com/event/sanja-bojan-sanel-playbook-chicago-maj-02-2025/
LOCATION:Playbook\, 6913 N Milwaukee Ave\, Niles\, IL\, Niles\, IL\, 60714\, United States
CATEGORIES:Illinois
ATTACH;FMTTYPE=image/png:https://usadesavanja.com/wp-content/uploads/2025/04/sanja-bojan-sanel-987.png
END:VEVENT
BEGIN:VEVENT
DTSTART;VALUE=DATE:20250502
DTEND;VALUE=DATE:20250503
DTSTAMP:20260421T234534
CREATED:20250423T160525Z
LAST-MODIFIED:20250423T160525Z
UID:15962-1746144000-1746230399@usadesavanja.com
SUMMARY:MACEDONIAN NIGHT // COMPASS ARENA // CHICAGO // MAJ 02. 2025.
DESCRIPTION:Compass Arena Vas poziva u petak 2. maja od 9PM na Macedonian night! \nNastupaju: Antonio & The Band \nPromotivne cene pića. \nInfo: 630 523 9933 \nŽelimo Vam odličan provod!
URL:https://usadesavanja.com/event/macedonian-night-compass-arena-chicago-maj-02-2025/
LOCATION:Compass Arena\, 625 Joliet Rd\, Willowbrook\, Chicago\, IL\, /adresar/compass-arena\, United States
CATEGORIES:Illinois
ATTACH;FMTTYPE=image/jpeg:https://usadesavanja.com/wp-content/uploads/2025/04/MACEDONIA-FLAG-international-2694633_1280.jpg
END:VEVENT
BEGIN:VEVENT
DTSTART;VALUE=DATE:20250502
DTEND;VALUE=DATE:20250503
DTSTAMP:20260421T234534
CREATED:20250415T181307Z
LAST-MODIFIED:20250429T170923Z
UID:15867-1746144000-1746230399@usadesavanja.com
SUMMARY:DANKA GAJIC & MILOS KALCA // RESTORAN ZORA // CHICAGO // MAJ 02. 2025.
DESCRIPTION:Etno restoran Zora Vas srdačno poziva da budete njihovi gosti! \nU petak\, 2. maja od 21h očekuje Vas sjajna svirka! \nNastupaju: Danka Gajić i Miloš Kalča \nInfo: 773 625 7087 \nŽelimo Vam odličan provod!
URL:https://usadesavanja.com/event/ivana-pilja-milos-kalca-restoran-zora-chicago-maj-02-2025/
LOCATION:Restoran Zora\, 8445 W Lawrence Ave\, Chicago\, IL\, Chicago\, IL\, /adresar/etno-restoran-zora\, United States
CATEGORIES:Illinois,Restorani
ATTACH;FMTTYPE=image/png:https://usadesavanja.com/wp-content/uploads/2024/08/danka-gajic-new24.png
END:VEVENT
BEGIN:VEVENT
DTSTART;VALUE=DATE:20250502
DTEND;VALUE=DATE:20250503
DTSTAMP:20260421T234534
CREATED:20250415T175326Z
LAST-MODIFIED:20250415T175326Z
UID:15859-1746144000-1746230399@usadesavanja.com
SUMMARY:DRAGANA & MILE // STEFAN GRILL // CHICAGO // MAJ 02. 2025.
DESCRIPTION:Stefan Grill Vas poziva u petak 2. maja od 21h na fenomenalnu svirku. \nNastupaju: Dragana Rakčević i Mile Vujnović \nInfo: 708 579 0621 \nŽelimo Vam odličan provod!
URL:https://usadesavanja.com/event/dragana-mile-stefan-grill-chicago-maj-02-2025/
LOCATION:Stefan Grill\, 7101 Santa Fe Dr\, Hodgkins\, IL\, Chicago\, IL\, 60525\, United States
CATEGORIES:Illinois
ATTACH;FMTTYPE=image/jpeg:https://usadesavanja.com/wp-content/uploads/2023/09/dragana-rakcevic-01.jpg
END:VEVENT
BEGIN:VEVENT
DTSTART;VALUE=DATE:20250501
DTEND;VALUE=DATE:20250502
DTSTAMP:20260421T234534
CREATED:20250430T193747Z
LAST-MODIFIED:20250430T193747Z
UID:16003-1746057600-1746143999@usadesavanja.com
SUMMARY:PATIO PARTY // COMPASS ARENA // CHICAGO // MAJ 01. 2025.
DESCRIPTION:Compass Arena Vas poziva na Patio party! \nNastupa: Tatiana \nČetvrtak\, 1. maj od 19h do 22h \nInfo: 630 523 9933 \nŽelimo Vam odličan provod!
URL:https://usadesavanja.com/event/patio-party-compass-arena-chicago-maj-01-2025/
LOCATION:Compass Arena\, 625 Joliet Rd\, Willowbrook\, Chicago\, IL\, /adresar/compass-arena\, United States
CATEGORIES:Illinois
ATTACH;FMTTYPE=image/jpeg:https://usadesavanja.com/wp-content/uploads/2025/04/Screenshot_20250430_212002_edit_892377134852082.jpg
END:VEVENT
BEGIN:VEVENT
DTSTART;VALUE=DATE:20250428
DTEND;VALUE=DATE:20250429
DTSTAMP:20260421T234534
CREATED:20250317T151158Z
LAST-MODIFIED:20250317T151158Z
UID:15680-1745798400-1745884799@usadesavanja.com
SUMMARY:ST. SAVA ACADEMY'S 2ND ANNUAL BENEFICIARY EVENT // TOPAZ CAFE // CHICAGO // APRIL 28. 2025.
DESCRIPTION:Saint Sava Academy Vas poziva na 2. godišnji dobrotvorni događaj! \nDatum: 28. april 2025.Vreme: 18:30Lokacija: Topaz Cafe\, 780 Village Center Drive\, Burr Ridge\, IL 60527 \nKupovina karata i donacije – podržite budućnost naše dece! \nNapomena: Ovaj događaj je namenjen isključivo odraslima. \nGradimo budućnost našoj deci!
URL:https://usadesavanja.com/event/st-sava-academys-2nd-annual-beneficiary-event-topaz-cafe-chicago-april-28-2025/
LOCATION:Topaz Cafe\, 780 Village Center Dr\, Burr Ridge\, IL\, Chicago\, IL\, 60527\, United States
CATEGORIES:Illinois,Restorani
ATTACH;FMTTYPE=image/jpeg:https://usadesavanja.com/wp-content/uploads/2023/10/topaz-cafe.jpg
ORGANIZER;CN="Skadarliya":MAILTO:skadarliyainc@gmail.com
END:VEVENT
BEGIN:VEVENT
DTSTART;VALUE=DATE:20250428
DTEND;VALUE=DATE:20250429
DTSTAMP:20260421T234534
CREATED:20250422T173517Z
LAST-MODIFIED:20250422T173517Z
UID:15938-1745798400-1745884799@usadesavanja.com
SUMMARY:BALKAN PARTY // DOGTOOTH SPORTS BAR // NAPLES\, FL // APRIL 28. 2025.
DESCRIPTION:Dogtooth Sports Bar Vas poziva na Balkan party 28. aprila od 22h. \nNastupa: DJ Voicelove \nUlaz: $10. \nInfo: 239 255 2422
URL:https://usadesavanja.com/event/balkan-party-dogtooth-sports-bar-naples-fl-april-28-2025/
LOCATION:Dogtooth Sports Bar\, 5310 Shirley St\, Naples\, FL\, Naples\, FL\, 34109\, United States
CATEGORIES:Florida,Restorani
ATTACH;FMTTYPE=image/jpeg:https://usadesavanja.com/wp-content/uploads/2025/04/dj-voicelove-Screenshot_20250418_214857.jpg
END:VEVENT
BEGIN:VEVENT
DTSTART;VALUE=DATE:20250427
DTEND;VALUE=DATE:20250428
DTSTAMP:20260421T234534
CREATED:20250418T173326Z
LAST-MODIFIED:20250418T173326Z
UID:15923-1745712000-1745798399@usadesavanja.com
SUMMARY:TAMBURICA HAUS BEND // APOLONIA // CHICAGO // APRIL 27. 2025.
DESCRIPTION:Apolonia Vas poziva na fenomenalnu žurku uz tamburaše! \nTamburica Haus Bend nastupiće u nedelju\, 27. aprila od 4PM. \nŽelimo Vam odličan provod!
URL:https://usadesavanja.com/event/tamburica-haus-bend-apolonia-chicago-april-27-2025/
LOCATION:Apolonia\, 2201 S Michigan Ave\, Chicago\, IL\, Chicago\, IL\, 60616\, United States
CATEGORIES:Illinois
ATTACH;FMTTYPE=image/jpeg:https://usadesavanja.com/wp-content/uploads/2020/12/tamburica-house.jpg
END:VEVENT
END:VCALENDAR