BEGIN:VCALENDAR
VERSION:2.0
PRODID:-//USA Desavanja - ECPv6.15.17.1//NONSGML v1.0//EN
CALSCALE:GREGORIAN
METHOD:PUBLISH
X-WR-CALNAME:USA Desavanja
X-ORIGINAL-URL:https://usadesavanja.com
X-WR-CALDESC:Events for USA Desavanja
REFRESH-INTERVAL;VALUE=DURATION:PT1H
X-Robots-Tag:noindex
X-PUBLISHED-TTL:PT1H
BEGIN:VTIMEZONE
TZID:America/Chicago
BEGIN:DAYLIGHT
TZOFFSETFROM:-0600
TZOFFSETTO:-0500
TZNAME:CDT
DTSTART:20240310T080000
END:DAYLIGHT
BEGIN:STANDARD
TZOFFSETFROM:-0500
TZOFFSETTO:-0600
TZNAME:CST
DTSTART:20241103T070000
END:STANDARD
BEGIN:DAYLIGHT
TZOFFSETFROM:-0600
TZOFFSETTO:-0500
TZNAME:CDT
DTSTART:20250309T080000
END:DAYLIGHT
BEGIN:STANDARD
TZOFFSETFROM:-0500
TZOFFSETTO:-0600
TZNAME:CST
DTSTART:20251102T070000
END:STANDARD
BEGIN:DAYLIGHT
TZOFFSETFROM:-0600
TZOFFSETTO:-0500
TZNAME:CDT
DTSTART:20260308T080000
END:DAYLIGHT
BEGIN:STANDARD
TZOFFSETFROM:-0500
TZOFFSETTO:-0600
TZNAME:CST
DTSTART:20261101T070000
END:STANDARD
END:VTIMEZONE
BEGIN:VTIMEZONE
TZID:UTC
BEGIN:STANDARD
TZOFFSETFROM:+0000
TZOFFSETTO:+0000
TZNAME:UTC
DTSTART:20240101T000000
END:STANDARD
END:VTIMEZONE
BEGIN:VEVENT
DTSTART;VALUE=DATE:20250420
DTEND;VALUE=DATE:20250421
DTSTAMP:20260422T064003
CREATED:20250411T135351Z
LAST-MODIFIED:20250411T135351Z
UID:15822-1745107200-1745193599@usadesavanja.com
SUMMARY:USKRSNJI BRUNCH // KINZIE CHOPHOUSE // CHICAGO // APRIL 20. 2025.
DESCRIPTION:Kinzie Chophouse Vas poziva 20. aprila na specijalni Uskršnji Brunch \nSpecijalne ponude: Prime Rib\, Steak and Eggs\, Pork Chop and Bottomless Bubbly (regularni meni je isto dostupan za sve goste) \nPriduzrite nam se 20. aprila u 11 časova! Mesta su ograničena\, preporučujemo rezervacije. \nSrećan Praznik! Prijatno! \nTelefon: 312 822 0191
URL:https://usadesavanja.com/event/uskrsnji-brunch-kinzie-chophouse-chicago-april-20-2025/
LOCATION:Kinzie Chophouse\, 400 N Wells St\, Chicago\, IL 60654\, Chicago\, IL\, 60654\, United States
CATEGORIES:Illinois
ATTACH;FMTTYPE=image/jpeg:https://usadesavanja.com/wp-content/uploads/2025/04/KINZIE-CH.jpg
END:VEVENT
BEGIN:VEVENT
DTSTART;VALUE=DATE:20250419
DTEND;VALUE=DATE:20250420
DTSTAMP:20260422T064003
CREATED:20250417T175330Z
LAST-MODIFIED:20250417T175330Z
UID:15906-1745020800-1745107199@usadesavanja.com
SUMMARY:SATURDAY AFTER MIDNIGHT SA VLADOM // MACEDONIAN CULTURAL CENTER // CHICAGO // APRIL 19. 2025.
DESCRIPTION:Makedonski kulturni centar Vas poziva na Saturday After Midnight sa Vladom! \nDočekajte Vaskrs uz spektakularni noćni muzički događaj!U noći između subote\, 19. aprila i nedelje\, 20. aprila 2025. godine\, uživajte u nezaboravnom nastupu Vlade Dinića u svečanoj prazničnoj atmosferi. \nObucite se elegantno\, povedite drage ljude i dočekajte praznik uz magiju saksofona i raskošnu atmosferu! \nŽelimo Vam odličan provod!
URL:https://usadesavanja.com/event/saturday-after-midnight-sa-vladom-macedonian-cultural-center-chicago-april-19-2025/
LOCATION:Crkva Sv. Kirila i Metodija\, 10S330 IL-83\, Willowbrook\, IL\, Chicago\, IL\, 60527\, United States
CATEGORIES:Illinois
ATTACH;FMTTYPE=image/png:https://usadesavanja.com/wp-content/uploads/2025/04/Screenshot_20250417_155306_edit_vlada-dinic.png
END:VEVENT
BEGIN:VEVENT
DTSTART;VALUE=DATE:20250419
DTEND;VALUE=DATE:20250420
DTSTAMP:20260422T064003
CREATED:20250411T145010Z
LAST-MODIFIED:20250411T145010Z
UID:15841-1745020800-1745107199@usadesavanja.com
SUMMARY:VELIKA SUBOTA // CRKVA SV. STEFANA DECANSKOG // CHICAGO // APRIL 19. 2025.
DESCRIPTION:Crkva Sveti Stefan Dečanski iz Čikaga Vas poziva na svetu Liturgiju povodom Velike subote. \nSubota 19. april:\n10:00h – Sveta Liturgija\n23:45h – Vaskrsno jutrenje i ponoćna sveta Liturgija
URL:https://usadesavanja.com/event/velika-subota-crkva-sv-stefana-decanskog-chicago-april-19-2025/
LOCATION:Crkva Sv. Stefana Decanskog (Chicago)\, 3543 W Leland Ave.\, Chicago\, IL\, 60625\, United States
CATEGORIES:Illinois
ATTACH;FMTTYPE=image/jpeg:https://usadesavanja.com/wp-content/uploads/2025/04/St-Steven-of-Decani-Chicago-3.jpg
END:VEVENT
BEGIN:VEVENT
DTSTART;VALUE=DATE:20250419
DTEND;VALUE=DATE:20250420
DTSTAMP:20260422T064003
CREATED:20250402T172420Z
LAST-MODIFIED:20250402T172420Z
UID:15796-1745020800-1745107199@usadesavanja.com
SUMMARY:MILOS KALCA & SANDRA OSTOJIC // TITO'S CAFE // ST. PETERSBURG // APRIL 19. 2025.
DESCRIPTION:Tito’s Cafe Vas srdačno poziva da budete njihovi gosti! \nU subotu\, 19. aprila od 10PM\, očekuje Vas Balkan party night! \nNastupaju: Sandra Ostojić i Miloš Kalča \nInfo: 727 225 0006 \nŽelimo Vam odličan provod!
URL:https://usadesavanja.com/event/milos-kalca-sandra-ostojic-titos-cafe-st-petersburg-april-19-2025/
LOCATION:Tito’s Cafe\, 6514 4th St N\, Saint Petersburg\, FL\, 33702\, United States
CATEGORIES:Florida
ATTACH;FMTTYPE=image/jpeg:https://usadesavanja.com/wp-content/uploads/2025/04/titos-cafe-st-pete.jpg
END:VEVENT
BEGIN:VEVENT
DTSTART;VALUE=DATE:20250419
DTEND;VALUE=DATE:20250420
DTSTAMP:20260422T064003
CREATED:20250331T132455Z
LAST-MODIFIED:20250331T132455Z
UID:15787-1745020800-1745107199@usadesavanja.com
SUMMARY:BILJANA\, LJUBA & MILE // RESTORAN ZORA // CHICAGO // APRIL 19. 2025.
DESCRIPTION:Etno restoran Zora Vas srdačno poziva da budete njihovi gosti! \nU subotu\, 19. aprila od 21h očekuje Vas sjajna svirka! \nNastupaju: Biljana Đorđević\, Ljuba Zarić i Mile Vujnović \nInfo: 773 625 7087 \nŽelimo Vam odličan provod!
URL:https://usadesavanja.com/event/biljana-ljuba-mile-restoran-zora-chicago-april-19-2025/
LOCATION:Restoran Zora\, 8445 W Lawrence Ave\, Chicago\, IL\, Chicago\, IL\, /adresar/etno-restoran-zora\, United States
CATEGORIES:Illinois,Restorani
ATTACH;FMTTYPE=image/png:https://usadesavanja.com/wp-content/uploads/2024/12/bilja-viber_image_2024-05-28_19-16-40-936.png
END:VEVENT
BEGIN:VEVENT
DTSTART;VALUE=DATE:20250419
DTEND;VALUE=DATE:20250420
DTSTAMP:20260422T064003
CREATED:20250324T202147Z
LAST-MODIFIED:20250324T202147Z
UID:15740-1745020800-1745107199@usadesavanja.com
SUMMARY:ROCK CENGA BEND // CLUB COYOTES // DETROIT // APRIL 19. 2025.
DESCRIPTION:Club Coyotes Vas poziva na sjajnu svirku! \nSubota\, 19. april\, Rock Čenga Bend \nInfo: 313 610 1312 \nŽelimo Vam odličan provod!
URL:https://usadesavanja.com/event/rock-cenga-bend-club-coyotes-detroit-april-19-2025/
LOCATION:Club Coyotes\, 9711 Conant St\, Hamtramck\, Detroit\, MI\, 48212\, United States
CATEGORIES:Michigan,Zurke
ATTACH;FMTTYPE=image/jpeg:https://usadesavanja.com/wp-content/uploads/2023/04/rock-music.jpg
END:VEVENT
BEGIN:VEVENT
DTSTART;VALUE=DATE:20250419
DTEND;VALUE=DATE:20250420
DTSTAMP:20260422T064003
CREATED:20250319T123701Z
LAST-MODIFIED:20250319T123701Z
UID:15716-1745020800-1745107199@usadesavanja.com
SUMMARY:SANJA\, RAJKO & SANEL // SKADARLIYA // CHICAGO // APRIL 19. 2025.
DESCRIPTION:Skadarliya Vas poziva na sjajnu svirku! \nSubota\, 19. april\, od 21h. Nastupaju: Sanja Grahovac\, Rajko Paunović i Sanel Bajrami \nInfo: 708 905 5919 \nŽelimo Vam odličan provod!
URL:https://usadesavanja.com/event/sanja-rajko-sanel-skadarliya-chicago-april-19-2025/
LOCATION:Skadarliya\, 9237 West Ogden Ave\, Brookfield\, Chicago\, IL\, 60513\, United States
CATEGORIES:Illinois,Restorani
ATTACH;FMTTYPE=image/jpeg:https://usadesavanja.com/wp-content/uploads/2024/01/sanja-grahovac-new.jpg
END:VEVENT
BEGIN:VEVENT
DTSTART;VALUE=DATE:20250419
DTEND;VALUE=DATE:20250420
DTSTAMP:20260422T064003
CREATED:20250218T170150Z
LAST-MODIFIED:20250224T172444Z
UID:15514-1745020800-1745107199@usadesavanja.com
SUMMARY:ENES BEGOVIC & BAND // HOLIDAY INN // CHICAGO // APRIL 19. 2025.
DESCRIPTION:Radio San Promotion i Holiday Inn Vas pozivaju na spektakularan koncert. \nSubota\, 19. april. Nastupaju: Enes Begović & Band \nInfo: 773 425 3911 \nŽelimo Vam odličan provod!
URL:https://usadesavanja.com/event/enes-begovic-band-holiday-inn-chicago-april-04-2025/
LOCATION:Holiday Inn Convention Center\, 5300 W Touhy Ave\, Skokie\, IL\, Chicago\, IL\, 60077\, United States
CATEGORIES:Illinois
ATTACH;FMTTYPE=image/jpeg:https://usadesavanja.com/wp-content/uploads/2025/02/enes-begovic-gur76ew56e6r7t8ziou.jpeg
END:VEVENT
BEGIN:VEVENT
DTSTART;VALUE=DATE:20250418
DTEND;VALUE=DATE:20250419
DTSTAMP:20260422T064003
CREATED:20250411T144433Z
LAST-MODIFIED:20250411T144433Z
UID:15838-1744934400-1745020799@usadesavanja.com
SUMMARY:VELIKI PETAK // CRKVA SV. STEFANA DECANSKOG // CHICAGO // APRIL 18. 2025.
DESCRIPTION:Crkva Sveti Stefan Dečanski iz Čikaga Vas poziva na Veliki petak. \nPetak 18. april:\n16h – Večernje sa iznošenjem plaštenice\n19h – Jutrenje sa pevanjem statija i Opelo
URL:https://usadesavanja.com/event/veliki-petak-crkva-sv-stefana-decanskog-chicago-april-18-2025/
LOCATION:Crkva Sv. Stefana Decanskog (Chicago)\, 3543 W Leland Ave.\, Chicago\, IL\, 60625\, United States
CATEGORIES:Illinois
ATTACH;FMTTYPE=image/jpeg:https://usadesavanja.com/wp-content/uploads/2025/04/candles-4298297_1280.jpg
END:VEVENT
BEGIN:VEVENT
DTSTART;VALUE=DATE:20250418
DTEND;VALUE=DATE:20250419
DTSTAMP:20260422T064003
CREATED:20250402T171913Z
LAST-MODIFIED:20250402T171913Z
UID:15794-1744934400-1745020799@usadesavanja.com
SUMMARY:MILOS KALCA & SANDRA OSTOJIC // TITO'S CAFE // ST. PETERSBURG // APRIL 18. 2025.
DESCRIPTION:Tito’s Cafe Vas srdačno poziva da budete njihovi gosti! \nU petak\, 18. aprila od 10PM\, očekuje Vas Balkan party night! \nNastupaju: Sandra Ostojić i Miloš Kalča \nInfo: 727 225 0006 \nŽelimo Vam odličan provod!
URL:https://usadesavanja.com/event/milos-kalca-sandra-ostojic-titos-cafe-st-petersburg-april-18-2025/
LOCATION:Tito’s Cafe\, 6514 4th St N\, Saint Petersburg\, FL\, 33702\, United States
CATEGORIES:Florida
ATTACH;FMTTYPE=image/jpeg:https://usadesavanja.com/wp-content/uploads/2024/08/milos-kalca-new-2024.jpg
END:VEVENT
BEGIN:VEVENT
DTSTART;VALUE=DATE:20250418
DTEND;VALUE=DATE:20250419
DTSTAMP:20260422T064003
CREATED:20250324T201837Z
LAST-MODIFIED:20250414T161827Z
UID:15737-1744934400-1745020799@usadesavanja.com
SUMMARY:OTKAZANO!!! ROCK CENGA BEND // 220 VENUE // CHICAGO // APRIL 18. 2025.
DESCRIPTION:220 Venue Vas poziva na fenomenalnu svirku! \nPetak 18. april\, od 21h\, Rock Čenga Bend. \nInfo: 773 677 0247 \nŽelimo Vam odličan provod!
URL:https://usadesavanja.com/event/rock-cenga-bend-220-venue-chicago-april-18-2025/
LOCATION:Club 220\, 7021 W Higgins Ave\, Chicago\, IL\, Chicago\, IL\, 60656\, United States
CATEGORIES:Illinois
ATTACH;FMTTYPE=image/jpeg:https://usadesavanja.com/wp-content/uploads/2024/05/diego-mora-barrantes-4JCvL_X18PU-unsplash.jpg
END:VEVENT
BEGIN:VEVENT
DTSTART;VALUE=DATE:20250418
DTEND;VALUE=DATE:20250419
DTSTAMP:20260422T064003
CREATED:20250317T222251Z
LAST-MODIFIED:20250317T222251Z
UID:15690-1744934400-1745020799@usadesavanja.com
SUMMARY:ENES BEGOVIC // SLA CLUB // PORTLAND // APRIL 18. 2025.
DESCRIPTION:DoubleTree by Hilton Vas poziva na fenomenalan koncert. \nPetak\, 18. april od 20:30h. Nastupa: Enes Begović \nInfo: 503 936 9539 \nŽelimo Vam odličan provod!
URL:https://usadesavanja.com/event/enes-begovic-sla-club-portland-april-18-2025/
LOCATION:SLA Club\, 11610 SE Holgate Blvd.\, Portland\, OR\, 97266
CATEGORIES:Oregon
ATTACH;FMTTYPE=image/png:https://usadesavanja.com/wp-content/uploads/2025/03/enes-begovic-2-yt-ps-908675867.png
END:VEVENT
BEGIN:VEVENT
DTSTART;VALUE=DATE:20250416
DTEND;VALUE=DATE:20250417
DTSTAMP:20260422T064003
CREATED:20250411T143256Z
LAST-MODIFIED:20250411T143442Z
UID:15832-1744761600-1744847999@usadesavanja.com
SUMMARY:VELIKA SREDA // CRKVA SV. STEFANA DECANSKOG // CHICAGO // APRIL 16. 2025.
DESCRIPTION:Crkva Sveti Stefan Dečanski iz Čikaga Vas poziva na svetu Liturgiju povodom Velike srede. \nSreda 16. april od 10h. \nSveta Pređeosvećena Liturgija.
URL:https://usadesavanja.com/event/velika-sreda-crkva-sv-stefana-decanskog-chicago-april-16-2025/
LOCATION:Crkva Sv. Stefana Decanskog (Chicago)\, 3543 W Leland Ave.\, Chicago\, IL\, 60625\, United States
CATEGORIES:Illinois
ATTACH;FMTTYPE=image/jpeg:https://usadesavanja.com/wp-content/uploads/2025/04/St-Steven-of-Decani-Chicago-2.jpg
END:VEVENT
BEGIN:VEVENT
DTSTART;VALUE=DATE:20250416
DTEND;VALUE=DATE:20250417
DTSTAMP:20260422T064003
CREATED:20250317T144820Z
LAST-MODIFIED:20250317T144820Z
UID:15675-1744761600-1744847999@usadesavanja.com
SUMMARY:ENES BEGOVIC // CAFE DERBI // LAS VEGAS // APRIL 16. 2025.
DESCRIPTION:Cafe Derbi Vas poziva na sjajnu žurku! \nSreda 16. april od 21h. Nastupa: Enes Begović \nInfo: 702 824 4699 \nŽelimo Vam odličan provod!
URL:https://usadesavanja.com/event/enes-begovic-cafe-derbi-las-vegas-april-16-2025/
LOCATION:Cafe Derbi\, 5920 W Flamingo Rd Las Vegas\, NV 89103\, Las Vegas\, NV\, 89103\, United States
CATEGORIES:Nevada
ATTACH;FMTTYPE=image/jpeg:https://usadesavanja.com/wp-content/uploads/2025/02/enes-begovic-gur76ew56e6r7t8ziou.jpeg
END:VEVENT
BEGIN:VEVENT
DTSTART;VALUE=DATE:20250413
DTEND;VALUE=DATE:20250414
DTSTAMP:20260422T064003
CREATED:20250411T141246Z
LAST-MODIFIED:20250411T141246Z
UID:15827-1744502400-1744588799@usadesavanja.com
SUMMARY:CVETI // CRKVA SV. STEFANA DECANSKOG // CHICAGO // APRIL 13. 2025.
DESCRIPTION:Crkva Sveti Stefan Dečanski iz Čikaga Vas poziva na svetu Liturgiju povodom praznika Cveti. \nNedelja 13. april od 10h. \nU nastavku svete Liturgije služiće se osvećenje vrbe.
URL:https://usadesavanja.com/event/cveti-crkva-sv-stefana-decanskog-chicago-april-13-2025/
LOCATION:Crkva Sv. Stefana Decanskog (Chicago)\, 3543 W Leland Ave.\, Chicago\, IL\, 60625\, United States
CATEGORIES:Illinois
ATTACH;FMTTYPE=image/jpeg:https://usadesavanja.com/wp-content/uploads/2025/04/ljohiufzdts5w44.jpg
END:VEVENT
BEGIN:VEVENT
DTSTART;VALUE=DATE:20250413
DTEND;VALUE=DATE:20250414
DTSTAMP:20260422T064003
CREATED:20250409T174606Z
LAST-MODIFIED:20250409T174606Z
UID:15819-1744502400-1744588799@usadesavanja.com
SUMMARY:SKUP PODRSKE SRPSKIM STUDENTIMA // KONZULAT SRBIJE // CHICAGO // APRIL 13. 2025.
DESCRIPTION:Pridružite se skupu podrške srpskim studentima koji već mesecima izražavaju svoje stavove kroz proteste i blokade. \nDatum: Nedelja\, 13. april 2025.Vreme: 13:00hLokacija: Consulate General of Serbia\, 201 E Ohio St # 2\, Chicago\, IL 60611\n \nKako možete učestvovati? \n– Prisustvom izrazite solidarnost sa studentima.– Ponesite kreativne postere – poruke mogu biti i na engleskom.– Petnaestominutnim ćutanjem odajmo počast onima koji su pogođeni događajima zbog kojih studenti protestuju. \nNapomena: \nOkupljanje je isključivo mirnog karaktera\, bez političkih obeležja\, govora mržnje ili poziva na nasilje. \nCilj je da se podrži studentski pokret u njihovim zahtevima kroz dostojanstven i konstruktivan način izražavanja. \nDođite i budite deo zajedničke podrške!
URL:https://usadesavanja.com/event/skup-podrske-srpskim-studentima-konzulat-srbije-chicago-april-13-2025/
LOCATION:Consulate General of Serbia\, 201 E Ohio St # 2\, Chicago\, IL 60611\, Chicago\, IL\, 60611\, United States
CATEGORIES:Illinois
ATTACH;FMTTYPE=image/jpeg:https://usadesavanja.com/wp-content/uploads/2025/03/SERBIA-stefan-kostic-M4335F5Cog0-unsplash.jpg
END:VEVENT
BEGIN:VEVENT
DTSTART;VALUE=DATE:20250413
DTEND;VALUE=DATE:20250414
DTSTAMP:20260422T064003
CREATED:20250324T203756Z
LAST-MODIFIED:20250324T203838Z
UID:15749-1744502400-1744588799@usadesavanja.com
SUMMARY:VASKRSNJA RADIONICA // CRKVA SVETOG NIKOLE // LYONS // APRIL 13. 2025.
DESCRIPTION:VASKRŠNJA RADIONICA – PRIJAVE U TOKU! \nPridružite nam se na kreativnoj i zabavnoj vaskršnjoj radionici za najmlađe! \nDatum: 12.04. i 13.04.Vreme: 10:00 – 13:00hLokacija: 4315 Joliet Ave\, Lyons \nProgram radionice:– Farbanje i ukrašavanje jaja– Egg hunt– Pravljenje venčića– Slikanje sa vaskršnjom temom– Face painting– Ručak i slobodna igra \nCene:OBA DANA: $80 jedno dete | $140 dvoje deceJEDAN DAN: $50 jedno dete | $80 dvoje dece \nPrijava je obavezna – mesta su ograničena!Prijavite se uplatom na Zelle 907 570 4834 i popunjavanjem upitnika. \nPrisustvo roditelja nije obavezno! \nVidimo se na proslavi punoj igre i kreativnosti!
URL:https://usadesavanja.com/event/vaskrsnja-radionica-crkva-svetog-nikole-lyons-april-13-2025/
LOCATION:Crkva Sv. Nikole (Lyons)\, 4315 Joliet Rd Lyons\, IL 60534\, Chicago\, IL\, 60534\, United States
CATEGORIES:Film,Illinois
ATTACH;FMTTYPE=image/png:https://usadesavanja.com/wp-content/uploads/2024/09/CRKVA-SV-NIKOLA-LYONS-IL.png
END:VEVENT
BEGIN:VEVENT
DTSTART;VALUE=DATE:20250412
DTEND;VALUE=DATE:20250413
DTSTAMP:20260422T064003
CREATED:20250411T182604Z
LAST-MODIFIED:20250507T155124Z
UID:15845-1744416000-1744502399@usadesavanja.com
SUMMARY:SPRING BEAUTY EVENT // SONO BELLA CLINIC // CHICAGO // APRIL 12. 2025.
DESCRIPTION:Spring Beauty Event happening\, Saturday\, April 12\, from 9 AM to 4 PM at Sono Bella Clinic\, 5920 Dempster St\, Morton Grove. \nThis special event will include:\n– Free chemical peels\n– Free gifts with any purchase — and just for attending!\n– 40–60% off select services\n– A raffle prize basket worth $600 \nIt’s a great opportunity for the community to discover top-tier skincare treatments and take advantage of exclusive event-day specials. \nPhone: 847 967 0707 \nwww.sonobellaclinic.com
URL:https://usadesavanja.com/event/spring-beauty-event-sono-bella-clinic-chicago-aptil-12-2025/
LOCATION:Sono Bella Clinic\, 5920 Dempster St\, Morton Grove\, IL 60053\, Morton Grove\, IL\, 60053\, United States
CATEGORIES:Illinois
ATTACH;FMTTYPE=image/png:https://usadesavanja.com/wp-content/uploads/2025/04/SONO-BELLA.png
END:VEVENT
BEGIN:VEVENT
DTSTART;VALUE=DATE:20250412
DTEND;VALUE=DATE:20250413
DTSTAMP:20260422T064003
CREATED:20250402T173606Z
LAST-MODIFIED:20250402T173606Z
UID:15801-1744416000-1744502399@usadesavanja.com
SUMMARY:LAZAREVA SUBOTA // CRKVA SV. STEFANA DECANSKOG // CHICAGO // APRIL 12. 2025.
DESCRIPTION:Crkva Sveti Stefan Dečanski iz Čikaga Vas poziva da zajedno obeležite Lazarevu subotu kroz molitvu\, druženje i zabavne aktivnosti za najmlađe! \nDatum: Subota\, 12. april 2025.Vreme: 10:00 – 16:00Cena: $25 po detetuUzrast: 4 – 11 godina (predškolci do šestog razreda)Lokacija: 3543 W Leland Ave\, Chicago\, IL 60625 \nProgram obuhvata:– Sveta Liturgija sa vrbicom– Ručak i druženje– Veronauka– Umetnost i zanati– Čas muzike– Lov na blago \nPrijavite se OVDE \nDođite da zajedno proslavimo ovaj važan dan i učinimo ga nezaboravnim za naše najmlađe!
URL:https://usadesavanja.com/event/lazareva-subota-crkva-sv-stefana-decanskog-chicago-april-12-2025/
LOCATION:Crkva Sv. Stefana Decanskog (Chicago)\, 3543 W Leland Ave.\, Chicago\, IL\, 60625\, United States
CATEGORIES:Illinois
ATTACH;FMTTYPE=image/jpeg:https://usadesavanja.com/wp-content/uploads/2025/04/lazareva-subota-1068x602-1.jpg
END:VEVENT
BEGIN:VEVENT
DTSTART;VALUE=DATE:20250412
DTEND;VALUE=DATE:20250413
DTSTAMP:20260422T064003
CREATED:20250402T170433Z
LAST-MODIFIED:20250402T170433Z
UID:15790-1744416000-1744502399@usadesavanja.com
SUMMARY:KAFANSKA NOC // BISTRO BANQUET // ST LOUIS // APRIL 12. 2025.
DESCRIPTION:Bistro Banquet Vas poziva na Kafansku noć! \nSubota\, 18. januar od 21h. Nastupaju: Exclusive Live Band feat. Danka i Ernes\, Podrška: DJ Bake \nUlaz $30 \nŽelimo Vam odličan provod!
URL:https://usadesavanja.com/event/kafanska-noc-bistro-banquet-st-louis-april-12-2025/
LOCATION:Bistro Banquet Hall\, 5209 Gravois Ave\, St. Louis\, MO\, St. Louis\, MO\, 63116\, United States
CATEGORIES:Missouri
ATTACH;FMTTYPE=image/png:https://usadesavanja.com/wp-content/uploads/2024/08/danka-gajic-new24.png
END:VEVENT
BEGIN:VEVENT
DTSTART;VALUE=DATE:20250412
DTEND;VALUE=DATE:20250413
DTSTAMP:20260422T064003
CREATED:20250331T132228Z
LAST-MODIFIED:20250407T144118Z
UID:15785-1744416000-1744502399@usadesavanja.com
SUMMARY:IVANA PILJA\, MILOS KALCA & MILE // RESTORAN ZORA // CHICAGO // APRIL 12. 2025.
DESCRIPTION:Etno restoran Zora Vas srdačno poziva da budete njihovi gosti! \nU subotu\, 12. aprila od 21h očekuje Vas sjajna svirka! \nNastupaju: Ivana Pillja\, Miloš Kalča i Mile Vujnović \nInfo: 773 625 7087 \nŽelimo Vam odličan provod!
URL:https://usadesavanja.com/event/dajana-milos-kalca-mile-restoran-zora-chicago-april-12-2025/
LOCATION:Restoran Zora\, 8445 W Lawrence Ave\, Chicago\, IL\, Chicago\, IL\, /adresar/etno-restoran-zora\, United States
CATEGORIES:Illinois,Restorani
ATTACH;FMTTYPE=image/png:https://usadesavanja.com/wp-content/uploads/2025/01/IVANA-PILJA-MILOS-KALCA-I-MILE.png
END:VEVENT
BEGIN:VEVENT
DTSTART;VALUE=DATE:20250412
DTEND;VALUE=DATE:20250413
DTSTAMP:20260422T064003
CREATED:20250327T132742Z
LAST-MODIFIED:20250327T132742Z
UID:15768-1744416000-1744502399@usadesavanja.com
SUMMARY:SANDRA OSTOJIC // TITO'S CAFE // ST. PETERSBURG // APRIL 12. 2025.
DESCRIPTION:Tito’s Cafe Vas srdačno poziva da budete njihovi gosti! \nU subotu\, 12. aprila od 9PM\, očekuje Vas Balkan party night! \nNastupa: Sandra Ostojić \nŽelimo Vam odličan provod!
URL:https://usadesavanja.com/event/sandra-ostojic-titos-cafe-st-petersburg-april-12-2025/
LOCATION:Tito’s Cafe\, 6514 4th St N\, Saint Petersburg\, FL\, 33702\, United States
CATEGORIES:Florida
ATTACH;FMTTYPE=image/jpeg:https://usadesavanja.com/wp-content/uploads/2025/03/mic-live-music-freepik-67.jpg
END:VEVENT
BEGIN:VEVENT
DTSTART;VALUE=DATE:20250412
DTEND;VALUE=DATE:20250413
DTSTAMP:20260422T064003
CREATED:20250325T155634Z
LAST-MODIFIED:20250325T155634Z
UID:15754-1744416000-1744502399@usadesavanja.com
SUMMARY:SERBIAN NIGHT // GALERIA // CHICAGO // APRIL 12. 2025.
DESCRIPTION:Serbian Night Official Vas poziva na Serbian Night koji će se održati u subotu 12. aprila od 22-05h u klubu Galeria. (21+) \nInfo: 708 601 4399 // 708 655 2771 \nŽelimo Vam odličan provod!
URL:https://usadesavanja.com/event/serbian-night-galeria-chicago-april-12-2025/
LOCATION:Galeria Chicago\, 9 W Division St\, Chicago\, IL 60610\, Chicago\, IL\, United States
CATEGORIES:Illinois,Zurke
ATTACH;FMTTYPE=image/jpeg:https://usadesavanja.com/wp-content/uploads/2024/07/party-night-dkojh8.jpg
END:VEVENT
BEGIN:VEVENT
DTSTART;VALUE=DATE:20250412
DTEND;VALUE=DATE:20250413
DTSTAMP:20260422T064003
CREATED:20250324T203658Z
LAST-MODIFIED:20250324T203908Z
UID:15746-1744416000-1744502399@usadesavanja.com
SUMMARY:VASKRSNJA RADIONICA // CRKVA SVETOG NIKOLE // LYONS // APRIL 12. 2025.
DESCRIPTION:VASKRŠNJA RADIONICA – PRIJAVE U TOKU! \nPridružite nam se na kreativnoj i zabavnoj vaskršnjoj radionici za najmlađe! \nDatum: 12.04. i 13.04.Vreme: 10:00 – 13:00hLokacija: 4315 Joliet Ave\, Lyons \nProgram radionice:– Farbanje i ukrašavanje jaja– Egg hunt– Pravljenje venčića– Slikanje sa vaskršnjom temom– Face painting– Ručak i slobodna igra \nCene:OBA DANA: $80 jedno dete | $140 dvoje deceJEDAN DAN: $50 jedno dete | $80 dvoje dece \nPrijava je obavezna – mesta su ograničena!Prijavite se uplatom na Zelle 907 570 4834 i popunjavanjem upitnika. \nPrisustvo roditelja nije obavezno! \nVidimo se na proslavi punoj igre i kreativnosti!
URL:https://usadesavanja.com/event/vaskrsnja-radionica-crkva-svetog-nikole-lyons-april-12-2025/
LOCATION:Crkva Sv. Nikole (Lyons)\, 4315 Joliet Rd Lyons\, IL 60534\, Chicago\, IL\, 60534\, United States
CATEGORIES:Film,Illinois
ATTACH;FMTTYPE=image/png:https://usadesavanja.com/wp-content/uploads/2024/09/CRKVA-SV-NIKOLA-LYONS-IL.png
END:VEVENT
BEGIN:VEVENT
DTSTART;VALUE=DATE:20250412
DTEND;VALUE=DATE:20250413
DTSTAMP:20260422T064003
CREATED:20250324T195251Z
LAST-MODIFIED:20250402T163144Z
UID:15734-1744416000-1744502399@usadesavanja.com
SUMMARY:OTKAZANO!!! AMERIČKA PREMIJERA FILMA "SUNCE NIKAD VIŠE" // KULTURNI CENTAR NIKOLA TESLA // CHICAGO // APRIL 12. 2025.
DESCRIPTION:Ne propustite ekskluzivnu projekciju filma “Sunce nikad više” reditelja Davida Jovanovića! \nDatum: 12. aprilVreme: 20:00hLokacija: Kulturni centar Nikola Tesla\, pri crkvi Sv. NikolaAdresa: 4315 Joliet Ave\, Lyons \nUlaznice su u prodaji! Požurite\, broj mesta je ograničen!Kupite karte na: www.serbianfilmfest.com \nBudite deo nezaboravne filmske večeri!
URL:https://usadesavanja.com/event/americka-premijera-filma-sunce-nikad-vise-kulturni-centar-nikola-tesla-chicago-april-12-2025/
LOCATION:Kulturni centar Nikola Tesla\, 7939 43rd St\, Lyons\, IL\, Chicago\, IL\, 60534\, United States
CATEGORIES:Illinois,Pozoriste
ATTACH;FMTTYPE=image/jpeg:https://usadesavanja.com/wp-content/uploads/2025/03/Sunce-nikad-vise-svecana-premijera.jpg
END:VEVENT
BEGIN:VEVENT
DTSTART;VALUE=DATE:20250412
DTEND;VALUE=DATE:20250413
DTSTAMP:20260422T064003
CREATED:20250319T123338Z
LAST-MODIFIED:20250319T123338Z
UID:15714-1744416000-1744502399@usadesavanja.com
SUMMARY:RAJKO\, IVANA SALIPUR & GORAN // SKADARLIYA // CHICAGO // APRIL 12. 2025.
DESCRIPTION:Skadarliya Vas poziva na sjajnu svirku! \nSubota\, 12. april\, od 21h. Nastupaju: Rajko Paunović\, Ivana Šalipur i Goran Stanimirović \nInfo: 708 905 5919 \nŽelimo Vam odličan provod!
URL:https://usadesavanja.com/event/rajko-ivana-salipur-goran-skadarliya-chicago-april-12-2025/
LOCATION:Skadarliya\, 9237 West Ogden Ave\, Brookfield\, Chicago\, IL\, 60513\, United States
CATEGORIES:Illinois,Restorani
ATTACH;FMTTYPE=image/jpeg:https://usadesavanja.com/wp-content/uploads/2023/08/skadarliya-12.jpg
END:VEVENT
BEGIN:VEVENT
DTSTART;VALUE=DATE:20250412
DTEND;VALUE=DATE:20250413
DTSTAMP:20260422T064003
CREATED:20250317T223001Z
LAST-MODIFIED:20250317T223001Z
UID:15692-1744416000-1744502399@usadesavanja.com
SUMMARY:ENES BEGOVIC // AFTER BAR & GRILL // SAN JOSE // APRIL 12. 2025.
DESCRIPTION:After Bar & Grill Vas poziva na fenomenalan koncert. \nSubota\, 12. april od 20:30h. Nastupa: Enes Begović \nInfo: 510 229 0725 \nŽelimo Vam odličan provod!
URL:https://usadesavanja.com/event/enes-begovic-after-bar-grill-san-jose-april-12-2025/
LOCATION:After Bar & Grill\, 1692 Story Rd\, San Jose\, CA\, San Jose\, CA\, 95122\, United States
CATEGORIES:California,Koncerti
ATTACH;FMTTYPE=image/png:https://usadesavanja.com/wp-content/uploads/2025/03/enes-begovic-2-yt-ps-908675867.png
END:VEVENT
BEGIN:VEVENT
DTSTART;VALUE=DATE:20250412
DTEND;VALUE=DATE:20250413
DTSTAMP:20260422T064003
CREATED:20250218T172413Z
LAST-MODIFIED:20250218T172413Z
UID:15521-1744416000-1744502399@usadesavanja.com
SUMMARY:SEJLA ZONIC // CAFE MILANO // UTICA // APRIL 12. 2025.
DESCRIPTION:Balkan Sound Promotion i Cafe Milano Vas pozivaju 12. aprila od 20h na spektakularni koncert u Utici. \nZa Vas nastupa Šejla Zonić \nInfo i rezervacije: 315 269 8447 \nOrganizator: Balkan Sound Promotion \nŽelimo Vam odličan provod!
URL:https://usadesavanja.com/event/sejla-zonic-cafe-milano-utica-april-12-2025/
LOCATION:Cafe Milano\, 1711 Bleeker Street\, Utica\, NY\, 13501
CATEGORIES:Koncerti,New York
ATTACH;FMTTYPE=image/jpeg:https://usadesavanja.com/wp-content/uploads/2025/02/Sejla-Zonic-2.jpg
END:VEVENT
BEGIN:VEVENT
DTSTART;VALUE=DATE:20250411
DTEND;VALUE=DATE:20250412
DTSTAMP:20260422T064003
CREATED:20250331T131912Z
LAST-MODIFIED:20250331T131912Z
UID:15783-1744329600-1744415999@usadesavanja.com
SUMMARY:DANKA\, RAJKO & GORAN // RESTORAN ZORA // CHICAGO // APRIL 11. 2025.
DESCRIPTION:Etno restoran Zora Vas srdačno poziva da budete njihovi gosti! \nU petak\, 11. aprila od 21h očekuje Vas sjajna svirka! \nNastupaju: Danka Gajić\, Goran Stanimirović i Rajko Paunović \nInfo: 773 625 7087 \nŽelimo Vam odličan provod!
URL:https://usadesavanja.com/event/danka-rajko-goran-restoran-zora-chicago-april-11-2025/
LOCATION:Restoran Zora\, 8445 W Lawrence Ave\, Chicago\, IL\, Chicago\, IL\, /adresar/etno-restoran-zora\, United States
CATEGORIES:Illinois,Restorani
ATTACH;FMTTYPE=image/jpeg:https://usadesavanja.com/wp-content/uploads/2024/06/danka-gajic-zora-cd.jpg
END:VEVENT
BEGIN:VEVENT
DTSTART;VALUE=DATE:20250411
DTEND;VALUE=DATE:20250412
DTSTAMP:20260422T064003
CREATED:20250318T230557Z
LAST-MODIFIED:20250318T230557Z
UID:15704-1744329600-1744415999@usadesavanja.com
SUMMARY:SERBIAN GREEK PARTY // PELLA SIGNATURE // CHICAGO // APRIL 11. 2025.
DESCRIPTION:Pella Signature i The Crown Entertainment Vas pozivaju u petak 11. aprila od 9PM na Serbian Greek party. \nNastupaju: Sanja Grahovac i Iona Ligdas \nBroj mesta ograničen. Ulaz $25. \nInfo: 773 797 8000 \nŽelimo Vam odličan provod!
URL:https://usadesavanja.com/event/serbian-greek-party-pella-signature-chicago-april-11-2025/
LOCATION:Pella Signature\, 720 Village Center Dr\, Burr Ridge\, IL\, Chicago\, IL\, 60527\, United States
CATEGORIES:Illinois
ATTACH;FMTTYPE=image/jpeg:https://usadesavanja.com/wp-content/uploads/2025/02/i-CDvq8Ng-X2.jpg
END:VEVENT
END:VCALENDAR