BEGIN:VCALENDAR
VERSION:2.0
PRODID:-//USA Desavanja - ECPv6.15.17.1//NONSGML v1.0//EN
CALSCALE:GREGORIAN
METHOD:PUBLISH
X-WR-CALNAME:USA Desavanja
X-ORIGINAL-URL:https://usadesavanja.com
X-WR-CALDESC:Events for USA Desavanja
REFRESH-INTERVAL;VALUE=DURATION:PT1H
X-Robots-Tag:noindex
X-PUBLISHED-TTL:PT1H
BEGIN:VTIMEZONE
TZID:UTC
BEGIN:STANDARD
TZOFFSETFROM:+0000
TZOFFSETTO:+0000
TZNAME:UTC
DTSTART:20240101T000000
END:STANDARD
END:VTIMEZONE
BEGIN:VTIMEZONE
TZID:America/Chicago
BEGIN:DAYLIGHT
TZOFFSETFROM:-0600
TZOFFSETTO:-0500
TZNAME:CDT
DTSTART:20240310T080000
END:DAYLIGHT
BEGIN:STANDARD
TZOFFSETFROM:-0500
TZOFFSETTO:-0600
TZNAME:CST
DTSTART:20241103T070000
END:STANDARD
BEGIN:DAYLIGHT
TZOFFSETFROM:-0600
TZOFFSETTO:-0500
TZNAME:CDT
DTSTART:20250309T080000
END:DAYLIGHT
BEGIN:STANDARD
TZOFFSETFROM:-0500
TZOFFSETTO:-0600
TZNAME:CST
DTSTART:20251102T070000
END:STANDARD
BEGIN:DAYLIGHT
TZOFFSETFROM:-0600
TZOFFSETTO:-0500
TZNAME:CDT
DTSTART:20260308T080000
END:DAYLIGHT
BEGIN:STANDARD
TZOFFSETFROM:-0500
TZOFFSETTO:-0600
TZNAME:CST
DTSTART:20261101T070000
END:STANDARD
END:VTIMEZONE
BEGIN:VEVENT
DTSTART;VALUE=DATE:20250412
DTEND;VALUE=DATE:20250413
DTSTAMP:20260422T102701
CREATED:20250327T132742Z
LAST-MODIFIED:20250327T132742Z
UID:15768-1744416000-1744502399@usadesavanja.com
SUMMARY:SANDRA OSTOJIC // TITO'S CAFE // ST. PETERSBURG // APRIL 12. 2025.
DESCRIPTION:Tito’s Cafe Vas srdačno poziva da budete njihovi gosti! \nU subotu\, 12. aprila od 9PM\, očekuje Vas Balkan party night! \nNastupa: Sandra Ostojić \nŽelimo Vam odličan provod!
URL:https://usadesavanja.com/event/sandra-ostojic-titos-cafe-st-petersburg-april-12-2025/
LOCATION:Tito’s Cafe\, 6514 4th St N\, Saint Petersburg\, FL\, 33702\, United States
CATEGORIES:Florida
ATTACH;FMTTYPE=image/jpeg:https://usadesavanja.com/wp-content/uploads/2025/03/mic-live-music-freepik-67.jpg
END:VEVENT
BEGIN:VEVENT
DTSTART;VALUE=DATE:20250412
DTEND;VALUE=DATE:20250413
DTSTAMP:20260422T102701
CREATED:20250325T155634Z
LAST-MODIFIED:20250325T155634Z
UID:15754-1744416000-1744502399@usadesavanja.com
SUMMARY:SERBIAN NIGHT // GALERIA // CHICAGO // APRIL 12. 2025.
DESCRIPTION:Serbian Night Official Vas poziva na Serbian Night koji će se održati u subotu 12. aprila od 22-05h u klubu Galeria. (21+) \nInfo: 708 601 4399 // 708 655 2771 \nŽelimo Vam odličan provod!
URL:https://usadesavanja.com/event/serbian-night-galeria-chicago-april-12-2025/
LOCATION:Galeria Chicago\, 9 W Division St\, Chicago\, IL 60610\, Chicago\, IL\, United States
CATEGORIES:Illinois,Zurke
ATTACH;FMTTYPE=image/jpeg:https://usadesavanja.com/wp-content/uploads/2024/07/party-night-dkojh8.jpg
END:VEVENT
BEGIN:VEVENT
DTSTART;VALUE=DATE:20250412
DTEND;VALUE=DATE:20250413
DTSTAMP:20260422T102701
CREATED:20250324T203658Z
LAST-MODIFIED:20250324T203908Z
UID:15746-1744416000-1744502399@usadesavanja.com
SUMMARY:VASKRSNJA RADIONICA // CRKVA SVETOG NIKOLE // LYONS // APRIL 12. 2025.
DESCRIPTION:VASKRŠNJA RADIONICA – PRIJAVE U TOKU! \nPridružite nam se na kreativnoj i zabavnoj vaskršnjoj radionici za najmlađe! \nDatum: 12.04. i 13.04.Vreme: 10:00 – 13:00hLokacija: 4315 Joliet Ave\, Lyons \nProgram radionice:– Farbanje i ukrašavanje jaja– Egg hunt– Pravljenje venčića– Slikanje sa vaskršnjom temom– Face painting– Ručak i slobodna igra \nCene:OBA DANA: $80 jedno dete | $140 dvoje deceJEDAN DAN: $50 jedno dete | $80 dvoje dece \nPrijava je obavezna – mesta su ograničena!Prijavite se uplatom na Zelle 907 570 4834 i popunjavanjem upitnika. \nPrisustvo roditelja nije obavezno! \nVidimo se na proslavi punoj igre i kreativnosti!
URL:https://usadesavanja.com/event/vaskrsnja-radionica-crkva-svetog-nikole-lyons-april-12-2025/
LOCATION:Crkva Sv. Nikole (Lyons)\, 4315 Joliet Rd Lyons\, IL 60534\, Chicago\, IL\, 60534\, United States
CATEGORIES:Film,Illinois
ATTACH;FMTTYPE=image/png:https://usadesavanja.com/wp-content/uploads/2024/09/CRKVA-SV-NIKOLA-LYONS-IL.png
END:VEVENT
BEGIN:VEVENT
DTSTART;VALUE=DATE:20250412
DTEND;VALUE=DATE:20250413
DTSTAMP:20260422T102701
CREATED:20250324T195251Z
LAST-MODIFIED:20250402T163144Z
UID:15734-1744416000-1744502399@usadesavanja.com
SUMMARY:OTKAZANO!!! AMERIČKA PREMIJERA FILMA "SUNCE NIKAD VIŠE" // KULTURNI CENTAR NIKOLA TESLA // CHICAGO // APRIL 12. 2025.
DESCRIPTION:Ne propustite ekskluzivnu projekciju filma “Sunce nikad više” reditelja Davida Jovanovića! \nDatum: 12. aprilVreme: 20:00hLokacija: Kulturni centar Nikola Tesla\, pri crkvi Sv. NikolaAdresa: 4315 Joliet Ave\, Lyons \nUlaznice su u prodaji! Požurite\, broj mesta je ograničen!Kupite karte na: www.serbianfilmfest.com \nBudite deo nezaboravne filmske večeri!
URL:https://usadesavanja.com/event/americka-premijera-filma-sunce-nikad-vise-kulturni-centar-nikola-tesla-chicago-april-12-2025/
LOCATION:Kulturni centar Nikola Tesla\, 7939 43rd St\, Lyons\, IL\, Chicago\, IL\, 60534\, United States
CATEGORIES:Illinois,Pozoriste
ATTACH;FMTTYPE=image/jpeg:https://usadesavanja.com/wp-content/uploads/2025/03/Sunce-nikad-vise-svecana-premijera.jpg
END:VEVENT
BEGIN:VEVENT
DTSTART;VALUE=DATE:20250412
DTEND;VALUE=DATE:20250413
DTSTAMP:20260422T102701
CREATED:20250319T123338Z
LAST-MODIFIED:20250319T123338Z
UID:15714-1744416000-1744502399@usadesavanja.com
SUMMARY:RAJKO\, IVANA SALIPUR & GORAN // SKADARLIYA // CHICAGO // APRIL 12. 2025.
DESCRIPTION:Skadarliya Vas poziva na sjajnu svirku! \nSubota\, 12. april\, od 21h. Nastupaju: Rajko Paunović\, Ivana Šalipur i Goran Stanimirović \nInfo: 708 905 5919 \nŽelimo Vam odličan provod!
URL:https://usadesavanja.com/event/rajko-ivana-salipur-goran-skadarliya-chicago-april-12-2025/
LOCATION:Skadarliya\, 9237 West Ogden Ave\, Brookfield\, Chicago\, IL\, 60513\, United States
CATEGORIES:Illinois,Restorani
ATTACH;FMTTYPE=image/jpeg:https://usadesavanja.com/wp-content/uploads/2023/08/skadarliya-12.jpg
END:VEVENT
BEGIN:VEVENT
DTSTART;VALUE=DATE:20250412
DTEND;VALUE=DATE:20250413
DTSTAMP:20260422T102701
CREATED:20250317T223001Z
LAST-MODIFIED:20250317T223001Z
UID:15692-1744416000-1744502399@usadesavanja.com
SUMMARY:ENES BEGOVIC // AFTER BAR & GRILL // SAN JOSE // APRIL 12. 2025.
DESCRIPTION:After Bar & Grill Vas poziva na fenomenalan koncert. \nSubota\, 12. april od 20:30h. Nastupa: Enes Begović \nInfo: 510 229 0725 \nŽelimo Vam odličan provod!
URL:https://usadesavanja.com/event/enes-begovic-after-bar-grill-san-jose-april-12-2025/
LOCATION:After Bar & Grill\, 1692 Story Rd\, San Jose\, CA\, San Jose\, CA\, 95122\, United States
CATEGORIES:California,Koncerti
ATTACH;FMTTYPE=image/png:https://usadesavanja.com/wp-content/uploads/2025/03/enes-begovic-2-yt-ps-908675867.png
END:VEVENT
BEGIN:VEVENT
DTSTART;VALUE=DATE:20250412
DTEND;VALUE=DATE:20250413
DTSTAMP:20260422T102701
CREATED:20250218T172413Z
LAST-MODIFIED:20250218T172413Z
UID:15521-1744416000-1744502399@usadesavanja.com
SUMMARY:SEJLA ZONIC // CAFE MILANO // UTICA // APRIL 12. 2025.
DESCRIPTION:Balkan Sound Promotion i Cafe Milano Vas pozivaju 12. aprila od 20h na spektakularni koncert u Utici. \nZa Vas nastupa Šejla Zonić \nInfo i rezervacije: 315 269 8447 \nOrganizator: Balkan Sound Promotion \nŽelimo Vam odličan provod!
URL:https://usadesavanja.com/event/sejla-zonic-cafe-milano-utica-april-12-2025/
LOCATION:Cafe Milano\, 1711 Bleeker Street\, Utica\, NY\, 13501
CATEGORIES:Koncerti,New York
ATTACH;FMTTYPE=image/jpeg:https://usadesavanja.com/wp-content/uploads/2025/02/Sejla-Zonic-2.jpg
END:VEVENT
BEGIN:VEVENT
DTSTART;VALUE=DATE:20250411
DTEND;VALUE=DATE:20250412
DTSTAMP:20260422T102701
CREATED:20250331T131912Z
LAST-MODIFIED:20250331T131912Z
UID:15783-1744329600-1744415999@usadesavanja.com
SUMMARY:DANKA\, RAJKO & GORAN // RESTORAN ZORA // CHICAGO // APRIL 11. 2025.
DESCRIPTION:Etno restoran Zora Vas srdačno poziva da budete njihovi gosti! \nU petak\, 11. aprila od 21h očekuje Vas sjajna svirka! \nNastupaju: Danka Gajić\, Goran Stanimirović i Rajko Paunović \nInfo: 773 625 7087 \nŽelimo Vam odličan provod!
URL:https://usadesavanja.com/event/danka-rajko-goran-restoran-zora-chicago-april-11-2025/
LOCATION:Restoran Zora\, 8445 W Lawrence Ave\, Chicago\, IL\, Chicago\, IL\, /adresar/etno-restoran-zora\, United States
CATEGORIES:Illinois,Restorani
ATTACH;FMTTYPE=image/jpeg:https://usadesavanja.com/wp-content/uploads/2024/06/danka-gajic-zora-cd.jpg
END:VEVENT
BEGIN:VEVENT
DTSTART;VALUE=DATE:20250411
DTEND;VALUE=DATE:20250412
DTSTAMP:20260422T102701
CREATED:20250318T230557Z
LAST-MODIFIED:20250318T230557Z
UID:15704-1744329600-1744415999@usadesavanja.com
SUMMARY:SERBIAN GREEK PARTY // PELLA SIGNATURE // CHICAGO // APRIL 11. 2025.
DESCRIPTION:Pella Signature i The Crown Entertainment Vas pozivaju u petak 11. aprila od 9PM na Serbian Greek party. \nNastupaju: Sanja Grahovac i Iona Ligdas \nBroj mesta ograničen. Ulaz $25. \nInfo: 773 797 8000 \nŽelimo Vam odličan provod!
URL:https://usadesavanja.com/event/serbian-greek-party-pella-signature-chicago-april-11-2025/
LOCATION:Pella Signature\, 720 Village Center Dr\, Burr Ridge\, IL\, Chicago\, IL\, 60527\, United States
CATEGORIES:Illinois
ATTACH;FMTTYPE=image/jpeg:https://usadesavanja.com/wp-content/uploads/2025/02/i-CDvq8Ng-X2.jpg
END:VEVENT
BEGIN:VEVENT
DTSTART;VALUE=DATE:20250411
DTEND;VALUE=DATE:20250412
DTSTAMP:20260422T102701
CREATED:20250317T224024Z
LAST-MODIFIED:20250317T224024Z
UID:15694-1744329600-1744415999@usadesavanja.com
SUMMARY:ENES BEGOVIC // CB LIVE // PHOENIX // APRIL 11. 2025.
DESCRIPTION:CB Live Vas poziva na fenomenalan koncert. \nPetak\, 11. april od 20:30h. Nastupa: Enes Begović \nInfo: 480 433 5505 \nŽelimo Vam odličan provod!
URL:https://usadesavanja.com/event/enes-begovic-cb-live-phoenix-april-11-2025/
LOCATION:CB Live Desert Ridge\, 21001 N Tatum Blvd\, Phoenix\, AZ\, Phoenix\, AZ\, 85050\, United States
CATEGORIES:Arizona,Koncerti
ATTACH;FMTTYPE=image/jpeg:https://usadesavanja.com/wp-content/uploads/2025/02/enes-begovic-gur76ew56e6r7t8ziou.jpeg
END:VEVENT
BEGIN:VEVENT
DTSTART;VALUE=DATE:20250411
DTEND;VALUE=DATE:20250412
DTSTAMP:20260422T102701
CREATED:20250221T175509Z
LAST-MODIFIED:20250221T175509Z
UID:15532-1744329600-1744415999@usadesavanja.com
SUMMARY:SEJLA ZONIC // JAX EVENTS & LOUNGE // JACKSONVILLE // APRIL 11. 2025.
DESCRIPTION:Balkan Sound Promotion i Cafe Milano Vas pozivaju 11. aprila od 20h na spektakularan koncert. \nZa Vas nastupa Šejla Zonić \nOrganizator: Balkan Sound Promotion \nInformacije: 904 866 2732 \nŽelimo Vam odličan provod!
URL:https://usadesavanja.com/event/sejla-zonic-jax-events-lounge-jacksonville-april-11-2025/
LOCATION:Jax Events And Lounge\, 9750 Deer Lake Ct\, Jacksonville\, FL\, Jacksonville\, FL\, 32246\, United States
CATEGORIES:Florida
ATTACH;FMTTYPE=image/jpeg:https://usadesavanja.com/wp-content/uploads/2025/02/Sejla-Zonic-2.jpg
END:VEVENT
BEGIN:VEVENT
DTSTART;VALUE=DATE:20250405
DTEND;VALUE=DATE:20250406
DTSTAMP:20260422T102701
CREATED:20250403T170658Z
LAST-MODIFIED:20250403T170658Z
UID:15807-1743811200-1743897599@usadesavanja.com
SUMMARY:ACOUSTIC NIGHT // COMPASS ARENA // CHICAGO // APRIL 05. 2025.
DESCRIPTION:Compass Arena Vas pozivaju na veče akustične muzike! \nVlada Dinić & Bojan Vasilić \nSubota\, 5. april od 18h \nInfo: 630 523 9933 \nŽelimo Vam odličan provod!
URL:https://usadesavanja.com/event/acoustic-night-compass-arena-chicago-april-05-2025/
LOCATION:Compass Arena\, 625 Joliet Rd\, Willowbrook\, Chicago\, IL\, /adresar/compass-arena\, United States
CATEGORIES:Illinois
ATTACH;FMTTYPE=image/png:https://usadesavanja.com/wp-content/uploads/2024/11/bojan-vasilic-2024-11.png
END:VEVENT
BEGIN:VEVENT
DTSTART;VALUE=DATE:20250405
DTEND;VALUE=DATE:20250406
DTSTAMP:20260422T102701
CREATED:20250331T131544Z
LAST-MODIFIED:20250331T131544Z
UID:15781-1743811200-1743897599@usadesavanja.com
SUMMARY:PLAY BAND // RESTORAN ZORA // CHICAGO // APRIL 05. 2025.
DESCRIPTION:Etno restoran Zora Vas srdačno poziva da budete njihovi gosti! \nU subotu\, 5. aprila od 21h očekuje Vas sjajna svirka! \nNastupaju: Play Band (Danka\, Rajko i Mile) \nInfo: 773 625 7087 \nŽelimo Vam odličan provod!
URL:https://usadesavanja.com/event/play-band-restoran-zora-chicago-april-05-2025/
LOCATION:Restoran Zora\, 8445 W Lawrence Ave\, Chicago\, IL\, Chicago\, IL\, /adresar/etno-restoran-zora\, United States
CATEGORIES:Illinois,Restorani
ATTACH;FMTTYPE=image/jpeg:https://usadesavanja.com/wp-content/uploads/2023/03/play-band-new.jpg
END:VEVENT
BEGIN:VEVENT
DTSTART;VALUE=DATE:20250405
DTEND;VALUE=DATE:20250406
DTSTAMP:20260422T102701
CREATED:20250319T123131Z
LAST-MODIFIED:20250319T123131Z
UID:15712-1743811200-1743897599@usadesavanja.com
SUMMARY:LJUBA\, IVANA SALIPUR & GORAN // SKADARLIYA // CHICAGO // APRIL 05. 2025.
DESCRIPTION:Skadarliya Vas poziva na sjajnu svirku! \nSubota\, 5. april\, od 21h. Nastupaju: Ljuba Zarić\, Ivana Šalipur i Goran Stanimirović \nInfo: 708 905 5919 \nŽelimo Vam odličan provod!
URL:https://usadesavanja.com/event/ljuba-ivana-salipur-goran-skadarliya-chicago-april-05-2025/
LOCATION:Skadarliya\, 9237 West Ogden Ave\, Brookfield\, Chicago\, IL\, 60513\, United States
CATEGORIES:Illinois,Restorani
ATTACH;FMTTYPE=image/png:https://usadesavanja.com/wp-content/uploads/2024/06/skadarliya-new-logo.png
END:VEVENT
BEGIN:VEVENT
DTSTART;VALUE=DATE:20250405
DTEND;VALUE=DATE:20250406
DTSTAMP:20260422T102701
CREATED:20250316T175728Z
LAST-MODIFIED:20250317T133430Z
UID:15659-1743811200-1743897599@usadesavanja.com
SUMMARY:URBAN BAND // 220 VENUE // CHICAGO // APRIL 05. 2025.
DESCRIPTION:220 Venue Vas poziva na fenomenalnu svirku! \nSubota 5. april\, od 21h\, Urban Bend. \nInfo: 773 677 0247 \nŽelimo Vam odličan provod! \n 
URL:https://usadesavanja.com/event/urban-band-220-venue-chicago-april-05-2025/
LOCATION:Club 220\, 7021 W Higgins Ave\, Chicago\, IL\, Chicago\, IL\, 60656\, United States
CATEGORIES:Illinois
ATTACH;FMTTYPE=image/png:https://usadesavanja.com/wp-content/uploads/2025/03/urban-band-960-x-450-px.png
END:VEVENT
BEGIN:VEVENT
DTSTART;VALUE=DATE:20250405
DTEND;VALUE=DATE:20250406
DTSTAMP:20260422T102701
CREATED:20250211T190004Z
LAST-MODIFIED:20250211T190004Z
UID:15467-1743811200-1743897599@usadesavanja.com
SUMMARY:SEJLA ZONIC (VIP CONCERT) // IMPERIA LOUNGE // CHICAGO // APRIL 05. 2025.
DESCRIPTION:Imperia Lounge i Balkan Sound Promotion Vas pozivaju na veče sevdaha\, narodnjaka i meraka. \nSubota 5. april. Nastupa: Šejla Zonić \nInfo i rezervacije: 312 731 8708 \nŽelimo Vam odličan provod!
URL:https://usadesavanja.com/event/sejla-zonic-vip-concert-imperia-lounge-chicago-april-05-2025/
LOCATION:Imperia Lounge\, 2610 W Peterson Ave\, Chicago\, IL\, Chicago\, IL\, 60659\, United States
CATEGORIES:Illinois
ATTACH;FMTTYPE=image/jpeg:https://usadesavanja.com/wp-content/uploads/2025/02/Sejla-Zonic-2.jpg
END:VEVENT
BEGIN:VEVENT
DTSTART;VALUE=DATE:20250404
DTEND;VALUE=DATE:20250405
DTSTAMP:20260422T102701
CREATED:20250402T171239Z
LAST-MODIFIED:20250402T171239Z
UID:15792-1743724800-1743811199@usadesavanja.com
SUMMARY:SANJA\, LJUBA\, MILE & DJ HITMAN // PLAYBOOK // CHICAGO // APRIL 04. 2025.
DESCRIPTION:Playbook Vas poziva u petak 4. aprila od 10PM na fenomenalnu svirku. \nNastupaju: Sanja rahovac\, Ljuba Zarić i Mile Vujnović. Podrška: DJ Hitman \nInfo: 847 588 7529 \nŽelimo Vam odličan provod!
URL:https://usadesavanja.com/event/sanja-ljuba-mile-dj-hitman-playbook-chicago-april-04-2025/
LOCATION:Playbook\, 6913 N Milwaukee Ave\, Niles\, IL\, Niles\, IL\, 60714\, United States
CATEGORIES:Illinois
ATTACH;FMTTYPE=image/jpeg:https://usadesavanja.com/wp-content/uploads/2022/08/ljuba-sanja.jpg
END:VEVENT
BEGIN:VEVENT
DTSTART;VALUE=DATE:20250404
DTEND;VALUE=DATE:20250405
DTSTAMP:20260422T102701
CREATED:20250331T131316Z
LAST-MODIFIED:20250331T131316Z
UID:15779-1743724800-1743811199@usadesavanja.com
SUMMARY:IVANA PILJA\, MILOS KALCA & GORAN // RESTORAN ZORA // CHICAGO // APRIL 04. 2025.
DESCRIPTION:Etno restoran Zora Vas srdačno poziva da budete njihovi gosti! \nU petak\, 4. aprila od 21h očekuje Vas sjajna svirka! \nNastupaju: Ivana Pilja\, Goran Stanimirović i Miloš Kalča \nInfo: 773 625 7087 \nŽelimo Vam odličan provod!
URL:https://usadesavanja.com/event/ivana-pilja-milos-kalca-goran-restoran-zora-chicago-april-04-2025/
LOCATION:Restoran Zora\, 8445 W Lawrence Ave\, Chicago\, IL\, Chicago\, IL\, /adresar/etno-restoran-zora\, United States
CATEGORIES:Illinois,Restorani
ATTACH;FMTTYPE=image/jpeg:https://usadesavanja.com/wp-content/uploads/2024/07/kalca-i-ivana-pilja.jpg
END:VEVENT
BEGIN:VEVENT
DTSTART;VALUE=DATE:20250404
DTEND;VALUE=DATE:20250405
DTSTAMP:20260422T102701
CREATED:20250313T144831Z
LAST-MODIFIED:20250313T144831Z
UID:15652-1743724800-1743811199@usadesavanja.com
SUMMARY:LATIN DANCE PARTY // COMPASS ARENA // CHICAGO // APRIL 04. 2025.
DESCRIPTION:Compass Arena Vas poziva na spektakularnu Latin Dance Party! Očekuje vas veče ispunjeno strašću\, ritmom i neverovatnom energijom! \nDatum: Petak\, 4. aprilLokacija: Compass Arena\, Premier Lounge\, 625 Joliet Rd\, Willowbrook\, ILDJ: ImperialFlo \nProgram:20:00 – 21:00 – Početni čas Salse i Bachate sa Zoranom21:00 – Počinje LATIN PARTY uz DJ-a ImperialFlo \nUlaz: $20 \nZa više informacija pozovite: 630 677 7946 \nNe propustite priliku za nezaboravnu plesnu avanturu!
URL:https://usadesavanja.com/event/latin-dance-party-compass-arena-chicago-april-04-2025/
LOCATION:Compass Arena\, 625 Joliet Rd\, Willowbrook\, Chicago\, IL\, /adresar/compass-arena\, United States
CATEGORIES:Illinois
ATTACH;FMTTYPE=image/jpeg:https://usadesavanja.com/wp-content/uploads/2025/03/ballroom-1039371_1280.jpg
END:VEVENT
BEGIN:VEVENT
DTSTART;VALUE=DATE:20250404
DTEND;VALUE=DATE:20250405
DTSTAMP:20260422T102701
CREATED:20250218T171746Z
LAST-MODIFIED:20250218T171926Z
UID:15518-1743724800-1743811199@usadesavanja.com
SUMMARY:SEJLA ZONIC // COON RAPIDS VFW // MINNEAPOLIS // APRIL 04. 2025.
DESCRIPTION:Coon Rapids VFW i Balkan Sound Promotion Vas pozivaju na veče sevdaha\, narodnjaka i meraka. \nPetak 4. april. Nastupa: Šejla Zonić \nInfo i rezervacije: 763 670 5712 \nŽelimo Vam odličan provod! amerika
URL:https://usadesavanja.com/event/sejla-zonic-coon-rapids-vfw-minneapolis-april-04-2025/
LOCATION:Coon Rapids VFW Post 9625\, 1919 Coon Rapids Blvd NW\, Coon Rapids\, MN 55433\, Minneapolis\, MN\, 55433\, United States
CATEGORIES:Koncerti,Minnesota
ATTACH;FMTTYPE=image/jpeg:https://usadesavanja.com/wp-content/uploads/2025/02/Sejla-Zonic-2.jpg
END:VEVENT
BEGIN:VEVENT
DTSTART;VALUE=DATE:20250329
DTEND;VALUE=DATE:20250330
DTSTAMP:20260422T102701
CREATED:20250328T132105Z
LAST-MODIFIED:20250328T132105Z
UID:15773-1743206400-1743292799@usadesavanja.com
SUMMARY:SKUP PODRSKE SRPSKIM STUDENTIMA // MILLENNIUM PARK // CHICAGO // MART 29. 2025.
DESCRIPTION:Pridružite se skupu podrške srpskim studentima koji već mesecima izražavaju svoje stavove kroz proteste i blokade. \nDatum: Subota\, 29. mart 2025.Vreme: 11:30AMLokacija: Millennium park\, Virgley Square\n \nKako možete učestvovati? \n– Prisustvom izrazite solidarnost sa studentima.– Ponesite kreativne postere – poruke mogu biti i na engleskom.– Petnaestominutnim ćutanjem odajmo počast onima koji su pogođeni događajima zbog kojih studenti protestuju. \nNapomena: \nOkupljanje je isključivo mirnog karaktera\, bez političkih obeležja\, govora mržnje ili poziva na nasilje. \nCilj je da se podrži studentski pokret u njihovim zahtevima kroz dostojanstven i konstruktivan način izražavanja. \nDođite i budite deo zajedničke podrške!
URL:https://usadesavanja.com/event/skup-podrske-srpskim-studentima-millennium-park-chicago-mart-29-2025/
LOCATION:Millennium Park\, 201 E Randolph St\, Chicago\, IL\, Chicago\, IL\, 60602\, United States
CATEGORIES:Illinois
ATTACH;FMTTYPE=image/jpeg:https://usadesavanja.com/wp-content/uploads/2025/03/SERBIA-stefan-kostic-M4335F5Cog0-unsplash.jpg
END:VEVENT
BEGIN:VEVENT
DTSTART;VALUE=DATE:20250329
DTEND;VALUE=DATE:20250330
DTSTAMP:20260422T102701
CREATED:20250317T144230Z
LAST-MODIFIED:20250317T144230Z
UID:15673-1743206400-1743292799@usadesavanja.com
SUMMARY:SPRING FLING BALKAN NIGHT // BODEGA // CHICAGO // MART 29. 2025.
DESCRIPTION:Najluđa Balkan žurka u Čikagu stiže u subotu\, 29. marta. \nSpremite se za nezaboravnu noć uz najbolje hitove i vrhunsku atmosferu! \nMUZIKA: DJ BOOM & DJ DEXLOKACIJA: Bodega\, 355 N Clark StVREME: 22:00DAME ULAZE BESPLATNO! \nUlaznice možete kupiti OVDE \nRezervacije & Info:773 789 7375
URL:https://usadesavanja.com/event/spring-fling-balkan-night-bodega-chicago-mart-29-2025/
LOCATION:Bodega Nightclub\, 353 North Clark\, 65 W Kinzie St\, Chicago\, IL\, Chicago\, IL\, 60654\, United States
CATEGORIES:Illinois
ATTACH;FMTTYPE=image/jpeg:https://usadesavanja.com/wp-content/uploads/2021/01/dj-set-up.jpg
END:VEVENT
BEGIN:VEVENT
DTSTART;VALUE=DATE:20250329
DTEND;VALUE=DATE:20250330
DTSTAMP:20260422T102701
CREATED:20250221T193739Z
LAST-MODIFIED:20250324T114828Z
UID:15564-1743206400-1743292799@usadesavanja.com
SUMMARY:IVANA PILJA & MARKO // RESTORAN ZORA // CHICAGO // MART 29. 2025.
DESCRIPTION:Etno restoran Zora Vas srdačno poziva da budete njihovi gosti! \nU subotu\, 29. marta od 21h očekuje Vas sjajna svirka! \nNastupaju: Ivana Pilja i Marko \nInfo: 773 625 7087 \nŽelimo Vam odličan provod!
URL:https://usadesavanja.com/event/ivana-pilja-milos-kalca-restoran-zora-chicago-mart-29-2025/
LOCATION:Restoran Zora\, 8445 W Lawrence Ave\, Chicago\, IL\, Chicago\, IL\, /adresar/etno-restoran-zora\, United States
CATEGORIES:Illinois,Restorani
ATTACH;FMTTYPE=image/jpeg:https://usadesavanja.com/wp-content/uploads/2021/09/zora-3.jpg
END:VEVENT
BEGIN:VEVENT
DTSTART;VALUE=DATE:20250329
DTEND;VALUE=DATE:20250330
DTSTAMP:20260422T102701
CREATED:20250218T152227Z
LAST-MODIFIED:20250312T190954Z
UID:15503-1743206400-1743292799@usadesavanja.com
SUMMARY:LJUBA\, IVANA SALIPUR & SANEL // SKADARLIYA // CHICAGO // MART 29. 2025.
DESCRIPTION:Skadarliya Vas poziva na sjajnu svirku! \nSubota\, 29. mart\, od 21h. Nastupaju: Ljuba Zarić\, Ivana Šalipur i Sanel Bajrami \nBesplatan ulaz! \nInfo: 708 905 5919 \nŽelimo Vam odličan provod!
URL:https://usadesavanja.com/event/ivana-pilja-rajko-sanel-skadarliya-chicago-mart-22-2025/
LOCATION:Skadarliya\, 9237 West Ogden Ave\, Brookfield\, Chicago\, IL\, 60513\, United States
CATEGORIES:Illinois,Restorani
ATTACH;FMTTYPE=image/jpeg:https://usadesavanja.com/wp-content/uploads/2022/07/ljuba-zaric-22.jpg
END:VEVENT
BEGIN:VEVENT
DTSTART;VALUE=DATE:20250328
DTEND;VALUE=DATE:20250329
DTSTAMP:20260422T102701
CREATED:20250327T131230Z
LAST-MODIFIED:20250327T131230Z
UID:15766-1743120000-1743206399@usadesavanja.com
SUMMARY:MATIJA & DANIJELA // SRPSKI KLUB // NEW YORK // MART 28. 2025.
DESCRIPTION:Srpski Klub Vas poziva na odličnu svirku! \nU petak 28. marta od 8PM – Muzika uživo\, nastupaju: Matija Blagojević i Danijela Veselinović \nUlaz $25 – Besplatna večera \nInfo: 718 821 9875 \nŽelimo Vam da se odlično provedete!
URL:https://usadesavanja.com/event/matija-danijela-srpski-klub-new-york-mart-28-2025/
LOCATION:Srpski Klub New York\, 7254 65th Pl\, Queens\, NY\, New York\, NY\, 11385\, United States
CATEGORIES:New York
ATTACH;FMTTYPE=image/jpeg:https://usadesavanja.com/wp-content/uploads/2024/05/microphone-1080052_1280.jpg
END:VEVENT
BEGIN:VEVENT
DTSTART;VALUE=DATE:20250328
DTEND;VALUE=DATE:20250329
DTSTAMP:20260422T102701
CREATED:20250326T121524Z
LAST-MODIFIED:20250326T121817Z
UID:15761-1743120000-1743206399@usadesavanja.com
SUMMARY:VLADA DINIC & CRISTINA CROITORU // COMPASS ARENA // CHICAGO // MART 28. 2025.
DESCRIPTION:Compass Arena Vas poziva u petak 28. marta od 5PM na odličnu svirku! \nNastupaju: Vlada Dinić & Cristina Croitoru \nInfo: 630 523 9933 \nŽelimo Vam odličan provod!
URL:https://usadesavanja.com/event/vlada-dinic-cristina-croitoru-compass-arena-chicago-mart-28-2025/
LOCATION:Compass Arena\, 625 Joliet Rd\, Willowbrook\, Chicago\, IL\, /adresar/compass-arena\, United States
CATEGORIES:Illinois
ATTACH;FMTTYPE=image/jpeg:https://usadesavanja.com/wp-content/uploads/2025/03/cristina-vlada-hu.jpg
END:VEVENT
BEGIN:VEVENT
DTSTART;VALUE=DATE:20250328
DTEND;VALUE=DATE:20250329
DTSTAMP:20260422T102701
CREATED:20250321T191008Z
LAST-MODIFIED:20250321T191008Z
UID:15728-1743120000-1743206399@usadesavanja.com
SUMMARY:RADE SERBEDZIJA // IRISH AMERICAN HERITAGE CENTER // CHICAGO // MART 28. 2025.
DESCRIPTION:Legenda glume i muzike\, Rade Šerbedžija\, dolazi u Ameriku sa svojim nezaboravnim koncertnim nastupima! \nChicago – 28. martIrish American Heritage CenterAdresa: 4626 North Knox Avenue\, Chicago\, IL \nNew York – 27. martBoston – 30. mart \nNe propustite priliku da uživate u jedinstvenoj večeri poezije\, muzike i emocija koje donosi ovaj veliki umetnik!
URL:https://usadesavanja.com/event/rade-serbedzija-irish-american-heritage-center-chicago-mart-28-2025/
LOCATION:Irish American Heritage Center\, 4626 N Knox Ave\, Chicago\, IL\, Chicago\, IL\, 60630\, United States
CATEGORIES:Illinois
ATTACH;FMTTYPE=image/png:https://usadesavanja.com/wp-content/uploads/2025/03/rade-serbedzija-ps.png
END:VEVENT
BEGIN:VEVENT
DTSTART;VALUE=DATE:20250328
DTEND;VALUE=DATE:20250329
DTSTAMP:20260422T102701
CREATED:20250221T193459Z
LAST-MODIFIED:20250326T115932Z
UID:15562-1743120000-1743206399@usadesavanja.com
SUMMARY:IVANA PILJA & MILOS KALCA // RESTORAN ZORA // CHICAGO // MART 28. 2025.
DESCRIPTION:Etno restoran Zora Vas srdačno poziva da budete njihovi gosti! \nU petak\, 28. marta od 21h očekuje Vas sjajna svirka! \nNastupaju: Ivana Pilja i Miloš Kalča \nInfo: 773 625 7087 \nŽelimo Vam odličan provod!
URL:https://usadesavanja.com/event/danka-gajic-ljuba-zaric-restoran-zora-chicago-mart-22-2025-2/
LOCATION:Restoran Zora\, 8445 W Lawrence Ave\, Chicago\, IL\, Chicago\, IL\, /adresar/etno-restoran-zora\, United States
CATEGORIES:Illinois,Restorani
ATTACH;FMTTYPE=image/jpeg:https://usadesavanja.com/wp-content/uploads/2024/07/kalca-i-ivana-pilja.jpg
END:VEVENT
BEGIN:VEVENT
DTSTART;VALUE=DATE:20250323
DTEND;VALUE=DATE:20250324
DTSTAMP:20260422T102701
CREATED:20250319T122356Z
LAST-MODIFIED:20250319T122544Z
UID:15709-1742688000-1742774399@usadesavanja.com
SUMMARY:VECE POEZIJE I BOEMA // SKADARLIYA // CHICAGO // MART 23. 2025.
DESCRIPTION:Skadarliya Vas poziva na veče poezije i boema! \nNedelja\, 23. mart\, od 20h. Nastupaju: Ivana Pilja i Stefan Jevtović \nInfo: 708 905 5919 \nŽelimo Vam odličan provod!
URL:https://usadesavanja.com/event/vece-poezije-i-boema-skadarliya-chicago-mart-23-2025/
LOCATION:Skadarliya\, 9237 West Ogden Ave\, Brookfield\, Chicago\, IL\, 60513\, United States
CATEGORIES:Illinois,Restorani
ATTACH;FMTTYPE=image/png:https://usadesavanja.com/wp-content/uploads/2025/03/ivana-pilja-i-stefan-jevtovic.png
END:VEVENT
BEGIN:VEVENT
DTSTART;VALUE=DATE:20250322
DTEND;VALUE=DATE:20250323
DTSTAMP:20260422T102701
CREATED:20250318T181146Z
LAST-MODIFIED:20250318T181146Z
UID:15702-1742601600-1742687999@usadesavanja.com
SUMMARY:IVANA PILJA & RAJKO PAUNOVIC // SKADARLIYA // CHICAGO // MART 22. 2025.
DESCRIPTION:Skadarliya Vas poziva na sjajnu svirku! \nSubota\, 22. mart\, od 21h. Nastupaju: Ivana Pilja i Rajko Paunović \nInfo: 708 905 5919 \nŽelimo Vam odličan provod!
URL:https://usadesavanja.com/event/ivana-pilja-rajko-paunovic-skadarliya-chicago-mart-22-2025/
LOCATION:Skadarliya\, 9237 West Ogden Ave\, Brookfield\, Chicago\, IL\, 60513\, United States
CATEGORIES:Illinois,Restorani
ATTACH;FMTTYPE=image/png:https://usadesavanja.com/wp-content/uploads/2025/02/ivana-pilja-i-rajko-johigu.png
END:VEVENT
END:VCALENDAR