BEGIN:VCALENDAR
VERSION:2.0
PRODID:-//USA Desavanja - ECPv6.15.17.1//NONSGML v1.0//EN
CALSCALE:GREGORIAN
METHOD:PUBLISH
X-WR-CALNAME:USA Desavanja
X-ORIGINAL-URL:https://usadesavanja.com
X-WR-CALDESC:Events for USA Desavanja
REFRESH-INTERVAL;VALUE=DURATION:PT1H
X-Robots-Tag:noindex
X-PUBLISHED-TTL:PT1H
BEGIN:VTIMEZONE
TZID:America/Chicago
BEGIN:DAYLIGHT
TZOFFSETFROM:-0600
TZOFFSETTO:-0500
TZNAME:CDT
DTSTART:20240310T080000
END:DAYLIGHT
BEGIN:STANDARD
TZOFFSETFROM:-0500
TZOFFSETTO:-0600
TZNAME:CST
DTSTART:20241103T070000
END:STANDARD
BEGIN:DAYLIGHT
TZOFFSETFROM:-0600
TZOFFSETTO:-0500
TZNAME:CDT
DTSTART:20250309T080000
END:DAYLIGHT
BEGIN:STANDARD
TZOFFSETFROM:-0500
TZOFFSETTO:-0600
TZNAME:CST
DTSTART:20251102T070000
END:STANDARD
BEGIN:DAYLIGHT
TZOFFSETFROM:-0600
TZOFFSETTO:-0500
TZNAME:CDT
DTSTART:20260308T080000
END:DAYLIGHT
BEGIN:STANDARD
TZOFFSETFROM:-0500
TZOFFSETTO:-0600
TZNAME:CST
DTSTART:20261101T070000
END:STANDARD
END:VTIMEZONE
BEGIN:VTIMEZONE
TZID:UTC
BEGIN:STANDARD
TZOFFSETFROM:+0000
TZOFFSETTO:+0000
TZNAME:UTC
DTSTART:20240101T000000
END:STANDARD
END:VTIMEZONE
BEGIN:VEVENT
DTSTART;VALUE=DATE:20250228
DTEND;VALUE=DATE:20250301
DTSTAMP:20260422T211007
CREATED:20250218T160206Z
LAST-MODIFIED:20250218T160206Z
UID:15509-1740700800-1740787199@usadesavanja.com
SUMMARY:DRAGANA\, ANTONIO\, VLADA & MILE // PELLA SIGNATURE // CHICAGO // FEBRUAR 28. 2025.
DESCRIPTION:Pella Signature Vas poziva u petak 28. februara od 9PM na fenomenalnu svirku. \nNastupaju: Dragana Rakčević\, Antonio Taševski\, Vlada Dinić i Mile Vujnović \nInfo: 773 275 4187 \nŽelimo Vam odličan provod!
URL:https://usadesavanja.com/event/dragana-antonio-vlada-mile-pella-signature-chicago-februar-28-2025/
LOCATION:Pella Signature\, 720 Village Center Dr\, Burr Ridge\, IL\, Chicago\, IL\, 60527\, United States
CATEGORIES:Illinois
ATTACH;FMTTYPE=image/jpeg:https://usadesavanja.com/wp-content/uploads/2023/12/dragana-090.jpg
END:VEVENT
BEGIN:VEVENT
DTSTART;VALUE=DATE:20250228
DTEND;VALUE=DATE:20250301
DTSTAMP:20260422T211007
CREATED:20241221T113724Z
LAST-MODIFIED:20250218T151326Z
UID:15045-1740700800-1740787199@usadesavanja.com
SUMMARY:IVANA PILJA & RAJKO // RESTORAN ZORA // CHICAGO // FEBRUAR 28. 2025.
DESCRIPTION:Etno restoran Zora Vas srdačno poziva da budete njihovi gosti! \nU petak\, 28. februara očekuje Vas sjajna svirka! \nNastupa: Ivana Pilja i Rajko Paunović \nInfo: 773 625 7087 \nŽelimo Vam odličan provod!
URL:https://usadesavanja.com/event/ivana-pilja-ljuba-restoran-zora-chicago-februar-28-2025/
LOCATION:Restoran Zora\, 8445 W Lawrence Ave\, Chicago\, IL\, Chicago\, IL\, /adresar/etno-restoran-zora\, United States
CATEGORIES:Illinois,Restorani
ATTACH;FMTTYPE=image/jpeg:https://usadesavanja.com/wp-content/uploads/2021/02/zora-restoran.jpg
END:VEVENT
BEGIN:VEVENT
DTSTART;VALUE=DATE:20250228
DTEND;VALUE=DATE:20250301
DTSTAMP:20260422T211007
CREATED:20250220T184322Z
LAST-MODIFIED:20250220T184322Z
UID:15528-1740700800-1740787199@usadesavanja.com
SUMMARY:FATHER-DAUGHTER DANCE // ST. SAVA ACADEMY // CHICAGO // FEBRUAR 28. 2025.
DESCRIPTION:St. Sava Academy Vas poziva na Father-Daughter Dance\, posebno veče plesa i druženja za očeve i ćerke! \nDatum: Petak\, 28. februar 2025.Vreme: 18:00 – 20:00Lokacija: St. Sava Academy Gym\, 5650 N Canfield\, Chicago\, IL \nCena:$20 po ocu$10 po ćerkiVečera je uključena u cenu! \nPridružite nam se za nezaboravno veče ispunjeno muzikom\, plesom i posebnim trenucima između očeva i ćerki!
URL:https://usadesavanja.com/event/father-daughter-dance-st-sava-academy-chicago-februar-28-2025/
LOCATION:St. Sava Academy Illinois\, 5701 N Redwood Dr\, Chicago\, IL 60631\, Chicago\, IL\, 60631\, United States
CATEGORIES:Illinois
ATTACH;FMTTYPE=image/jpeg:https://usadesavanja.com/wp-content/uploads/2025/02/kid-5141333_1280.jpg
END:VEVENT
BEGIN:VEVENT
DTSTART;VALUE=DATE:20250225
DTEND;VALUE=DATE:20250226
DTSTAMP:20260422T211007
CREATED:20250211T194953Z
LAST-MODIFIED:20250226T174319Z
UID:15471-1740441600-1740527999@usadesavanja.com
SUMMARY:DALLAS MAVERICKS - LA LAKERS // COMPASS ARENA // CHICAGO // FEBRUAR 25. 2025.
DESCRIPTION:Compass Arena Vas poziva na organizovano gledanje utakmice NBA lige. \nUtorak 25. februar od 9PM\, Dallas Maverics – LA Lakers \nŽelimo Vam odličan sportski provod!
URL:https://usadesavanja.com/event/dallas-mavericks-la-lakers-compass-arena-chicago-februar-26-2025/
LOCATION:Compass Arena\, 625 Joliet Rd\, Willowbrook\, Chicago\, IL\, /adresar/compass-arena\, United States
CATEGORIES:Illinois,Sport
ATTACH;FMTTYPE=image/png:https://usadesavanja.com/wp-content/uploads/2025/02/Screenshot_20250211_200505jh.png
END:VEVENT
BEGIN:VEVENT
DTSTART;VALUE=DATE:20250223
DTEND;VALUE=DATE:20250224
DTSTAMP:20260422T211007
CREATED:20250221T180618Z
LAST-MODIFIED:20250221T180618Z
UID:15536-1740268800-1740355199@usadesavanja.com
SUMMARY:MALA SRBIJADA // CRKVA SV. SAVE // MILWAUKEE // FEBRUAR 23. 2025.
DESCRIPTION:Crkva Sv. Save Vas poziva na Malu Srbijadu od 21. do 23. februara na imanju crkve. \nOčekuje Vas bogat zabavni proggram i muzika uživo. Nastupaju: Jasmina i Saša \nŽelimo Vam odličan provod!
URL:https://usadesavanja.com/event/mala-srbijada-crkva-sv-save-milwaukee-februar-23-2025/
LOCATION:Crkva Sv. Save (Milwaukee)\, 3201 S 51st St.\, Milwaukee\, WI\, 53219\, United States
CATEGORIES:Sport,Wisconsin
ATTACH;FMTTYPE=image/jpeg:https://usadesavanja.com/wp-content/uploads/2022/11/sale-jasmina-new.jpg
END:VEVENT
BEGIN:VEVENT
DTSTART;VALUE=DATE:20250222
DTEND;VALUE=DATE:20250223
DTSTAMP:20260422T211007
CREATED:20250221T222706Z
LAST-MODIFIED:20250221T222706Z
UID:15569-1740182400-1740268799@usadesavanja.com
SUMMARY:VECITI DERBI // COMPASS ARENA // CHICAGO // FEBRUAR 22. 2025.
DESCRIPTION:Compass ArenaVas poziva na organizovano gledanje 175. Večitog derbija. \nSubota 22. februar od 9AM\, Crvena Zvezda – Partizan  \nŽelimo Vam odličan sportski provod!
URL:https://usadesavanja.com/event/veciti-derbi-compass-arena-chicago-februar-22-2025/
LOCATION:Compass Arena\, 625 Joliet Rd\, Willowbrook\, Chicago\, IL\, /adresar/compass-arena\, United States
CATEGORIES:Illinois,Sport
ATTACH;FMTTYPE=image/jpeg:https://usadesavanja.com/wp-content/uploads/2025/02/jihgufz.jpg
END:VEVENT
BEGIN:VEVENT
DTSTART;VALUE=DATE:20250222
DTEND;VALUE=DATE:20250223
DTSTAMP:20260422T211007
CREATED:20250221T191632Z
LAST-MODIFIED:20250221T191632Z
UID:15547-1740182400-1740268799@usadesavanja.com
SUMMARY:VECITI DERBI // RESTORAN ZORA // CHICAGO // FEBRUAR 22. 2025.
DESCRIPTION:Restoran Zora Vas poziva na organizovano gledanje 175. Večitog derbija. \nSubota 22. februar od 9AM\, Crvena Zvezda – Partizan \nŽelimo Vam odličan sportski provod!
URL:https://usadesavanja.com/event/veciti-derbi-restoran-zora-chicago-februar-22-2025/
LOCATION:Restoran Zora\, 8445 W Lawrence Ave\, Chicago\, IL\, Chicago\, IL\, /adresar/etno-restoran-zora\, United States
CATEGORIES:Illinois,Sport
ATTACH;FMTTYPE=image/png:https://usadesavanja.com/wp-content/uploads/2025/02/hgzf.png
END:VEVENT
BEGIN:VEVENT
DTSTART;VALUE=DATE:20250222
DTEND;VALUE=DATE:20250223
DTSTAMP:20260422T211007
CREATED:20250221T184044Z
LAST-MODIFIED:20250221T184044Z
UID:15541-1740182400-1740268799@usadesavanja.com
SUMMARY:MATINE (DAVID HAGENOW) // COMPASS ARENA // CHICAGO // FEBRUAR 22. 2025.
DESCRIPTION:Compass Arena (Fair play) Vas poziva u subotu 22. februara od 5PM na matine. \nNastupa: David Hagenow \nInfo: 630 523 9933 \nŽelimo Vam odličan provod! \n 
URL:https://usadesavanja.com/event/matine-david-hagenow-compass-arena-chicago-februar-22-2025/
LOCATION:Compass Arena\, 625 Joliet Rd\, Willowbrook\, Chicago\, IL\, /adresar/compass-arena\, United States
CATEGORIES:Illinois
ATTACH;FMTTYPE=image/png:https://usadesavanja.com/wp-content/uploads/2025/02/IMG-a2b6ac3ac3c3fd44d46352c3353c89b7-Vkhjf.png
END:VEVENT
BEGIN:VEVENT
DTSTART;VALUE=DATE:20250222
DTEND;VALUE=DATE:20250223
DTSTAMP:20260422T211007
CREATED:20250214T170710Z
LAST-MODIFIED:20250214T170710Z
UID:15492-1740182400-1740268799@usadesavanja.com
SUMMARY:COLLAPSE BAND // ROYAL BALLROOM // ATLANTA // FEBRUAR 22. 2025.
DESCRIPTION:Royal Ballroom Vas poziva na fenomenalnu svirku. \nSubota 22. februar od 20:30h. Nastupa: Collapse band \nInformacije: 780 743 5234 \nŽelimo Vam odličan provod!
URL:https://usadesavanja.com/event/collapse-band-royal-ballroom-atlanta-februar-22-2025/
LOCATION:Royal Ballroom\, 6185 Buford Hwy c2\, Peachtree Corners\, Atlanta\, GA\, 30071\, United States
CATEGORIES:Utah
ATTACH;FMTTYPE=image/png:https://usadesavanja.com/wp-content/uploads/2025/01/collapse-band-usa-25.png
END:VEVENT
BEGIN:VEVENT
DTSTART;VALUE=DATE:20250222
DTEND;VALUE=DATE:20250223
DTSTAMP:20260422T211007
CREATED:20250214T162640Z
LAST-MODIFIED:20250214T162640Z
UID:15484-1740182400-1740268799@usadesavanja.com
SUMMARY:SANJA\, RAJKO & NIKOLA // SKADARLIYA // CHICAGO // FEBRUAR 22. 2025.
DESCRIPTION:Skadarliya Vas poziva na sjajnu svirku! \nSubota\, 22. februar\, od 21h. Nastupaju: Sanja Grahovac\, Rajko Paunović i Nikola Prvulović \nBesplatan ulaz! \nInfo: 708 905 5919 \nŽelimo Vam odličan provod!
URL:https://usadesavanja.com/event/sanja-rajko-nikola-skadarliya-chicago-februar-22-2025/
LOCATION:Skadarliya\, 9237 West Ogden Ave\, Brookfield\, Chicago\, IL\, 60513\, United States
CATEGORIES:Illinois,Restorani
ATTACH;FMTTYPE=image/png:https://usadesavanja.com/wp-content/uploads/2024/06/skadarliya-new-logo.png
END:VEVENT
BEGIN:VEVENT
DTSTART;VALUE=DATE:20250222
DTEND;VALUE=DATE:20250223
DTSTAMP:20260422T211007
CREATED:20250203T182606Z
LAST-MODIFIED:20250203T182606Z
UID:15393-1740182400-1740268799@usadesavanja.com
SUMMARY:PREMIJERA FILMA "PRVA KLASA\, PUN GAS" // KC NIKOLA TESLA // LYONS // FEBRUAR 22. 2025.
DESCRIPTION:Najgledaniji srpski film prošle 2024. godine “Prva klasa – pun gas” imaće svoju američku premijeru 22.februara od 7pm u Čikagu u sali crkve Svetog Nikole u Lyonsu! \nGlavne uloge u ovoj romantičnoj komediji sa puno akcije tumače Rade Ćosić\, Nenad Jezdić\, Miodrag Radonjić\, Ljubomir Bandović\, Andrija Milošević\, Hristina Popović\, a specijalni gost je Darko Perić\, koga naša ali i svetska publka zna iz španskog serijala Casa de Papel (Money Heist). \nKarte možete kupiti ovde. \nDobrodošli!
URL:https://usadesavanja.com/event/premijera-filma-prva-klasa-pun-gas-kc-nikola-tesla-lyons-februar-22-2025/
LOCATION:Crkva Sv. Nikole (Lyons)\, 4315 Joliet Rd Lyons\, IL 60534\, Chicago\, IL\, 60534\, United States
CATEGORIES:Film,Illinois
ATTACH;FMTTYPE=image/jpeg:https://usadesavanja.com/wp-content/uploads/2025/02/film-prva-klasa.jpg
END:VEVENT
BEGIN:VEVENT
DTSTART;VALUE=DATE:20250222
DTEND;VALUE=DATE:20250223
DTSTAMP:20260422T211007
CREATED:20241221T113902Z
LAST-MODIFIED:20241221T113902Z
UID:15047-1740182400-1740268799@usadesavanja.com
SUMMARY:IVANA PILJA & LJUBA // RESTORAN ZORA // CHICAGO // FEBRUAR 22. 2025.
DESCRIPTION:Etno restoran Zora Vas srdačno poziva da budete njihovi gosti! \nU subotu\, 22. februara očekuje Vas sjajna svirka! \nNastupaju: Ivana Pilja i Ljuba Zarić \nInfo: 773 625 7087 \nŽelimo Vam odličan provod!
URL:https://usadesavanja.com/event/ivana-pilja-ljuba-restoran-zora-chicago-februar-22-2025/
LOCATION:Restoran Zora\, 8445 W Lawrence Ave\, Chicago\, IL\, Chicago\, IL\, /adresar/etno-restoran-zora\, United States
CATEGORIES:Illinois,Restorani
ATTACH;FMTTYPE=image/jpeg:https://usadesavanja.com/wp-content/uploads/2022/02/zora-restoran-33.jpg
END:VEVENT
BEGIN:VEVENT
DTSTART;VALUE=DATE:20250221
DTEND;VALUE=DATE:20250222
DTSTAMP:20260422T211007
CREATED:20250221T180526Z
LAST-MODIFIED:20250221T180526Z
UID:15534-1740096000-1740182399@usadesavanja.com
SUMMARY:MALA SRBIJADA // CRKVA SV. SAVE // MILWAUKEE // FEBRUAR 21. 2025.
DESCRIPTION:Crkva Sv. Save Vas poziva na Malu Srbijadu od 21. do 23. februara na imanju crkve. \nOčekuje Vas bogat zabavni proggram i muzika uživo. Nastupaju: Jasmina i Saša \nŽelimo Vam odličan provod!
URL:https://usadesavanja.com/event/mala-srbijada-crkva-sv-save-milwaukee-februar-21-2025/
LOCATION:Crkva Sv. Save (Milwaukee)\, 3201 S 51st St.\, Milwaukee\, WI\, 53219\, United States
CATEGORIES:Sport,Wisconsin
ATTACH;FMTTYPE=image/jpeg:https://usadesavanja.com/wp-content/uploads/2022/11/sale-jasmina-new.jpg
END:VEVENT
BEGIN:VEVENT
DTSTART;VALUE=DATE:20250221
DTEND;VALUE=DATE:20250222
DTSTAMP:20260422T211007
CREATED:20250218T120224Z
LAST-MODIFIED:20250218T120224Z
UID:15495-1740096000-1740182399@usadesavanja.com
SUMMARY:DANKA & RAJKO // RESTORAN ZORA // CHICAGO // FEBRUAR 21. 2025.
DESCRIPTION:Etno restoran Zora Vas srdačno poziva da budete njihovi gosti! \nU petak\, 21. februara od 21h očekuje Vas sjajna svirka! \nNastupaju: Danka Gajić i Rajko Paunović \nInfo: 773 625 7087 \nŽelimo Vam odličan provod!
URL:https://usadesavanja.com/event/danka-rajko-restoran-zora-chicago-februar-21-2025/
LOCATION:Restoran Zora\, 8445 W Lawrence Ave\, Chicago\, IL\, Chicago\, IL\, /adresar/etno-restoran-zora\, United States
CATEGORIES:Illinois,Restorani
ATTACH;FMTTYPE=image/jpeg:https://usadesavanja.com/wp-content/uploads/2024/06/danka-gajic-zora-cd.jpg
END:VEVENT
BEGIN:VEVENT
DTSTART;VALUE=DATE:20250221
DTEND;VALUE=DATE:20250222
DTSTAMP:20260422T211007
CREATED:20250214T165532Z
LAST-MODIFIED:20250214T165746Z
UID:15489-1740096000-1740182399@usadesavanja.com
SUMMARY:COLLAPSE BAND // JAX EVENTS & LOUNGE // JACKSONVILLE // FEBRUAR 21. 2025.
DESCRIPTION:Jex Events & Lounge Vas poziva na fenomenalnu svirku. \nPetak 21. februar od 20:30h. Nastupa: Collapse band \nInformacije: 904 866 2732 \nŽelimo Vam odličan provod!
URL:https://usadesavanja.com/event/collapse-band-jax-events-lounge-jacksonville-septembar-17-2023/
LOCATION:Jax Events And Lounge\, 9750 Deer Lake Ct\, Jacksonville\, FL\, Jacksonville\, FL\, 32246\, United States
CATEGORIES:Florida
ATTACH;FMTTYPE=image/png:https://usadesavanja.com/wp-content/uploads/2025/01/collapse-band-usa-25.png
END:VEVENT
BEGIN:VEVENT
DTSTART;VALUE=DATE:20250221
DTEND;VALUE=DATE:20250222
DTSTAMP:20260422T211007
CREATED:20250212T143004Z
LAST-MODIFIED:20250212T143004Z
UID:15477-1740096000-1740182399@usadesavanja.com
SUMMARY:SANJA\, GORAN & DJ SPAZ // PLAYBOOK // CHICAGO // FEBRUAR 21. 2025.
DESCRIPTION:Playbook Vas poziva u petak 21. februara od 10PM na fenomenalnu žurku! \nNastupaju: Sanja Grahovac\, Goran Stanimirović i DJ Spaz \nInfo: 847 588 7529 \nŽelimo Vam odličan provod!
URL:https://usadesavanja.com/event/sanja-goran-dj-spaz-playbook-chicago-februar-21-2025/
LOCATION:Playbook\, 6913 N Milwaukee Ave\, Niles\, IL\, Niles\, IL\, 60714\, United States
CATEGORIES:Illinois
ATTACH;FMTTYPE=image/jpeg:https://usadesavanja.com/wp-content/uploads/2024/06/sanja-grahovac-new-2024.jpg
END:VEVENT
BEGIN:VEVENT
DTSTART;VALUE=DATE:20250221
DTEND;VALUE=DATE:20250222
DTSTAMP:20260422T211007
CREATED:20250211T181516Z
LAST-MODIFIED:20250211T182653Z
UID:15458-1740096000-1740182399@usadesavanja.com
SUMMARY:BILJANA & SANEL // IMPERIA LOUNGE // CHICAGO // FEBRUAR 21. 2025.
DESCRIPTION:Imperia Lounge Vas poziva na odličnu svirku. \nPetak 21. februar\, od 9PM . Nastupa: Biljana Đorđević i Sanel Bajrami \nInfo i rezervacije: 872 302 4164\, sms: 312 731 8708 \nŽelimo Vam odličan provod!
URL:https://usadesavanja.com/event/biljana-sanel-imperia-lounge-chicago-februar-21-2025/
LOCATION:Imperia Lounge\, 2610 W Peterson Ave\, Chicago\, IL\, Chicago\, IL\, 60659\, United States
CATEGORIES:Illinois
ATTACH;FMTTYPE=image/jpeg:https://usadesavanja.com/wp-content/uploads/2021/08/bilja-acoustic.jpg
END:VEVENT
BEGIN:VEVENT
DTSTART;VALUE=DATE:20250221
DTEND;VALUE=DATE:20250222
DTSTAMP:20260422T211007
CREATED:20250122T143736Z
LAST-MODIFIED:20250211T175634Z
UID:15321-1740096000-1740182399@usadesavanja.com
SUMMARY:OTKAZANO!!! DARKO LAZIC // CHICAGO // FEBRUAR 21. 2025.
DESCRIPTION:Darko Lazić\, 21. februar\, Čikago. \nViše informacija uskoro…
URL:https://usadesavanja.com/event/darko-lazic-chicago-februar-21-2025/
LOCATION:Chicago\, Chicago\, IL\, Chicago\, IL\, United States
CATEGORIES:Illinois
ATTACH;FMTTYPE=image/jpeg:https://usadesavanja.com/wp-content/uploads/2024/01/darko-lazic.jpg
END:VEVENT
BEGIN:VEVENT
DTSTART;VALUE=DATE:20250221
DTEND;VALUE=DATE:20250222
DTSTAMP:20260422T211007
CREATED:20250205T214701Z
LAST-MODIFIED:20250218T164018Z
UID:15428-1740096000-1740182399@usadesavanja.com
SUMMARY:DRAGANA\, LJUBA & MILE // STEFAN GRILL // CHICAGO // FEBRUAR 21. 2025.
DESCRIPTION:Stefan Grill Vas poziva u petak 21. februara na fenomenalnu svirku. \nNastupaju: Dragana Rakčević\, Ljuba Zarić i Mile Vujnović \nInfo: 708 579 0621 \nŽelimo Vam odličan provod!
URL:https://usadesavanja.com/event/dragana-rakcevic-mile-vujnovic-stefan-grill-chicago-februar-21-2025/
LOCATION:Stefan Grill\, 7101 Santa Fe Dr\, Hodgkins\, IL\, Chicago\, IL\, 60525\, United States
CATEGORIES:Illinois
ATTACH;FMTTYPE=image/jpeg:https://usadesavanja.com/wp-content/uploads/2023/09/dragana-rakcevic-01.jpg
END:VEVENT
BEGIN:VEVENT
DTSTART;VALUE=DATE:20250216
DTEND;VALUE=DATE:20250217
DTSTAMP:20260422T211007
CREATED:20250110T223931Z
LAST-MODIFIED:20250114T195606Z
UID:15225-1739664000-1739750399@usadesavanja.com
SUMMARY:DONATORSKO VECE // CRKVA SV. NIKOLE // LYONS // FEBRUAR 16. 2025.
DESCRIPTION:Pridružite nam se na zabavnoj večeri uz hranu\, živu muziku\, ples i piće. \nFebruar\, 16. 2025. Crkva Sv. Nikole u Lyonsu. \nLink za donaciju možete pronaći ovde. \nSav prihod kao i donacija prikupljena te večeri ići će u Punta Canu kako bi se zavrsila prva Pravoslavna Crkva na Karibima. \n \n  \n 
URL:https://usadesavanja.com/event/donatorsko-vece-crkva-sv-nikole-lyons-februar-16-2025/
LOCATION:Crkva Sv. Nikole (Joliet Ave\, Lyons)\, 4315 Joliet Ave\, Lyons\, IL 60534\, Chicago\, IL\, 60534\, United States
CATEGORIES:Illinois
ATTACH;FMTTYPE=image/jpeg:https://usadesavanja.com/wp-content/uploads/2025/01/nova-crkva-dominikana.jpg
END:VEVENT
BEGIN:VEVENT
DTSTART;VALUE=DATE:20250216
DTEND;VALUE=DATE:20250217
DTSTAMP:20260422T211007
CREATED:20241230T192524Z
LAST-MODIFIED:20250109T183330Z
UID:15139-1739664000-1739750399@usadesavanja.com
SUMMARY:MINI SRBIJADA // CRKVA SV. SIMEON MIROTOCIVI // LAS VEGAS // FEBRUAR 16. 2025.
DESCRIPTION:Mini Srbijada 25 u Las Vegasu! \nDatum: 14–16. februar 2025.\nLokacija: St. Simeon Mirotočivi\, 3950 S. Jones Blvd\, Las Vegas. \nRaspored utakmica: \n\nPetak\, 14. februar: 19:00–23:00\nSubota\, 15. februar: 09:00–23:00\nNedelja\, 16. februar: 11:00–18:00\n\nSveta liturgija: Nedelja\, 10:00–11:00 \nKotizacija: $200 po ekipi.\nRok za prijavu: 8. februar 2025.\nZa prijavu ekipa: 702 355 8827 \nNagrade: \n\nOpen: $1000\nOver 30: $600\nOver 50: $400\n\nMuzički program: \n\nPetak: Dragana Jović & DJ Maja\, 20:00\nSubota: DJ Maja\, 17:00\n\nAfter Party: \n\nLokacija: Cafe Derby\nSubota: 23:00\nUlaz: $20\n\nDođite da uživamo u sportu\, muzici i druženju!
URL:https://usadesavanja.com/event/mini-srbijada-crkva-sv-simeon-mirotocivi-las-vegas-februar-16-2025/
LOCATION:Crkva Sv. Simeona (Las Vegas)\, 3950 S Jones Blvd.\, Las Vegas\, NV\, 89103\, United States
CATEGORIES:Nevada
ATTACH;FMTTYPE=image/png:https://usadesavanja.com/wp-content/uploads/2024/12/IMG-30b569b3ff6cd36276026e2c0fbf60a2-VNKJHJ.png
END:VEVENT
BEGIN:VEVENT
DTSTART;VALUE=DATE:20250215
DTEND;VALUE=DATE:20250216
DTSTAMP:20260422T211007
CREATED:20250211T195846Z
LAST-MODIFIED:20250211T195846Z
UID:15474-1739577600-1739663999@usadesavanja.com
SUMMARY:DRUGI VINO FEST // CRKVA SV. STEFANA DECANSKOG // CHICAGO // FEBRUAR 15. 2025.
DESCRIPTION:Sabor Krajiških Srba vas poziva na 2. Vino Fest 2025\, koji će se održati 15. februara 2025. godine u 17:00 časova u Sali Srpske Pravoslavne Crkve Sveti Stefan Dečanski (3543 W. Leland Ave\, Chicago\, IL 60625). \nProgram uključuje:\n– Degustaciju vina\n– Ocenjivanje vina\n– Dodelu priznanja za najbolja vina\n– Svečanu večeru \nGoste će zabavljati Joca\, Dule i Tanja bend \nUlaz je slobodan\, a donacije humanitarnom fondu Sabora su dobrodošle. Besplatan parking obezbeđen je na školskom parkingu u blizini hrama. \nZa više informacija: 773 814 4123 ili krajiskisrbi@gmail.com \nDobrodošli na nezaboravno veče vina\, muzike i druženja!
URL:https://usadesavanja.com/event/drugi-vino-fest-crkva-sv-stefana-decanskog-chicago-februar-15-2025/
LOCATION:Crkva Sv. Stefana Decanskog (Chicago)\, 3543 W Leland Ave.\, Chicago\, IL\, 60625\, United States
CATEGORIES:Illinois
ATTACH;FMTTYPE=image/jpeg:https://usadesavanja.com/wp-content/uploads/2024/11/wine-791133_1280.jpg
END:VEVENT
BEGIN:VEVENT
DTSTART;VALUE=DATE:20250215
DTEND;VALUE=DATE:20250216
DTSTAMP:20260422T211007
CREATED:20250211T183421Z
LAST-MODIFIED:20250211T183421Z
UID:15461-1739577600-1739663999@usadesavanja.com
SUMMARY:SRETENJE // SRPSKA BRATSKA POMOC // CHICAGO // FEBRUAR 15. 2024.
DESCRIPTION:Srpska Bratska Pomoć Vas poziva u subotu 15. februara na proslavu krsne slave – Sretenje 2025! \nDomaćin slave Ljubo i Rada Perić sa porodicom.
URL:https://usadesavanja.com/event/sretenje-srpska-bratska-pomoc-chicago-februar-15-2024/
LOCATION:Srpska Bratska Pomoc\, 19697 W Grand Ave\, Lake Villa\, IL\, Chicago\, IL\, 60046\, United States
CATEGORIES:Illinois
ATTACH;FMTTYPE=image/jpeg:https://usadesavanja.com/wp-content/uploads/2021/12/bratska-pomoc-cikago.jpg
END:VEVENT
BEGIN:VEVENT
DTSTART;VALUE=DATE:20250215
DTEND;VALUE=DATE:20250216
DTSTAMP:20260422T211007
CREATED:20250211T180233Z
LAST-MODIFIED:20250211T182622Z
UID:15451-1739577600-1739663999@usadesavanja.com
SUMMARY:IVANA PILJA & RAJKO // RESTORAN ZORA // CHICAGO // FEBRUAR 15. 2025.
DESCRIPTION:Etno restoran Zora Vas srdačno poziva da budete njihovi gosti! \nU subotu\, 15. februara od 21h očekuje Vas sjajna svirka! \nNastupaju: Ivana Pilja i Rajko Paunović \nInfo: 773 625 7087 \nŽelimo Vam odličan provod!
URL:https://usadesavanja.com/event/ivana-pilja-rajko-restoran-zora-chicago-februar-15-2025/
LOCATION:Restoran Zora\, 8445 W Lawrence Ave\, Chicago\, IL\, Chicago\, IL\, /adresar/etno-restoran-zora\, United States
CATEGORIES:Illinois,Restorani
ATTACH;FMTTYPE=image/png:https://usadesavanja.com/wp-content/uploads/2025/02/ivana-pilja-i-rajko-johigu.png
END:VEVENT
BEGIN:VEVENT
DTSTART;VALUE=DATE:20250215
DTEND;VALUE=DATE:20250216
DTSTAMP:20260422T211007
CREATED:20250207T153522Z
LAST-MODIFIED:20250207T153522Z
UID:15441-1739577600-1739663999@usadesavanja.com
SUMMARY:VECE TAMBURASA // IMPERIA LOUNGE // CHICAGO // FEBRUAR 15. 2025.
DESCRIPTION:Imperia Lounge Vas poziva na odličnu svirku. \nSubota 15. februar\, od 9PM . Nastupa: Tamburica House Band \nInfo i rezervacije: 872 302 4164\, sms: 312 731 8708 \nŽelimo Vam odličan provod!
URL:https://usadesavanja.com/event/vece-tamburasa-imperia-lounge-chicago-februar-15-2025/
LOCATION:Imperia Lounge\, 2610 W Peterson Ave\, Chicago\, IL\, Chicago\, IL\, 60659\, United States
CATEGORIES:Illinois
ATTACH;FMTTYPE=image/jpeg:https://usadesavanja.com/wp-content/uploads/2024/01/tamburica-haus-bend.jpg
END:VEVENT
BEGIN:VEVENT
DTSTART;VALUE=DATE:20250215
DTEND;VALUE=DATE:20250216
DTSTAMP:20260422T211007
CREATED:20250205T215538Z
LAST-MODIFIED:20250205T215538Z
UID:15430-1739577600-1739663999@usadesavanja.com
SUMMARY:NIKOLA PRVULOVIC & IVANA SALIPUR // SKADARLIYA // CHICAGO // FEBRUAR 15. 2025.
DESCRIPTION:Skadarliya Vas poziva na sjajnu svirku! \nSubota\, 15. februar\, od 21h. Nastupaju: Nikola Prvulović i Ivana Šalipur \nBesplatan ulaz! \nInfo: 708 905 5919 \nŽelimo Vam odličan provod!
URL:https://usadesavanja.com/event/nikola-prvulovic-ivana-salipur-skadarliya-chicago-februar-15-2025/
LOCATION:Skadarliya\, 9237 West Ogden Ave\, Brookfield\, Chicago\, IL\, 60513\, United States
CATEGORIES:Illinois,Restorani
ATTACH;FMTTYPE=image/jpeg:https://usadesavanja.com/wp-content/uploads/2022/04/skadarlija-new-2.jpg
END:VEVENT
BEGIN:VEVENT
DTSTART;VALUE=DATE:20250215
DTEND;VALUE=DATE:20250216
DTSTAMP:20260422T211007
CREATED:20250130T212700Z
LAST-MODIFIED:20250130T212700Z
UID:15376-1739577600-1739663999@usadesavanja.com
SUMMARY:EXCLUSIVE LIVE BAND // EXOTIC SHISHA LOUNGE // LEMAY TOWNSHIP // FEBRUAR 15. 2025.
DESCRIPTION:Exotic Shisha Lounge Vas poziva na muziku uživo! \nSubota\, 15. februar muzika iz Čikaga \nNastupaju: Danka\, Ernes & DJ Bake \nUlaz: $30 \nInfo: 314 698 7041 \nŽelimo Vam odličan provod!
URL:https://usadesavanja.com/event/live-music-exotic-shisha-lounge-lemay-township-februar-15-2025/
LOCATION:Exotic Shisha Lounge\, 3920 Ritz Center\, Lemay Township\, MO\, St. Louis\, MO\, 63125\, United States
CATEGORIES:Missouri
ATTACH;FMTTYPE=image/png:https://usadesavanja.com/wp-content/uploads/2024/08/danka-gajic-new24.png
END:VEVENT
BEGIN:VEVENT
DTSTART;VALUE=DATE:20250215
DTEND;VALUE=DATE:20250216
DTSTAMP:20260422T211007
CREATED:20250125T000258Z
LAST-MODIFIED:20250125T010234Z
UID:15355-1739577600-1739663999@usadesavanja.com
SUMMARY:COLLAPSE BAND // STONEY CREEK HOTEL // DES MOINES // FEBRUAR 15. 2025.
DESCRIPTION:Stoney Creek Hotel Vas poziva na fenomenalnu svirku. \nPetak 31. januar od 20:30h. Nastupa: Collapse band \nInformacije: 515 778 8348 \nŽelimo Vam odličan provod!
URL:https://usadesavanja.com/event/collapse-band-stoney-creek-hotel-des-moines-februar-15-2025/
LOCATION:Stoney Creek Hotel\, 5291 Stoney Creek Ct\, Johnston\, IA\, Johnston\, IA\, 50131\, United States
CATEGORIES:Iowa
ATTACH;FMTTYPE=image/png:https://usadesavanja.com/wp-content/uploads/2025/01/collapse-band-usa-25.png
END:VEVENT
BEGIN:VEVENT
DTSTART;VALUE=DATE:20250215
DTEND;VALUE=DATE:20250216
DTSTAMP:20260422T211007
CREATED:20250122T140759Z
LAST-MODIFIED:20250122T140759Z
UID:15315-1739577600-1739663999@usadesavanja.com
SUMMARY:ADNAN BABAJIC // DMG CAFE // ST. PETERSBURG // FEBRUAR 15. 2025.
DESCRIPTION:DMG Cafe Vas poziva na sjajnu svirku. \nSubota 15. februar. Nastupa: Adnan Babajić \nInfo i rezervacije: 727 280 3317 \nŽelimo Vam odličan provod!
URL:https://usadesavanja.com/event/adnan-babajic-dmg-cafe-st-petersburg-februar-15-2025/
LOCATION:DMG Cafe\, 9031 Dr M.L.K. Jr St N\, St. Petersburg\, FL\, 33702\, United States
CATEGORIES:Florida,Restorani
ATTACH;FMTTYPE=image/jpeg:https://usadesavanja.com/wp-content/uploads/2022/09/adnan-babajic-new.jpg
ORGANIZER;CN="DMG Cafe":MAILTO:milosevickc@gmail.com
END:VEVENT
BEGIN:VEVENT
DTSTART;VALUE=DATE:20250215
DTEND;VALUE=DATE:20250216
DTSTAMP:20260422T211007
CREATED:20250122T134943Z
LAST-MODIFIED:20250122T134943Z
UID:15309-1739577600-1739663999@usadesavanja.com
SUMMARY:SRPSKI BISER - GODISNJI KONCERT // CRKVA SV. SAVE // ST. PETERSBURG // FEBRUAR 15. 2025.
DESCRIPTION:Crkva Sv. Save Vas poziva na godišnji koncert folklornog ansambla Srpski Biser! \nSubota 15. februar od 1PM. Muzika: Maja Bilić i Neno Todorović \n– Nastupi 15 srpskih folklornih ansambla iz SAD i Kanade.\n– Autentična srpska jela\, kolači i piće \nUlaz $10 \nŽelimo Vam odličan provod!
URL:https://usadesavanja.com/event/srpski-biser-godisnji-koncert-crkva-sv-save-st-petersburg-februar-15-2025/
LOCATION:Crkva Sv. Save (St. Petersburg)\, 530 77th Ave N\, St. Petersburg\, FL\, St. Petersburg\, FL\, 33702\, United States
CATEGORIES:Florida,Ostalo
ATTACH;FMTTYPE=image/jpeg:https://usadesavanja.com/wp-content/uploads/2021/09/folklor.jpg
END:VEVENT
END:VCALENDAR