BEGIN:VCALENDAR
VERSION:2.0
PRODID:-//USA Desavanja - ECPv6.15.17.1//NONSGML v1.0//EN
CALSCALE:GREGORIAN
METHOD:PUBLISH
X-WR-CALNAME:USA Desavanja
X-ORIGINAL-URL:https://usadesavanja.com
X-WR-CALDESC:Events for USA Desavanja
REFRESH-INTERVAL;VALUE=DURATION:PT1H
X-Robots-Tag:noindex
X-PUBLISHED-TTL:PT1H
BEGIN:VTIMEZONE
TZID:UTC
BEGIN:STANDARD
TZOFFSETFROM:+0000
TZOFFSETTO:+0000
TZNAME:UTC
DTSTART:20240101T000000
END:STANDARD
END:VTIMEZONE
BEGIN:VTIMEZONE
TZID:America/Chicago
BEGIN:DAYLIGHT
TZOFFSETFROM:-0600
TZOFFSETTO:-0500
TZNAME:CDT
DTSTART:20240310T080000
END:DAYLIGHT
BEGIN:STANDARD
TZOFFSETFROM:-0500
TZOFFSETTO:-0600
TZNAME:CST
DTSTART:20241103T070000
END:STANDARD
BEGIN:DAYLIGHT
TZOFFSETFROM:-0600
TZOFFSETTO:-0500
TZNAME:CDT
DTSTART:20250309T080000
END:DAYLIGHT
BEGIN:STANDARD
TZOFFSETFROM:-0500
TZOFFSETTO:-0600
TZNAME:CST
DTSTART:20251102T070000
END:STANDARD
BEGIN:DAYLIGHT
TZOFFSETFROM:-0600
TZOFFSETTO:-0500
TZNAME:CDT
DTSTART:20260308T080000
END:DAYLIGHT
BEGIN:STANDARD
TZOFFSETFROM:-0500
TZOFFSETTO:-0600
TZNAME:CST
DTSTART:20261101T070000
END:STANDARD
END:VTIMEZONE
BEGIN:VEVENT
DTSTART;VALUE=DATE:20250207
DTEND;VALUE=DATE:20250208
DTSTAMP:20260425T053250
CREATED:20250124T234805Z
LAST-MODIFIED:20250124T234805Z
UID:15351-1738886400-1738972799@usadesavanja.com
SUMMARY:COLLAPSE BAND // UNA BAR // UTICA // FEBRUAR 07. 2025.
DESCRIPTION:Una bar Vas poziva na fenomenalnu svirku. \nPetak 7. februar od 20:30h. Nastupa: Collapse band \nInfo: 315 527 3856 \nŽelimo Vam odličan provod!
URL:https://usadesavanja.com/event/collapse-band-una-bar-utica-februar-07-2025/
LOCATION:Una Bar\, 620 Eagle St\, Utica\, NY\, Utica\, NY\, 13501\, United States
CATEGORIES:New York
ATTACH;FMTTYPE=image/png:https://usadesavanja.com/wp-content/uploads/2025/01/collapse-band-usa-25.png
END:VEVENT
BEGIN:VEVENT
DTSTART;VALUE=DATE:20250207
DTEND;VALUE=DATE:20250208
DTSTAMP:20260425T053250
CREATED:20250120T113153Z
LAST-MODIFIED:20250120T113537Z
UID:15293-1738886400-1738972799@usadesavanja.com
SUMMARY:SEKA ALEKSIC & FULL BAND // MELROSE BALLROOM // NEW YORK // FEBRUAR 07. 2025.
DESCRIPTION:ATL Balkan\, Music Star i Melrose Ballroom Vas pozivaju na spektakularan koncert! \nPetak 7. februar\, Seka Aleksić i Full Band \nInfo: 917 568 3496 \nŽelimo Vam odličan provod!
URL:https://usadesavanja.com/event/seka-aleksic-full-band-melrose-ballroom-new-york-februar-07-2025/
LOCATION:Melrose Ballroom\, 3608 33rd St\, Queens\, NY\, Queens\, NY\, 11106\, United States
CATEGORIES:Koncerti,New York
ATTACH;FMTTYPE=image/jpeg:https://usadesavanja.com/wp-content/uploads/2024/12/IMG-5959c8df791e269cd486e1cbb8af1548-V.jpg
END:VEVENT
BEGIN:VEVENT
DTSTART;VALUE=DATE:20250207
DTEND;VALUE=DATE:20250208
DTSTAMP:20260425T053250
CREATED:20241221T114617Z
LAST-MODIFIED:20241221T114617Z
UID:15053-1738886400-1738972799@usadesavanja.com
SUMMARY:DANKA GAJIC & IVANA PILJA // RESTORAN ZORA // CHICAGO // FEBRUAR 07. 2025.
DESCRIPTION:Etno restoran Zora Vas srdačno poziva da budete njihovi gosti! \nU petak\, 7. februara očekuje Vas sjajna svirka! \nNastupaju: Danka Gajić i Ivana Pilja \nInfo: 773 625 7087 \nŽelimo Vam odličan provod!
URL:https://usadesavanja.com/event/danka-gajic-ivana-pilja-restoran-zora-chicago-februar-07-2025/
LOCATION:Restoran Zora\, 8445 W Lawrence Ave\, Chicago\, IL\, Chicago\, IL\, /adresar/etno-restoran-zora\, United States
CATEGORIES:Illinois,Restorani
ATTACH;FMTTYPE=image/jpeg:https://usadesavanja.com/wp-content/uploads/2021/09/zora-5.jpg
END:VEVENT
BEGIN:VEVENT
DTSTART;VALUE=DATE:20250207
DTEND;VALUE=DATE:20250208
DTSTAMP:20260425T053250
CREATED:20250205T214245Z
LAST-MODIFIED:20250205T214245Z
UID:15425-1738886400-1738972799@usadesavanja.com
SUMMARY:DRAGANA RAKCEVIC\, MILE & DJ TWINS // STEFAN GRILL // CHICAGO // FEBRUAR 07. 2025.
DESCRIPTION:Stefan Grill Vas poziva u petak 7. februara na fenomenalnu žurku. \nNastupaju: Dragana Rakčević\, Mile Vujnović i DJ Twins \nInfo: 708 579 0621 \nŽelimo Vam odličan provod!
URL:https://usadesavanja.com/event/dragana-rakcevic-mile-dj-twins-stefan-grill-chicago-februar-07-2025/
LOCATION:Stefan Grill\, 7101 Santa Fe Dr\, Hodgkins\, IL\, Chicago\, IL\, 60525\, United States
CATEGORIES:Illinois
ATTACH;FMTTYPE=image/png:https://usadesavanja.com/wp-content/uploads/2024/12/dragana-r-986756.png
END:VEVENT
BEGIN:VEVENT
DTSTART;VALUE=DATE:20250202
DTEND;VALUE=DATE:20250203
DTSTAMP:20260425T053250
CREATED:20250116T182510Z
LAST-MODIFIED:20250116T182510Z
UID:15273-1738454400-1738540799@usadesavanja.com
SUMMARY:DISNEY ON ICE // UNITED CENTER // CHICAGO // FEBRUAR 02. 2025.
DESCRIPTION:Pripremite se za nezaboravnu zabavu – Disney On Ice predstavlja Let’s Dance! \n\nUnited Center\, Čikago\, IL: od 30. januara do 2. februara 2025.\n\nPridružite se Mikiju\, Mini\, Paji i društvu dok preuzimaju DJ pult i remiksuju omiljene Diznijeve melodije u šarene priče na ledu. \nRaspored predstava: \n\n30. januar: 19:00\n31. januar: 10:30\, 19:00\n1. februar: 11:00\, 15:00\, 19:00\n2. februar: 11:00\, 15:00\, 19:00\n\n\n\n\nUlaznice su dostupne putem zvaničnog sajta Disney On Ice. \nNe propustite priliku da budete deo ove magične avanture na ledu!
URL:https://usadesavanja.com/event/disney-on-ice-united-center-chicago-februar-02-2025/
LOCATION:United Center\, 1901 W Madison St.\, Chicago\, IL\, 60612\, United States
CATEGORIES:Illinois
ATTACH;FMTTYPE=image/png:https://usadesavanja.com/wp-content/uploads/2025/01/DISNEY-ON-ICE-beautiful-963893_KALENDAR.png
END:VEVENT
BEGIN:VEVENT
DTSTART;VALUE=DATE:20250201
DTEND;VALUE=DATE:20250202
DTSTAMP:20260425T053250
CREATED:20250131T175503Z
LAST-MODIFIED:20250131T175522Z
UID:15386-1738368000-1738454399@usadesavanja.com
SUMMARY:MAJA & DEJAN // TITO'S CAFE // ST. PETERSBURG // FEBRUAR 01. 2025.
DESCRIPTION:Tito’s Cafe Vas srdačno poziva da budete njihovi gosti! \nU subotu\, 1. februara\, očekuje Vas sjajna svirka od 21.30h – 2. 30h \nNastupaju: Marija Maja Bilić & Dejan Ćirković \nŽelimo Vam odličan provod!
URL:https://usadesavanja.com/event/maja-dejan-titos-cafe-st-petersburg-februar-01-2025/
LOCATION:Tito’s Cafe\, 6514 4th St N\, Saint Petersburg\, FL\, 33702\, United States
CATEGORIES:Florida
ATTACH;FMTTYPE=image/jpeg:https://usadesavanja.com/wp-content/uploads/2024/12/new-year-party-2148001976.jpg
END:VEVENT
BEGIN:VEVENT
DTSTART;VALUE=DATE:20250201
DTEND;VALUE=DATE:20250202
DTSTAMP:20260425T053250
CREATED:20250131T115122Z
LAST-MODIFIED:20250131T115454Z
UID:15379-1738368000-1738454399@usadesavanja.com
SUMMARY:GROOVE CORE BAND // COMPASS ARENA // CHICAGO // FEBRUAR 01. 2025.
DESCRIPTION:Compass Arena (Fair Play) Vas poziva na nastup koji ne smete propustiti! \nSubota\, 01. februar od 17h\, Groove Core Band \nInfo: 630 523 9933 \nŽelimo Vam odličan provod!
URL:https://usadesavanja.com/event/groove-core-band-compass-arena-chicago-februar-01-2025/
LOCATION:Compass Arena\, 625 Joliet Rd\, Willowbrook\, Chicago\, IL\, /adresar/compass-arena\, United States
CATEGORIES:Illinois
ATTACH;FMTTYPE=image/jpeg:https://usadesavanja.com/wp-content/uploads/2022/02/compass-arena-00.jpg
END:VEVENT
BEGIN:VEVENT
DTSTART;VALUE=DATE:20250201
DTEND;VALUE=DATE:20250202
DTSTAMP:20260425T053250
CREATED:20250128T182505Z
LAST-MODIFIED:20250128T182505Z
UID:15359-1738368000-1738454399@usadesavanja.com
SUMMARY:BILJANA & LJUBA // SKADARLIYA // CHICAGO // FEBRUAR 01. 2025.
DESCRIPTION:Skadarliya Vas poziva na sjajnu svirku! \nSubota\, 1. februar. Nastupaju: Biljana Đorđević i Ljubomir Zarić \nInfo: 708 905 5919 \nŽelimo Vam odličan provod!
URL:https://usadesavanja.com/event/biljana-ljuba-skadarliya-chicago-februar-01-2025/
LOCATION:Skadarliya\, 9237 West Ogden Ave\, Brookfield\, Chicago\, IL\, 60513\, United States
CATEGORIES:Illinois,Restorani
ATTACH;FMTTYPE=image/jpeg:https://usadesavanja.com/wp-content/uploads/2022/09/biljana.jpg
END:VEVENT
BEGIN:VEVENT
DTSTART;VALUE=DATE:20250201
DTEND;VALUE=DATE:20250202
DTSTAMP:20260425T053250
CREATED:20250122T133826Z
LAST-MODIFIED:20250122T134009Z
UID:15305-1738368000-1738454399@usadesavanja.com
SUMMARY:COLLAPSE BAND // HOLIDAY INN // CHICAGO // FEBRUAR 01. 2025.
DESCRIPTION:Radio San Promotion i Holiday Inn Vas pozivaju na spektakularan koncert. \nSubota\, 1. februar. Nastupa: Collapse Band \nInfo: 773 425 3911 \nŽelimo Vam odličan provod!
URL:https://usadesavanja.com/event/collapse-band-holiday-inn-chicago-februar-01-2025/
LOCATION:Holiday Inn Convention Center\, 5300 W Touhy Ave\, Skokie\, IL\, Chicago\, IL\, 60077\, United States
CATEGORIES:Illinois
ATTACH;FMTTYPE=image/png:https://usadesavanja.com/wp-content/uploads/2025/01/collapse-98786756.png
END:VEVENT
BEGIN:VEVENT
DTSTART;VALUE=DATE:20250201
DTEND;VALUE=DATE:20250202
DTSTAMP:20260425T053250
CREATED:20250122T132855Z
LAST-MODIFIED:20250122T163133Z
UID:15303-1738368000-1738454399@usadesavanja.com
SUMMARY:SVETOSAVSKA PROSLAVA // CRKVA SV. GEORGIJA // SAN DIEGO // FEBRUAR 01. 2025.
DESCRIPTION:Crkva Svetog Georgija Vas poziva na manifestaciju “Svetosavska proslava” \nOčekuje Vas gala večera i muzika uživo. \nSubota 1. februar od 5:30PM. Nastupaju: Jasmina Ilić i Saša Minić \nwww.StGeorgeInSD.org
URL:https://usadesavanja.com/event/svetosavska-proslava-crkva-sv-georgija-san-diego-februar-01-2025/
LOCATION:Crkva Sv. Georgija (San Diego)\, 3025 Denver Street\, San Diego\, CA\, San Diego\, CA\, 92117\, United States
CATEGORIES:California
ATTACH;FMTTYPE=image/jpeg:https://usadesavanja.com/wp-content/uploads/2020/10/jasmina-i-sasa-usa.jpg
END:VEVENT
BEGIN:VEVENT
DTSTART;VALUE=DATE:20250201
DTEND;VALUE=DATE:20250202
DTSTAMP:20260425T053250
CREATED:20241221T114905Z
LAST-MODIFIED:20241221T114959Z
UID:15055-1738368000-1738454399@usadesavanja.com
SUMMARY:IVANA PILJA & RAJKO // RESTORAN ZORA // CHICAGO // FEBRUAR 01. 2025.
DESCRIPTION:Etno restoran Zora Vas srdačno poziva da budete njihovi gosti! \nU subotu\, 1. februara očekuje Vas sjajna svirka! \nNastupaju: Ivana Pilja i Rajko Paunović \nInfo: 773 625 7087 \nŽelimo Vam odličan provod!
URL:https://usadesavanja.com/event/ivana-pilja-rajko-restoran-zora-chicago-februar-01-2025/
LOCATION:Restoran Zora\, 8445 W Lawrence Ave\, Chicago\, IL\, Chicago\, IL\, /adresar/etno-restoran-zora\, United States
CATEGORIES:Illinois,Restorani
ATTACH;FMTTYPE=image/jpeg:https://usadesavanja.com/wp-content/uploads/2021/02/zora-restoran.jpg
END:VEVENT
BEGIN:VEVENT
DTSTART;VALUE=DATE:20250201
DTEND;VALUE=DATE:20250202
DTSTAMP:20260425T053250
CREATED:20241210T185047Z
LAST-MODIFIED:20241210T185106Z
UID:14850-1738368000-1738454399@usadesavanja.com
SUMMARY:ALMIR M & TRIBUN BAND // IMPERIA LOUNGE // CHICAGO // FEBRUAR 01. 2025.
DESCRIPTION:Imperia Lounge Vas poziva na odličnu svirku! \nSubota 1. februar. Nastupa: Almir M & Tribun Band \nInfo i rezervacije: 872 302 4164 \nŽelimo Vam odličan provod!
URL:https://usadesavanja.com/event/mirza-delic-imperia-lounge-chicago-februar-01-2025/
LOCATION:Imperia Lounge\, 2610 W Peterson Ave\, Chicago\, IL\, Chicago\, IL\, 60659\, United States
CATEGORIES:Illinois
ATTACH;FMTTYPE=image/jpeg:https://usadesavanja.com/wp-content/uploads/2023/09/almir-i-tribunn.jpg
END:VEVENT
BEGIN:VEVENT
DTSTART;VALUE=DATE:20250131
DTEND;VALUE=DATE:20250201
DTSTAMP:20260425T053250
CREATED:20250130T210812Z
LAST-MODIFIED:20250131T214143Z
UID:15369-1738281600-1738367999@usadesavanja.com
SUMMARY:JOS KOS AFTER PARTY // NEW BAR // MILWAUKEE // JANUAR 31. 2025.
DESCRIPTION:New Bar (Crkva Svetog Save) Vas poziva na Još Koš After Party! (21+) \nPetak\, 31. januar\, 09PM. \nSpecijalni gost: Nikola Prvulović \nŽelimo Vam odličan provod!
URL:https://usadesavanja.com/event/jos-kos-after-party-copper-on-king-milwaukee-januar-31-2025/
LOCATION:Crkva Sv. Save (Milwaukee)\, 3201 S 51st St.\, Milwaukee\, WI\, 53219\, United States
CATEGORIES:Wisconsin
ATTACH;FMTTYPE=image/jpeg:https://usadesavanja.com/wp-content/uploads/2021/12/party-slika.jpg
END:VEVENT
BEGIN:VEVENT
DTSTART;VALUE=DATE:20250131
DTEND;VALUE=DATE:20250201
DTSTAMP:20260425T053250
CREATED:20250124T232414Z
LAST-MODIFIED:20250124T232414Z
UID:15348-1738281600-1738367999@usadesavanja.com
SUMMARY:COLLAPSE BAND // CLUB 54 // DETROIT // JANUAR 31. 2025.
DESCRIPTION:Club 54 Vas poziva na fenomenalnu svirku. \nPetak 31. januar od 20:30h. Nastupa: Collapse band \nInformacije: 586 675 1897 // 586 662 7116 \nŽelimo Vam odličan provod! \n 
URL:https://usadesavanja.com/event/collapse-band-club-54-detroit-januar-31-2025/
LOCATION:Club 54\, 37722 Van Dyke Ave.\, Sterling Heights\, MI\, 48312\, United States
CATEGORIES:Michigan
ATTACH;FMTTYPE=image/png:https://usadesavanja.com/wp-content/uploads/2025/01/collapse-band-usa-25.png
END:VEVENT
BEGIN:VEVENT
DTSTART;VALUE=DATE:20250131
DTEND;VALUE=DATE:20250201
DTSTAMP:20260425T053250
CREATED:20250116T190227Z
LAST-MODIFIED:20250116T190227Z
UID:15279-1738281600-1738367999@usadesavanja.com
SUMMARY:DANKA & BILJANA // RESTORAN ZORA // CHICAGO // JANUAR 31. 2025.
DESCRIPTION:Etno restoran Zora Vas srdačno poziva da budete njihovi gosti! \nU petak\, 31. januara od 21h očekuje Vas sjajna svirka! \nNastupaju: Danka Gajić i Biljana Đorđević \nInfo: 773 625 7087 \nŽelimo Vam odličan provod!
URL:https://usadesavanja.com/event/danka-biljana-restoran-zora-chicago-januar-31-2025/
LOCATION:Restoran Zora\, 8445 W Lawrence Ave\, Chicago\, IL\, Chicago\, IL\, /adresar/etno-restoran-zora\, United States
CATEGORIES:Illinois,Restorani
ATTACH;FMTTYPE=image/png:https://usadesavanja.com/wp-content/uploads/2024/07/danka-i-bilja.png
END:VEVENT
BEGIN:VEVENT
DTSTART;VALUE=DATE:20250130
DTEND;VALUE=DATE:20250131
DTSTAMP:20260425T053250
CREATED:20250116T182403Z
LAST-MODIFIED:20250116T182536Z
UID:15271-1738195200-1738281599@usadesavanja.com
SUMMARY:DISNEY ON ICE // UNITED CENTER // CHICAGO // JANUAR 30. 2025.
DESCRIPTION:Pripremite se za nezaboravnu zabavu – Disney On Ice predstavlja Let’s Dance! \n\nUnited Center\, Čikago\, IL: od 30. januara do 2. februara 2025.\n\nPridružite se Mikiju\, Mini\, Paji i društvu dok preuzimaju DJ pult i remiksuju omiljene Diznijeve melodije u šarene priče na ledu. \nRaspored predstava: \n\n30. januar: 19:00\n31. januar: 10:30\, 19:00\n1. februar: 11:00\, 15:00\, 19:00\n2. februar: 11:00\, 15:00\, 19:00\n\n\n\n\nUlaznice su dostupne putem zvaničnog sajta Disney On Ice. \nNe propustite priliku da budete deo ove magične avanture na ledu!
URL:https://usadesavanja.com/event/disney-on-ice-united-center-chicago-januar-30-2025/
LOCATION:United Center\, 1901 W Madison St.\, Chicago\, IL\, 60612\, United States
CATEGORIES:Illinois
ATTACH;FMTTYPE=image/png:https://usadesavanja.com/wp-content/uploads/2025/01/DISNEY-ON-ICE-beautiful-963893_KALENDAR.png
END:VEVENT
BEGIN:VEVENT
DTSTART;VALUE=DATE:20250129
DTEND;VALUE=DATE:20250130
DTSTAMP:20260425T053250
CREATED:20250123T160729Z
LAST-MODIFIED:20250123T160729Z
UID:15331-1738108800-1738195199@usadesavanja.com
SUMMARY:EMIR BRUNCEVIC // CAFE DERBI // LAS VEGAS // JANUAR 29. 2025.
DESCRIPTION:Cafe Derbi Vas poziva na sjajnu žurku! \nSreda 29. januar. Nastupa: Emir Brunčević \nInfo: 702 824 4699 \nŽelimo Vam odličan provod!
URL:https://usadesavanja.com/event/emir-bruncevic-cafe-derbi-las-vegas-januar-29-2025/
LOCATION:Cafe Derbi\, 5920 W Flamingo Rd Las Vegas\, NV 89103\, Las Vegas\, NV\, 89103\, United States
CATEGORIES:Nevada
ATTACH;FMTTYPE=image/jpeg:https://usadesavanja.com/wp-content/uploads/2025/01/emir-bruncevic-kojhjgh.jpg
END:VEVENT
BEGIN:VEVENT
DTSTART;VALUE=DATE:20250129
DTEND;VALUE=DATE:20250130
DTSTAMP:20260425T053250
CREATED:20241221T132747Z
LAST-MODIFIED:20241221T132747Z
UID:15092-1738108800-1738195199@usadesavanja.com
SUMMARY:YOUNG BOYS - CRVENA ZVEZDA // COMPASS ARENA // CHICAGO // JANUAR 29. 2025.
DESCRIPTION:Compass Arena Vas poziva na organizovano gledanje fudbalske utakmice 8. kola Lige šampiona. \nSreda 29. januar od 14:00h\, Young Boys – Crvena zvezda \nŽelimo Vam odličan sportski provod!
URL:https://usadesavanja.com/event/young-boys-crvena-zvezda-compass-arena-chicago-januar-29-2025/
LOCATION:Compass Arena\, 625 Joliet Rd\, Willowbrook\, Chicago\, IL\, /adresar/compass-arena\, United States
CATEGORIES:Illinois,Sport
ATTACH;FMTTYPE=image/jpeg:https://usadesavanja.com/wp-content/uploads/2024/12/ybzve4.jpg
END:VEVENT
BEGIN:VEVENT
DTSTART;VALUE=DATE:20250129
DTEND;VALUE=DATE:20250130
DTSTAMP:20260425T053250
CREATED:20241221T132556Z
LAST-MODIFIED:20241221T132820Z
UID:15089-1738108800-1738195199@usadesavanja.com
SUMMARY:YOUNG BOYS - CRVENA ZVEZDA // SKADARLIYA // CHICAGO // JANUAR 29. 2025.
DESCRIPTION:Skadarliya Vas poziva na organizovano gledanje fudbalske utakmice 8. kola Lige šampiona. \nSreda 29. januar od 14:00h\, Young Boys – Crvena zvezda \nŽelimo Vam odličan sportski provod!
URL:https://usadesavanja.com/event/young-boys-crvena-zvezda-skadarliya-chicago-januar-29-2025/
LOCATION:Skadarliya\, 9237 West Ogden Ave\, Brookfield\, Chicago\, IL\, 60513\, United States
CATEGORIES:Illinois,Sport
ATTACH;FMTTYPE=image/png:https://usadesavanja.com/wp-content/uploads/2024/12/ybzve3.png
END:VEVENT
BEGIN:VEVENT
DTSTART;VALUE=DATE:20250129
DTEND;VALUE=DATE:20250130
DTSTAMP:20260425T053250
CREATED:20241221T132354Z
LAST-MODIFIED:20241221T132354Z
UID:15086-1738108800-1738195199@usadesavanja.com
SUMMARY:YOUNG BOYS - CRVENA ZVEZDA // RESTORAN ZORA // CHICAGO // JANUAR 29. 2025.
DESCRIPTION:Reatoran Zora Vas poziva na organizovano gledanje fudbalske utakmice 8. kola Lige šampiona. \nSreda 29. januar od 14:00h\, Young Boys – Crvena zvezda \nŽelimo Vam odličan sportski provod!
URL:https://usadesavanja.com/event/young-boys-crvena-zvezda-restoran-zora-chicago-januar-29-2025/
LOCATION:Restoran Zora\, 8445 W Lawrence Ave\, Chicago\, IL\, Chicago\, IL\, /adresar/etno-restoran-zora\, United States
CATEGORIES:Illinois,Sport
ATTACH;FMTTYPE=image/png:https://usadesavanja.com/wp-content/uploads/2024/12/ybzve2.png
END:VEVENT
BEGIN:VEVENT
DTSTART;VALUE=DATE:20250127
DTEND;VALUE=DATE:20250128
DTSTAMP:20260425T053250
CREATED:20250116T185335Z
LAST-MODIFIED:20250122T140006Z
UID:15276-1737936000-1738022399@usadesavanja.com
SUMMARY:SERBIAN HERITAGE NIGHT // UNITED CENTER // CHICAGO // JANUAR 27. 2025.
DESCRIPTION:Pridružite nam se u ponedeljak\, 27. januara 2025. od 18:00 na Serbian Heretage Night! Chicago Bulls – Denver Nuggets \nPosebni događaji: \n\nSrpski performans na terenu United Centra u 18:20 – ne propustite priliku da uživate u bogatoj srpskoj tradiciji!\n\nPosebna ponuda ulaznica uključuje: \n\nVašu ulaznicu za utakmicu Bulls vs. Nuggets\nMogućnost grupne kupovine za 15+ osoba uz uštedu na naknadama za obradu!\n\nNapomene: \n\nUlaznice se dostavljaju digitalno. Preporučuje se deljenje sedišta sa članovima vaše grupe pre ulaska.\nPosebna ulaznica mora biti kupljena putem zvanične stranice ili preko predstavnika za grupnu prodaju. Kupovine preko trećih strana ne uključuju dodatne pogodnosti.\n\nUlaznice možete kupiti OVDE \n \nZa više informacija ili pomoć pri kupovini\, kontaktirajte Ticketing odeljenje na 312 455 4000
URL:https://usadesavanja.com/event/serbian-heritage-night-united-center-chicago-januar-27-2025/
LOCATION:United Center\, 1901 W Madison St.\, Chicago\, IL\, 60612\, United States
CATEGORIES:Illinois,Sport
ATTACH;FMTTYPE=image/png:https://usadesavanja.com/wp-content/uploads/2025/01/kalendar-nuggets-bulls-1.png
END:VEVENT
BEGIN:VEVENT
DTSTART;VALUE=DATE:20250126
DTEND;VALUE=DATE:20250127
DTSTAMP:20260425T053250
CREATED:20250124T154207Z
LAST-MODIFIED:20250124T154207Z
UID:15344-1737849600-1737935999@usadesavanja.com
SUMMARY:SVETOSAVSKA PROSLAVA // CRKVA SV. NIKOLE // LYONS // JANUAR 26. 2025.
DESCRIPTION:Crkva Sv. Nikole Vas poziva da zajedno obeležite Svetosavsku proslavu u čast našeg velikog svetitelja i prosvetitelja\, Svetog Save. \nDatum: 26. januar 2025.\nVreme: Sveta Liturgija počinje u 10:00 časova. \nNakon Liturgije\, uslediće: \n\nRezanje slavskog kolača\,\nSvečani slavski ručak\,\nSvetosavska proslava.\n\nPosebno se pozivaju roditelji i bake i deke da povedu svoju decu i unuke\, jer Sveti Sava se njima najviše raduje. \nDobrodošli na ovu radosnu i svečanu školsku slavu!
URL:https://usadesavanja.com/event/svetosavska-proslava-crkva-sv-nikole-lyons-januar-26-2025/
LOCATION:Crkva Sv. Nikole (Joliet Ave\, Lyons)\, 4315 Joliet Ave\, Lyons\, IL 60534\, Chicago\, IL\, 60534\, United States
CATEGORIES:Illinois
ATTACH;FMTTYPE=image/png:https://usadesavanja.com/wp-content/uploads/2025/01/Screenshot_20250121_160219hig-sv-sava.png
END:VEVENT
BEGIN:VEVENT
DTSTART;VALUE=DATE:20250126
DTEND;VALUE=DATE:20250127
DTSTAMP:20260425T053250
CREATED:20250123T185757Z
LAST-MODIFIED:20250123T185757Z
UID:15333-1737849600-1737935999@usadesavanja.com
SUMMARY:SKUP PODRSKE STUDENTIMA // SERBIAN CONSULATE // CHICAGO // JANUAR 26. 2025.
DESCRIPTION:U nedelju 26. januara od 11:30h ispred Srpskog konzulata u Čikagu biće organizovan skup podrške studentima.
URL:https://usadesavanja.com/event/skup-podrske-studentima-serbian-consulate-chicago-januar-26-2025/
LOCATION:Consulate General of Serbia\, 201 E Ohio St # 2\, Chicago\, IL 60611\, Chicago\, IL\, 60611\, United States
CATEGORIES:Illinois
ATTACH;FMTTYPE=image/png:https://usadesavanja.com/wp-content/uploads/2025/01/IMG_20250123_170934_351nbj.png
END:VEVENT
BEGIN:VEVENT
DTSTART;VALUE=DATE:20250126
DTEND;VALUE=DATE:20250127
DTSTAMP:20260425T053250
CREATED:20250116T182106Z
LAST-MODIFIED:20250116T182106Z
UID:15269-1737849600-1737935999@usadesavanja.com
SUMMARY:DISNEY ON ICE // ALLSTATE ARENA // CHICAGO // JANUAR 26. 2025.
DESCRIPTION:Pripremite se za nezaboravnu zabavu – Disney On Ice predstavlja Let’s Dance! \nOvaj spektakularni događaj održaće se na dve lokacije u oblasti Čikaga: \n\nAllstate Arena\, Rosemont\, IL: od 23. do 26. januara 2025.\nUnited Center\, Čikago\, IL: od 30. januara do 2. februara 2025.\n\nPridružite se Mikiju\, Mini\, Paji i društvu dok preuzimaju DJ pult i remiksuju omiljene Diznijeve melodije u šarene priče na ledu. \nRaspored predstava: \n\nAllstate Arena:\n\n23. januar: 19:00\n\n\njanuar: 10:30\, 19:00\n\n\n\n\njanuar: 11:00\, 15:00\, 19:00\n\n\n\n\njanuar: 11:00\, 15:00\, 19:00\n\n\n\n\nUnited Center:\n\n30. januar: 19:00\n\n\njanuar: 10:30\, 19:00\n\n\n\n\nfebruar: 11:00\, 15:00\, 19:00\n\n\n\n\nfebruar: 11:00\, 15:00\, 19:00\n\n\n\n\n\nUlaznice su dostupne putem zvaničnog sajta Disney On Ice. \nNe propustite priliku da budete deo ove magične avanture na ledu!
URL:https://usadesavanja.com/event/disney-on-ice-allstate-arena-chicago-januar-26-2025/
LOCATION:Allstate Arena\, 6920 Mannheim Rd\,\, Rosemont\, IL\, 60018\, United States
CATEGORIES:Illinois
ATTACH;FMTTYPE=image/png:https://usadesavanja.com/wp-content/uploads/2025/01/DISNEY-ON-ICE-beautiful-963893_KALENDAR.png
END:VEVENT
BEGIN:VEVENT
DTSTART;VALUE=DATE:20250126
DTEND;VALUE=DATE:20250127
DTSTAMP:20260425T053250
CREATED:20250115T192501Z
LAST-MODIFIED:20250116T135848Z
UID:15262-1737849600-1737935999@usadesavanja.com
SUMMARY:RADIONICA ZA SVETOG SAVU // CRKVA SV. NIKOLE // LYONS // JANUAR 26. 2025.
DESCRIPTION:Radionica za Svetog Savu u Lionsu: Prijavite se na vreme! \nZa decu uzrasta od 4 do 10 godina\, pripremljena je posebna Radionica za Svetog Savu koja će se održati bez prisustva roditelja. Ova dvodnevna edukativna i zabavna radionica uključuje: \n\nCrtanje i kreativne aktivnosti\nPravljanje kolača\nUčenje pesmica o Svetom Savi\nSportske aktivnosti i slobodnu igru\nRecitaciju u crkvi i dodelu paketića (26. januar)\nHranu i osveženje\n\nDatumi i vreme: \n\n25. januar: 9:00 – 12:00\n\n\njanuar: 9:00 – 12:00\n\n\n\nCene: \n\nObe radionice: $100 za jedno dete\, $150 za dvoje dece\nJedan dan: $60 za jedno dete\, $80 za dvoje dece\n\nRadionica se održava na adresi:\n4315 Joliet Ave\, Lyons \nPrijave su obavezne do 24. januara\, a dodatna grupa može biti organizovana u terminu od 13:00 do 16:00 u zavisnosti od interesovanja. \nRezervišite mesto za vaše dete odmah pozivom na 907 570 4834
URL:https://usadesavanja.com/event/radionica-za-svetog-savu-crkva-sv-nikole-lyons-januar-26-2025/
LOCATION:Crkva Sv. Nikole (Joliet Ave\, Lyons)\, 4315 Joliet Ave\, Lyons\, IL 60534\, Chicago\, IL\, 60534\, United States
CATEGORIES:Illinois
ATTACH;FMTTYPE=image/png:https://usadesavanja.com/wp-content/uploads/2024/11/crkva-sv-nikole-lyons-yt-ps-u857.png
END:VEVENT
BEGIN:VEVENT
DTSTART;VALUE=DATE:20250126
DTEND;VALUE=DATE:20250127
DTSTAMP:20260425T053250
CREATED:20250114T195935Z
LAST-MODIFIED:20250114T195935Z
UID:15240-1737849600-1737935999@usadesavanja.com
SUMMARY:FUDBALSKI FESTIVAL ZA DECU // COMPASS ARENA // CHICAGO // JANUAR 26. 2025.
DESCRIPTION:Fudbalski festival za decu u Compass Areni\n25-og i 26-og januara – Subota i nedelja – Održava se fudbalski festival za decu uzrasta od 6 godina do 14 godina u periodu od 12PM-5PM. \nUlaznica je $35 po detetu. \nFudbalski festival imaće: \n1) Šuterski treninzi\n2) Male igre (2 na 2\, 3 na 3)\n3) Turniri – Svetsko prvenstvo\n4) Žongliranje – takmičenje\n5) Driblinzi sa preprekama\n6) Igrice zabavnog i takmičarskog karaktera\n7) Vežbanje pasiranja i primanje lopti kroz igrice namenjene tom segmentu \nDođite da budete deo fudbalskog spektakla!
URL:https://usadesavanja.com/event/fudbalski-festival-za-decu-compass-arena-chicago-januar-26-2025/
LOCATION:Compass Arena\, 625 Joliet Rd\, Willowbrook\, Chicago\, IL\, /adresar/compass-arena\, United States
CATEGORIES:Illinois
ATTACH;FMTTYPE=image/jpeg:https://usadesavanja.com/wp-content/uploads/2025/01/IMG-f106b27308dcf316647fd624d6b0aa15-V.jpg
END:VEVENT
BEGIN:VEVENT
DTSTART;VALUE=DATE:20250125
DTEND;VALUE=DATE:20250126
DTSTAMP:20260425T053250
CREATED:20250124T151311Z
LAST-MODIFIED:20250124T151311Z
UID:15338-1737763200-1737849599@usadesavanja.com
SUMMARY:MATINE (BOJAN & VLADA) // COMPASS ARENA // CHICAGO // JANUAR 25. 2025.
DESCRIPTION:Compass Arena (Fair play) Vas poziva u subotu 25. januara od 5PM na matine. \nNastupaju: Bojan Vasilić i Vlada Dinić \nInfo: 630 523 9933 \nŽelimo Vam odličan provod!
URL:https://usadesavanja.com/event/matine-bojan-vlada-compass-arena-chicago-januar-25-2025/
LOCATION:Compass Arena\, 625 Joliet Rd\, Willowbrook\, Chicago\, IL\, /adresar/compass-arena\, United States
CATEGORIES:Illinois
ATTACH;FMTTYPE=image/png:https://usadesavanja.com/wp-content/uploads/2024/11/bojan-vasilic-2024-11.png
END:VEVENT
BEGIN:VEVENT
DTSTART;VALUE=DATE:20250125
DTEND;VALUE=DATE:20250126
DTSTAMP:20260425T053250
CREATED:20250115T192419Z
LAST-MODIFIED:20250116T135920Z
UID:15259-1737763200-1737849599@usadesavanja.com
SUMMARY:RADIONICA ZA SVETOG SAVU // CRKVA SV. NIKOLE // LYONS // JANUAR 25. 2025.
DESCRIPTION:Radionica za Svetog Savu u Lionsu: Prijavite se na vreme! \nZa decu uzrasta od 4 do 10 godina\, pripremljena je posebna Radionica za Svetog Savu koja će se održati bez prisustva roditelja. Ova dvodnevna edukativna i zabavna radionica uključuje: \n\nCrtanje i kreativne aktivnosti\nPravljanje kolača\nUčenje pesmica o Svetom Savi\nSportske aktivnosti i slobodnu igru\nRecitaciju u crkvi i dodelu paketića (26. januar)\nHranu i osveženje\n\nDatumi i vreme: \n\n25. januar: 9:00 – 12:00\n\n\njanuar: 9:00 – 12:00\n\n\n\nCene: \n\nObe radionice: $100 za jedno dete\, $150 za dvoje dece\nJedan dan: $60 za jedno dete\, $80 za dvoje dece\n\nRadionica se održava na adresi:\n4315 Joliet Ave\, Lyons \nPrijave su obavezne do 24. januara\, a dodatna grupa može biti organizovana u terminu od 13:00 do 16:00 u zavisnosti od interesovanja. \nRezervišite mesto za vaše dete odmah pozivom na 907 570 4834
URL:https://usadesavanja.com/event/radionica-za-svetog-savu-crkva-sv-nikole-lyons-januar-25-2025/
LOCATION:Crkva Sv. Nikole (Joliet Ave\, Lyons)\, 4315 Joliet Ave\, Lyons\, IL 60534\, Chicago\, IL\, 60534\, United States
CATEGORIES:Illinois
ATTACH;FMTTYPE=image/png:https://usadesavanja.com/wp-content/uploads/2024/11/crkva-sv-nikole-lyons-yt-ps-u857.png
END:VEVENT
BEGIN:VEVENT
DTSTART;VALUE=DATE:20250125
DTEND;VALUE=DATE:20250126
DTSTAMP:20260425T053250
CREATED:20250114T195847Z
LAST-MODIFIED:20250114T195847Z
UID:15237-1737763200-1737849599@usadesavanja.com
SUMMARY:FUDBALSKI FESTIVAL ZA DECU // COMPASS ARENA // CHICAGO // JANUAR 25. 2025.
DESCRIPTION:Fudbalski festival za decu u Compass Areni\n25-og i 26-og januara – Subota i nedelja – Održava se fudbalski festival za decu uzrasta od 6 godina do 14 godina u periodu od 12PM-5PM. \nUlaznica je $35 po detetu. \nFudbalski festival imaće: \n1) Šuterski treninzi\n2) Male igre (2 na 2\, 3 na 3)\n3) Turniri – Svetsko prvenstvo\n4) Žongliranje – takmičenje\n5) Driblinzi sa preprekama\n6) Igrice zabavnog i takmičarskog karaktera\n7) Vežbanje pasiranja i primanje lopti kroz igrice namenjene tom segmentu \nDođite da budete deo fudbalskog spektakla!
URL:https://usadesavanja.com/event/fudbalski-festival-za-decu-compass-arena-chicago-januar-25-2025/
LOCATION:Compass Arena\, 625 Joliet Rd\, Willowbrook\, Chicago\, IL\, /adresar/compass-arena\, United States
CATEGORIES:Illinois
ATTACH;FMTTYPE=image/jpeg:https://usadesavanja.com/wp-content/uploads/2025/01/IMG-f106b27308dcf316647fd624d6b0aa15-V.jpg
END:VEVENT
BEGIN:VEVENT
DTSTART;VALUE=DATE:20250125
DTEND;VALUE=DATE:20250126
DTSTAMP:20260425T053250
CREATED:20250109T135245Z
LAST-MODIFIED:20250109T135245Z
UID:15196-1737763200-1737849599@usadesavanja.com
SUMMARY:SANJA & NIKOLA // SKADARLIYA // CHICAGO // JANUAR 25. 2025.
DESCRIPTION:Skadarliya Vas poziva na sjajnu svirku! \nSubota\, 25. januar. Nastupaju: Sanja Grahovac i Nikola Prvulović \nInfo: 708 905 5919 \nŽelimo Vam odličan provod!
URL:https://usadesavanja.com/event/sanja-nikola-skadarliya-chicago-januar-25-2025/
LOCATION:Skadarliya\, 9237 West Ogden Ave\, Brookfield\, Chicago\, IL\, 60513\, United States
CATEGORIES:Illinois,Restorani
ATTACH;FMTTYPE=image/jpeg:https://usadesavanja.com/wp-content/uploads/2024/01/sanja-grahovac-new.jpg
END:VEVENT
END:VCALENDAR