BEGIN:VCALENDAR
VERSION:2.0
PRODID:-//USA Desavanja - ECPv6.15.17.1//NONSGML v1.0//EN
CALSCALE:GREGORIAN
METHOD:PUBLISH
X-WR-CALNAME:USA Desavanja
X-ORIGINAL-URL:https://usadesavanja.com
X-WR-CALDESC:Events for USA Desavanja
REFRESH-INTERVAL;VALUE=DURATION:PT1H
X-Robots-Tag:noindex
X-PUBLISHED-TTL:PT1H
BEGIN:VTIMEZONE
TZID:America/Chicago
BEGIN:DAYLIGHT
TZOFFSETFROM:-0600
TZOFFSETTO:-0500
TZNAME:CDT
DTSTART:20230312T080000
END:DAYLIGHT
BEGIN:STANDARD
TZOFFSETFROM:-0500
TZOFFSETTO:-0600
TZNAME:CST
DTSTART:20231105T070000
END:STANDARD
BEGIN:DAYLIGHT
TZOFFSETFROM:-0600
TZOFFSETTO:-0500
TZNAME:CDT
DTSTART:20240310T080000
END:DAYLIGHT
BEGIN:STANDARD
TZOFFSETFROM:-0500
TZOFFSETTO:-0600
TZNAME:CST
DTSTART:20241103T070000
END:STANDARD
BEGIN:DAYLIGHT
TZOFFSETFROM:-0600
TZOFFSETTO:-0500
TZNAME:CDT
DTSTART:20250309T080000
END:DAYLIGHT
BEGIN:STANDARD
TZOFFSETFROM:-0500
TZOFFSETTO:-0600
TZNAME:CST
DTSTART:20251102T070000
END:STANDARD
END:VTIMEZONE
BEGIN:VTIMEZONE
TZID:UTC
BEGIN:STANDARD
TZOFFSETFROM:+0000
TZOFFSETTO:+0000
TZNAME:UTC
DTSTART:20230101T000000
END:STANDARD
END:VTIMEZONE
BEGIN:VEVENT
DTSTART;VALUE=DATE:20241231
DTEND;VALUE=DATE:20250101
DTSTAMP:20260425T190841
CREATED:20241214T153753Z
LAST-MODIFIED:20241214T153805Z
UID:14939-1735603200-1735689599@usadesavanja.com
SUMMARY:DOCEK NOVE GODINE // MCC // WILLOWBROOK // DECEMBAR 31. 2024.
DESCRIPTION:Pozivamo vas na spektakularnu novogodišnju zabavu u sali naše crkve Sv. Kirila i Metodija\, 31. decembra u 20h! \nUlaznice: \n$120 – za odrasle \n$40 – za decu od 4 do 17 godina (sa stolicom) \nBesplatno za decu do 3 godine (bez stolice) \nCena uključuje neograničene napitke\, bogatu večeru i živu muziku. \nZa zabavu će se pobrinuti: \nLambe Alabakovski\, Riste Tevdoski & bend \nZa pitanja i rezervacije\, javite se Sneži na 734 516 0392 ili pošaljite tekst poruku na 219 746 1981. \nŽelimo Vam odličan provod!
URL:https://usadesavanja.com/event/docek-nove-godine-mcc-willowbrook-decembar-31-2024/
LOCATION:Crkva Sv. Kirila i Metodija\, 10S330 IL-83\, Willowbrook\, IL\, Chicago\, IL\, 60527\, United States
CATEGORIES:Illinois,Koncerti
ATTACH;FMTTYPE=image/jpeg:https://usadesavanja.com/wp-content/uploads/2024/12/new-2025.jpg
END:VEVENT
BEGIN:VEVENT
DTSTART;VALUE=DATE:20241231
DTEND;VALUE=DATE:20250101
DTSTAMP:20260425T190841
CREATED:20241212T190354Z
LAST-MODIFIED:20241212T190354Z
UID:14912-1735603200-1735689599@usadesavanja.com
SUMMARY:DOCEK NOVE GODINE // SRPSKI KLUB // NEW YORK // DECEMBAR 31. 2024.
DESCRIPTION:Srpski Klub Vas poziva na odličnu svirku i doček Nove godine! \nU utorak 31. decembra – Muzika uživo\, nastupaju: Milan\, Milinko\, Miki i Boba \nCena $150 (All Inclusive) \nInfo: 718 821 9875 \nŽelimo Vam da se odlično provedete!
URL:https://usadesavanja.com/event/docek-nove-godine-srpski-klub-new-york-decembar-31-2024/
LOCATION:Srpski Klub New York\, 7254 65th Pl\, Queens\, NY\, New York\, NY\, 11385\, United States
CATEGORIES:New York
ATTACH;FMTTYPE=image/jpeg:https://usadesavanja.com/wp-content/uploads/2024/12/year-9192308_1280.jpg
END:VEVENT
BEGIN:VEVENT
DTSTART;VALUE=DATE:20241231
DTEND;VALUE=DATE:20250101
DTSTAMP:20260425T190841
CREATED:20241212T185810Z
LAST-MODIFIED:20241212T185810Z
UID:14910-1735603200-1735689599@usadesavanja.com
SUMMARY:DOCEK NOVE GODINE // CRKVA SV. VAZNESENJA // ROCKFORD // DECEMBAR 31. 2024.
DESCRIPTION:Crkva Sv. Vaznesenja (Rockford) Vas poziva na doček Nove 2025. godine! \nUtorak\, 31. decembar od 7PM. Muzika uživo: Velo i Bilja Kalem \nCena $75\, za decu do 12 godina besplatno\, za decu od 12 do 18 godina $30. \nU cenu je uključena bogata posna velera\, flaša šampanjca na stolu. \nRezervacija obavezna. Info: 773 537 8806
URL:https://usadesavanja.com/event/docek-nove-godine-crkva-sv-vaznesenja-rockford-decembar-31-2024/
LOCATION:Crkva Sv. Vaznesenja (Rockford)\, 4301 W Riverside Blvd\, Rockford\, IL\, Rockford\, IL\, 61101\, United States
CATEGORIES:Illinois
ATTACH;FMTTYPE=image/png:https://usadesavanja.com/wp-content/uploads/2024/12/New-year-2025-u9787.png
END:VEVENT
BEGIN:VEVENT
DTSTART;VALUE=DATE:20241231
DTEND;VALUE=DATE:20250101
DTSTAMP:20260425T190841
CREATED:20241212T153559Z
LAST-MODIFIED:20241212T153559Z
UID:14873-1735603200-1735689599@usadesavanja.com
SUMMARY:DOCEK NOVE GODINE // MONTANA'S // MIAMI // DECEMBAR 31. 2024.
DESCRIPTION:Montana’s Miami Beach vas poziva na spektakularan Doček Nove godine uz DJ Vlada \nUlaz: $50 \nRezervišite svoje mesto na: 786 777 9808 \nŽelimo vam odličan provod!
URL:https://usadesavanja.com/event/docek-nove-godine-montanas-miami-decembar-31-2024/
LOCATION:Montana’s Miami Beach\, 736 Ocean Dr\, Miami Beach\, FL\, Miami Beach\, FL\, 33139\, United States
CATEGORIES:Florida,Restorani
ATTACH;FMTTYPE=image/jpeg:https://usadesavanja.com/wp-content/uploads/2024/12/montana-new-year.jpg
END:VEVENT
BEGIN:VEVENT
DTSTART;VALUE=DATE:20241231
DTEND;VALUE=DATE:20250101
DTSTAMP:20260425T190841
CREATED:20241212T152623Z
LAST-MODIFIED:20241212T153038Z
UID:14868-1735603200-1735689599@usadesavanja.com
SUMMARY:DOCEK NOVE GODINE // RAKIJA LOUNGE // MIAMI // DECEMBAR 31. 2024.
DESCRIPTION:Rakija Lounge vas poziva na nezaboravni doček Nove godine uz DJ SickNicka  \nUtorak\, 31. decembar od 21h do 02h \nUlaz: $50 \nRezervacije su obavezne i važiće do 21.30h: 786 558 4805 \nŽelimo vam odličan provod! \n \n 
URL:https://usadesavanja.com/event/docek-nove-godine-rakija-lounge-miami-decembar-31-2024/
LOCATION:Rakija Lounge\, 1131 Collins Ave\, Miami Beach\, FL\, Miami\, FL\, 33139\, United States
CATEGORIES:Florida,Zurke
ATTACH;FMTTYPE=image/jpeg:https://usadesavanja.com/wp-content/uploads/2024/12/rakija-new-year.jpg
END:VEVENT
BEGIN:VEVENT
DTSTART;VALUE=DATE:20241231
DTEND;VALUE=DATE:20250101
DTSTAMP:20260425T190841
CREATED:20241210T184723Z
LAST-MODIFIED:20241210T184723Z
UID:14847-1735603200-1735689599@usadesavanja.com
SUMMARY:DOCEK NOVE GODINE // CRKVA SV. VASKRSENJA // CHICAGO // DECEMBAR 31. 2024.
DESCRIPTION:Crkva Sv. Vaskrsenja Vas poziva na Doček Nove 2025. godine. \nUtorak\, 31. decembar od 7PM. Večera počinje od 8:30PM \nNastupaju: Marija Mara\, Dragan Jovović\, Radovan Filipović i Stanimir Stošić \nUlaznice za odrasle $120. U cenu je uključena večera\, Švedski sto i šampanjac u ponoć. Piće nije uključeno u cenu. Za decu od 5 do 12 godina $50. \nInformacije: 773 693 3367 \nŽelimo Vam odličan provod!
URL:https://usadesavanja.com/event/docek-nove-godine-crkva-sv-vaskrsenja-chicago-decembar-31-2024/
LOCATION:Crkva Sv. Vaskrsenja (5701 N Redwood Dr\, Chicago)\, 5701 N Redwood Dr\, Chicago\, IL\, Chicago\, IL\, 60631\, United States
CATEGORIES:Illinois
ATTACH;FMTTYPE=image/jpeg:https://usadesavanja.com/wp-content/uploads/2020/12/new-year-event.jpg
END:VEVENT
BEGIN:VEVENT
DTSTART;VALUE=DATE:20241231
DTEND;VALUE=DATE:20250101
DTSTAMP:20260425T190841
CREATED:20241107T010613Z
LAST-MODIFIED:20241210T180336Z
UID:14546-1735603200-1735689599@usadesavanja.com
SUMMARY:DOCEK NOVE GODINE // THE ELMCREST BANQUET // CHICAGO // DECEMBAR 31. 2024.
DESCRIPTION:Radio San Promotion Vas poziva na spektakularni doček Nove godine u Čikagu. \nZa Vas nastupaju: Maja Marijana & Đula Drini\nPodrška: DJ Twins \nInfo i rezervacije: 773 425 3911
URL:https://usadesavanja.com/event/docek-nove-2025-godine-the-elmcrest-banquet-chicago-decembar-31-2024/
LOCATION:Elmcrest Banquets\, 7370 Grand Ave\, Elmwood Park\,\, Chicago\, IL\, 60707\, United States
CATEGORIES:Illinois
ATTACH;FMTTYPE=image/jpeg:https://usadesavanja.com/wp-content/uploads/2022/11/new-year-lounge.jpg
END:VEVENT
BEGIN:VEVENT
DTSTART;VALUE=DATE:20241231
DTEND;VALUE=DATE:20250101
DTSTAMP:20260425T190841
CREATED:20241104T202725Z
LAST-MODIFIED:20241210T180348Z
UID:14514-1735603200-1735689599@usadesavanja.com
SUMMARY:DOCEK NOVE GODINE // SKADARLIYA // CHICAGO // DECEMBAR 31. 2024.
DESCRIPTION:Skadarliya Vas poziva na nezaboravnu proslavu dočeka Nove 2025. godine. \nUtorak\, 31. decembar od 9PM. Nastupaju: Sanja Grahovac\, Nikola Prvulović i Ljuba Zarić \nInfo: 708 905 5919 \nŽelimo Vam odličan sportski provod!
URL:https://usadesavanja.com/event/docek-nove-2025-godine-skadarliya-chicago-decembar-31-2024/
LOCATION:Skadarliya\, 9237 West Ogden Ave\, Brookfield\, Chicago\, IL\, 60513\, United States
CATEGORIES:Illinois,Restorani
ATTACH;FMTTYPE=image/jpeg:https://usadesavanja.com/wp-content/uploads/2021/12/nikos-new-year.jpg
END:VEVENT
BEGIN:VEVENT
DTSTART;VALUE=DATE:20241231
DTEND;VALUE=DATE:20250101
DTSTAMP:20260425T190841
CREATED:20241104T154951Z
LAST-MODIFIED:20241216T165239Z
UID:14492-1735603200-1735689599@usadesavanja.com
SUMMARY:DOCEK NOVE GODINE // RESTORAN ZORA // CHICAGO // DECEMBAR 31. 2024.
DESCRIPTION:Etno restoran Zora Vas srdačno poziva da budete njihovi gosti na spektakularnom dočeku Nove godine! \nUtorak 31. decambar od 21h\, očekuje Vas sjajna svirka \nNastupaju: Biljana i Miloš Đorđević\, harmonika: Dragan Pešić \nOčekuje Vas svečana večera i šampanjac u ponoć. Cena $100 po osobi. \nInfo: 773 625 7087 \nŽelimo Vam odličan provod!
URL:https://usadesavanja.com/event/docek-nove-2025-godine-restoran-zora-chicago-decembar-31-2024/
LOCATION:Restoran Zora\, 8445 W Lawrence Ave\, Chicago\, IL\, Chicago\, IL\, /adresar/etno-restoran-zora\, United States
CATEGORIES:Illinois,Restorani
ATTACH;FMTTYPE=image/png:https://usadesavanja.com/wp-content/uploads/2024/11/kalendar-ng-2025-milos.png
END:VEVENT
BEGIN:VEVENT
DTSTART;VALUE=DATE:20241230
DTEND;VALUE=DATE:20241231
DTSTAMP:20260425T190841
CREATED:20241224T195753Z
LAST-MODIFIED:20241224T195753Z
UID:15106-1735516800-1735603199@usadesavanja.com
SUMMARY:FG MORAVA ANNUAL CHRISTMAS EXTRAVAGANZA // CRKVA SV. SAVE // CLEVELAND // DECEMBAR 30. 2024.
DESCRIPTION:Pridružite se FG Morava Annual Christmas Extravaganza! \nDatum: 30. decembar 2024.\nVreme: 18:00–21:00\nLokacija: St. Sava Main Hall\, 2151 W. Wallings Road \nCene ulaznica:\n$25 za plesače\n$35 za neplesače\n(Sve ulaznice uključuju večeru\, piće\, poklone\, rukotvorine\, muziku\, druženje sa Deda Mrazom i još mnogo toga!)\nPosni meni: $15\n(Uključuje ribu\, rigatoni\, pomfrit\, salatu i hleb.) \nKontakt: Gordana Ković – (440) 334-4993 \nPripremite se za magičnu prazničnu noć ispunjenu veseljem\, muzikom i prazničnim duhom!
URL:https://usadesavanja.com/event/fg-morava-annual-christmas-extravaganza-crkva-sv-save-cleveland-decembar-30-2024/
LOCATION:Crkva Sv. Save (Cleveland)\, 2151 W Wallings Rd\, Cleveland\, OH\, Cleveland\, OH\, 44147\, United States
CATEGORIES:Ohio
ATTACH;FMTTYPE=image/png:https://usadesavanja.com/wp-content/uploads/2024/12/NHJGHFGDew-Project.png
END:VEVENT
BEGIN:VEVENT
DTSTART;VALUE=DATE:20241229
DTEND;VALUE=DATE:20241230
DTSTAMP:20260425T190841
CREATED:20241227T181702Z
LAST-MODIFIED:20241227T181702Z
UID:15122-1735430400-1735516799@usadesavanja.com
SUMMARY:NEDELJNA LITURGIJA (MATERICE) // CRKVA SV. NIKOLE // LYONS // DECEMBAR 29. 2024.
DESCRIPTION:Crkva Sv. Nikole (Lyons) Vas poziva na Nedeljnu liturgiju. \nDođite da zajedno proslavimo Materice. Dan kada slavimo majčinsku ljubav i toplinu. \nNedelja\, 29. decembar.
URL:https://usadesavanja.com/event/nedeljna-liturgija-materice-crkva-sv-nikole-lyons-decembar-29-2024/
LOCATION:Crkva Sv. Nikole (Joliet Ave\, Lyons)\, 4315 Joliet Ave\, Lyons\, IL 60534\, Chicago\, IL\, 60534\, United States
CATEGORIES:Illinois
ATTACH;FMTTYPE=image/png:https://usadesavanja.com/wp-content/uploads/2024/11/crkva-sv-nikole-lyons-yt-ps-u857.png
END:VEVENT
BEGIN:VEVENT
DTSTART;VALUE=DATE:20241228
DTEND;VALUE=DATE:20241229
DTSTAMP:20260425T190841
CREATED:20241226T184054Z
LAST-MODIFIED:20241226T184054Z
UID:15113-1735344000-1735430399@usadesavanja.com
SUMMARY:BILJANA\, DANKA\, LJUBA & NIKOLA // COMPASS ARENA // CHICAGO // DECEMBAR 28. 2024.
DESCRIPTION:Compass Arena (Premier Lounge) Vas poziva u subotu 28. decembra na fenomenalnu svirku! \nNastupaju: Biljana\, Danka\, Ljuba i Nikola \nInfo: 630 523 9933 \nŽelimo Vam odličan provod!
URL:https://usadesavanja.com/event/biljana-danka-ljuba-nikola-compass-arena-chicago-decembar-28-2024/
LOCATION:Compass Arena\, 625 Joliet Rd\, Willowbrook\, Chicago\, IL\, /adresar/compass-arena\, United States
CATEGORIES:Illinois
ATTACH;FMTTYPE=image/png:https://usadesavanja.com/wp-content/uploads/2024/12/hhgzfdt56r7t8z9t8r7zfj.png
END:VEVENT
BEGIN:VEVENT
DTSTART;VALUE=DATE:20241228
DTEND;VALUE=DATE:20241229
DTSTAMP:20260425T190841
CREATED:20241220T174004Z
LAST-MODIFIED:20241220T174004Z
UID:15039-1735344000-1735430399@usadesavanja.com
SUMMARY:KAFANSKA NOC (JASMINA I SALE) // IMPERIA LOUNGE // CHICAGO // DECEMBAR 28. 2024.
DESCRIPTION:Imperia Lounge Vas poziva na Kafansku noć! \nSubota 28. decembar. Nastupaju: Jasmina i Sale \nInfo i rezervacije:  872 302 4164 sms: 312 731 8708 \nŽelimo Vam odličan provod!
URL:https://usadesavanja.com/event/kafanska-noc-jasmina-i-sale-imperia-lounge-chicago-decembar-28-2024/
LOCATION:Imperia Lounge\, 2610 W Peterson Ave\, Chicago\, IL\, Chicago\, IL\, 60659\, United States
CATEGORIES:Illinois
ATTACH;FMTTYPE=image/jpeg:https://usadesavanja.com/wp-content/uploads/2022/11/sale-jasmina-new.jpg
END:VEVENT
BEGIN:VEVENT
DTSTART;VALUE=DATE:20241228
DTEND;VALUE=DATE:20241229
DTSTAMP:20260425T190841
CREATED:20241218T142657Z
LAST-MODIFIED:20241218T142833Z
UID:14999-1735344000-1735430399@usadesavanja.com
SUMMARY:BALKAN WINTER WONDERLAND 2024 – PART 3 // BODEGA // CHICAGO // DECEMBAR 28. 2024.
DESCRIPTION:Sam Cappas Productions predstavlja: Balkan Winter Wonderland 2024 – Part 3! \nPridružite se ekskluzivnoj žurci na jednoj od najunikatnijih destinacija noćnog života u Čikagu – Bodega Chicago! \nDatum: Subota\, 28. decembar\nLokacija: Bodega Chicago\, 355 N Clark St\, Chicago\, IL 60654\nVreme: Od 10 pm \nDJ lineup: \n\nDJ HITMAN\nDJ BOOM\nDJ MIKI\n\nUz najbolje Balkan\, Euro i House hitove\, ova noć obećava nezaboravno iskustvo! \nBodega je klub poznat po ekskluzivnoj atmosferi i energiji koja diže noćni provod na viši nivo. \nDress to impress – ovo je događaj sa ograničenim kapacitetom i striktno kontrolisanim dress kodom.\nZa informacije i rezervacije pozovite 773 789 7372 \n21+ | Limited Capacity\nUlaznice možete kupiti OVDE \nNe propustite poslednji deo Balkan Winter Wonderland festivala – vidimo se u Bodega Chicago!\n#BALKANWINTERWONDERLAND
URL:https://usadesavanja.com/event/balkan-winter-wonderland-2024-part-3-bodega-chicago-decembar-28-2024/
LOCATION:Bodega Nightclub\, 353 North Clark\, 65 W Kinzie St\, Chicago\, IL\, Chicago\, IL\, 60654\, United States
CATEGORIES:Illinois,Zurke
ATTACH;FMTTYPE=image/jpeg:https://usadesavanja.com/wp-content/uploads/2024/12/https___cdn.evbuc_.com_images_912396303_233380775262_1_original.jpg
END:VEVENT
BEGIN:VEVENT
DTSTART;VALUE=DATE:20241228
DTEND;VALUE=DATE:20241229
DTSTAMP:20260425T190841
CREATED:20241212T162918Z
LAST-MODIFIED:20241212T162918Z
UID:14887-1735344000-1735430399@usadesavanja.com
SUMMARY:ELIZA FARRIS & ADNAN BABAJIC // 220 LOUNGE // CHICAGO // DECEMBAR 28. 2024.
DESCRIPTION:220 Lounge Vas poziva na fenomenalnu svirku! \nSubota 28. decembar. Nastupaju: Adnan Babajić i Eliza Farris \nInfo: 773 863 2620 \nŽelimo Vam odličan provod! \n 
URL:https://usadesavanja.com/event/eliza-farris-adnan-babajic-220-lounge-chicago-decembar-28-2024/
LOCATION:Club 220\, 7021 W Higgins Ave\, Chicago\, IL\, Chicago\, IL\, 60656\, United States
CATEGORIES:Illinois
ATTACH;FMTTYPE=image/png:https://usadesavanja.com/wp-content/uploads/2024/12/adnan-i-eliza.png
END:VEVENT
BEGIN:VEVENT
DTSTART;VALUE=DATE:20241228
DTEND;VALUE=DATE:20241229
DTSTAMP:20260425T190841
CREATED:20241123T110451Z
LAST-MODIFIED:20241123T110451Z
UID:14722-1735344000-1735430399@usadesavanja.com
SUMMARY:IVANA PILJA & MILOS KALCA // RESTORAN ZORA // CHICAGO // DECEMBAR 28. 2024.
DESCRIPTION:Etno restoran Zora Vas srdačno poziva da budete njihovi gosti! \nU subotu\, 28. decembra očekuje Vas sjajna svirka! \nNastupaju: Ivana Pilja i Miloš Kalča \nInfo: 773 625 7087 \nŽelimo Vam odličan provod!
URL:https://usadesavanja.com/event/ivana-pilja-milos-kalca-restoran-zora-chicago-decembar-28-2024/
LOCATION:Restoran Zora\, 8445 W Lawrence Ave\, Chicago\, IL\, Chicago\, IL\, /adresar/etno-restoran-zora\, United States
CATEGORIES:Illinois,Restorani
ATTACH;FMTTYPE=image/jpeg:https://usadesavanja.com/wp-content/uploads/2024/08/milos-kalca-new-2024.jpg
END:VEVENT
BEGIN:VEVENT
DTSTART;VALUE=DATE:20241228
DTEND;VALUE=DATE:20241229
DTSTAMP:20260425T190841
CREATED:20241122T175456Z
LAST-MODIFIED:20241122T180330Z
UID:14685-1735344000-1735430399@usadesavanja.com
SUMMARY:SEJLA ZONIC & ANID CUSIC // MCC BANQUET CENTER // DETROIT // DECEMBAR 28. 2024.
DESCRIPTION:Balkan Sound Promotion & MMC Banquet Center Vas pozivaju na koncert\, u subotu 28. decembra \nŠejla Zonić & Anid Ćušić \nStart: 21h \nInfo i rezervacije: 586 822 3278 \n \n 
URL:https://usadesavanja.com/event/sejla-zonic-anid-cusic-mcc-banquet-center-detroit-decembar-28-2024/
LOCATION:MCC Banquets\, 43133 Ryan Rd\, Sterling Heights\, Detroit\, MI\, 48314\, United States
CATEGORIES:Michigan
ATTACH;FMTTYPE=image/jpeg:https://usadesavanja.com/wp-content/uploads/2024/11/sejla-i-anid.jpg
END:VEVENT
BEGIN:VEVENT
DTSTART;VALUE=DATE:20241228
DTEND;VALUE=DATE:20241229
DTSTAMP:20260425T190841
CREATED:20241111T181633Z
LAST-MODIFIED:20241111T181633Z
UID:14610-1735344000-1735430399@usadesavanja.com
SUMMARY:SANJA\, SANEL & RAJKO // SKADARLIYA // CHICAGO // DECEMBAR 28. 2024.
DESCRIPTION:Restoran Skadarliya Vas poziva na sjajnu svirku! \nSubota\, 28. decembar\, Sanja Grahovac\, Sanel Bajrami & Rajko Paunović \nInfo: 708 905 5919 \nŽelimo Vam odličan provod!
URL:https://usadesavanja.com/event/sanja-sanel-rajko-skadarliya-chicago-decembar-28-2024/
LOCATION:Skadarliya\, 9237 West Ogden Ave\, Brookfield\, Chicago\, IL\, 60513\, United States
CATEGORIES:Illinois,Restorani
ATTACH;FMTTYPE=image/jpeg:https://usadesavanja.com/wp-content/uploads/2024/06/sanja-grahovac-new-2024.jpg
END:VEVENT
BEGIN:VEVENT
DTSTART;VALUE=DATE:20241228
DTEND;VALUE=DATE:20241229
DTSTAMP:20260425T190841
CREATED:20241212T184042Z
LAST-MODIFIED:20241227T151147Z
UID:14905-1735344000-1735430399@usadesavanja.com
SUMMARY:DRAGANA RAKCEVIC\, MILE VUJNOVIC & DJ TWINS // STEFAN GRILL // CHICAGO // DECEMBAR 28. 2024.
DESCRIPTION:Stefan Grill Vas poziva u subotu 28. decembra na sjajnu svirku! \nNastupaju: Dragana Rakčević\, Mile Vujnović i DJ Twins \nInfo: 708 579 0621 \nŽelimo Vam odličan provod!
URL:https://usadesavanja.com/event/dragana-rakcevic-stefan-grill-chicago-decembar-28-2024/
LOCATION:Stefan Grill\, 7101 Santa Fe Dr\, Hodgkins\, IL\, Chicago\, IL\, 60525\, United States
CATEGORIES:Illinois
ATTACH;FMTTYPE=image/jpeg:https://usadesavanja.com/wp-content/uploads/2023/12/dragana-080.jpg
END:VEVENT
BEGIN:VEVENT
DTSTART;VALUE=DATE:20241227
DTEND;VALUE=DATE:20241228
DTSTAMP:20260425T190841
CREATED:20241226T183453Z
LAST-MODIFIED:20241226T183453Z
UID:15111-1735257600-1735343999@usadesavanja.com
SUMMARY:KAFANSKA NOC // COMPASS ARENA // CHICAGO // DECEMBAR 27. 2024.
DESCRIPTION:Compass Arena (Premier Lounge) Vas poziva u petak 27. decembra na Kafansku noć! \nNastupaju: Dragana Rakčević\, Miloš Kalča\, Mile Vujnović i Neša Perić (harmonika) \nInfo: 630 523 9933 \nŽelimo Vam odličan provod!
URL:https://usadesavanja.com/event/kafanska-noc-compass-arena-chicago-decembar-27-2024/
LOCATION:Compass Arena\, 625 Joliet Rd\, Willowbrook\, Chicago\, IL\, /adresar/compass-arena\, United States
CATEGORIES:Illinois
ATTACH;FMTTYPE=image/jpeg:https://usadesavanja.com/wp-content/uploads/2024/06/dragana-i-kalca-Screenshot_20240624_203128_edit_877402731002585.jpg
END:VEVENT
BEGIN:VEVENT
DTSTART;VALUE=DATE:20241227
DTEND;VALUE=DATE:20241228
DTSTAMP:20260425T190841
CREATED:20241218T144002Z
LAST-MODIFIED:20241218T144003Z
UID:15003-1735257600-1735343999@usadesavanja.com
SUMMARY:BALKAN WINTER WONDERLAND 2024 – PART 2 // PROOF BAR + EATERY // INDIANA // DECEMBAR 27. 2024.
DESCRIPTION:Sam Cappas Productions predstavlja: Balkan Winter Wonderland 2024 – Part 2! \nNakon velikog uspeha\, vraćamo se u Indianu! Pridružite nam se u petak\, 27. decembra\, za nezaboravno veče ispunjeno iznenađenjima i energijom koja se ne propušta! \nLokacija: Proof Bar + Eatery\, 1827-1831 W Glen Park Ave\, Griffith\, IN 46319\nVreme: Od 9 pm do 3 am \nDJ lineup: \n\nDJ SPAZ\nDJ DEX\n\nSpremite se za najbolje Balkan\, Euro i House hitove koji će rasplamsati atmosferu! \nLimited Capacity: Požurite i rezervišite svoje mesto na vreme.\nDress code enforced – obucite se za nezaboravnu noć! \nZa informacije i rezervacije pozovite 773 789 7372\nUlaunice možete kupiti OVDE \n21+ | Ovo je žurka koju Indiana neće zaboraviti! \n#BALKANWINTERWONDERLAND
URL:https://usadesavanja.com/event/balkan-winter-wonderland-2024-part-2-proof-bar-eatery-indiana-decembar-27-2024/
LOCATION:Proof Bar + Eatery\, 1827 - 1831 W Glen Park Ave\, Griffith\, IN 46319\, Indiana\, IN\, United States
CATEGORIES:Indiana,Zurke
ATTACH;FMTTYPE=image/jpeg:https://usadesavanja.com/wp-content/uploads/2024/12/https___cdn.evbuc_.com_images_912396303_233380775262_1_original.jpg
END:VEVENT
BEGIN:VEVENT
DTSTART;VALUE=DATE:20241227
DTEND;VALUE=DATE:20241228
DTSTAMP:20260425T190841
CREATED:20241216T185035Z
LAST-MODIFIED:20241216T185035Z
UID:14978-1735257600-1735343999@usadesavanja.com
SUMMARY:ALMIR M & TRIBUN BAND // PLAYBOOK // CHICAGO // DECEMBAR 27. 2024.
DESCRIPTION:Playbook Vas poziva na nezaboravnu žurku! \nPetak\, 27. decembar. Nastupaju: Almir M & Tribun band \nInfo i rezervacije: 847 588 7529 \nŽelimo Vam odličan provod!
URL:https://usadesavanja.com/event/almir-m-tribun-band-playbook-chicago-decembar-27-2024/
LOCATION:Playbook\, 6913 N Milwaukee Ave\, Niles\, IL\, Niles\, IL\, 60714\, United States
CATEGORIES:Illinois
ATTACH;FMTTYPE=image/jpeg:https://usadesavanja.com/wp-content/uploads/2024/09/Screenshot_20240903_190043.jpg
END:VEVENT
BEGIN:VEVENT
DTSTART;VALUE=DATE:20241227
DTEND;VALUE=DATE:20241228
DTSTAMP:20260425T190841
CREATED:20241212T164500Z
LAST-MODIFIED:20241218T135530Z
UID:14891-1735257600-1735343999@usadesavanja.com
SUMMARY:BALKAN NIGHT PARTY VOL. 2 // PELLA SIGNATURE // CHICAGO // DECEMBAR 27. 2024.
DESCRIPTION:Pella Signature Vas poziva na Balkan Night Party Vol. 2 – A NYE Warm-Up Party \nPetak 27. decembar od 9:30PM. Nastupaju: Sanja Grahovac\, Balkan Wave Band\, DJ Gizep i Tony Radzik (Violina) \nUlaznice možete kupiti OVDE \nInfo i rezervacije: 773 275 4187 \nŽelimo Vam odličan provod!
URL:https://usadesavanja.com/event/balkan-night-party-vol-2-pella-signature-chicago-decembar-27-2024/
LOCATION:Pella Signature\, 720 Village Center Dr\, Burr Ridge\, IL\, Chicago\, IL\, 60527\, United States
CATEGORIES:Illinois
ATTACH;FMTTYPE=image/jpeg:https://usadesavanja.com/wp-content/uploads/2024/12/IMG-8dba660e29a745e91a4e6be44c9459fa-V.jpg
END:VEVENT
BEGIN:VEVENT
DTSTART;VALUE=DATE:20241227
DTEND;VALUE=DATE:20241228
DTSTAMP:20260425T190841
CREATED:20241212T162401Z
LAST-MODIFIED:20241227T142802Z
UID:14885-1735257600-1735343999@usadesavanja.com
SUMMARY:OTKAZANO!!! ADNAN BABAJIC & DEKI PETROVIC // 220 LOUNGE // CHICAGO // DECEMBAR 27. 2024.
DESCRIPTION:220 Lounge Vas poziva na fenomenalnu svirku! \nPetak 27. decembar. Nastupaju: Adnan Babajić i Dejan Deki Petrović \nInfo: 773 863 2620 \nŽelimo Vam odličan provod! \n 
URL:https://usadesavanja.com/event/adnan-babajic-220-lounge-chicago-decembar-27-2024/
LOCATION:Club 220\, 7021 W Higgins Ave\, Chicago\, IL\, Chicago\, IL\, 60656\, United States
CATEGORIES:Illinois
ATTACH;FMTTYPE=image/jpeg:https://usadesavanja.com/wp-content/uploads/2022/09/adnan-babajic-new.jpg
END:VEVENT
BEGIN:VEVENT
DTSTART;VALUE=DATE:20241227
DTEND;VALUE=DATE:20241228
DTSTAMP:20260425T190841
CREATED:20241122T180241Z
LAST-MODIFIED:20241122T180241Z
UID:14689-1735257600-1735343999@usadesavanja.com
SUMMARY:SEJLA ZONIC & ANID CUSIC // 801 EVENT CENTER // SALT LAKE CITY // DECEMBAR 27. 2024.
DESCRIPTION:Balkan Sound Promotion & 801 Event Center Vas pozivaju na koncert\, u petak 27. decembra \nŠejla Zonić & Anid Ćušić \nStart: 20. 30h \nInfo i rezervacije: 801 300 6011 \n \n 
URL:https://usadesavanja.com/event/sejla-zonic-anid-cusic-801event-center-salt-lake-city-decembar-27-2024/
LOCATION:801 Event Center\, 1055 W N Temple St\, Salt Lake City\, UT\, Salt Lake City\, UT\, 84116\, United States
CATEGORIES:Utah
ATTACH;FMTTYPE=image/jpeg:https://usadesavanja.com/wp-content/uploads/2024/11/sejla-i-anid.jpg
END:VEVENT
BEGIN:VEVENT
DTSTART;VALUE=DATE:20241227
DTEND;VALUE=DATE:20241228
DTSTAMP:20260425T190841
CREATED:20241112T224951Z
LAST-MODIFIED:20241123T105404Z
UID:14651-1735257600-1735343999@usadesavanja.com
SUMMARY:DANKA\, LJUBA & JOSIFOVSKI // RESTORAN ZORA // CHICAGO // DECEMBAR 27. 2024.
DESCRIPTION:Etno restoran Zora Vas srdačno poziva da budete njihovi gosti! \nU petak\, 27. decembra od 22h\, očekuje Vas sjajna svirka. \nNastupaju: Danka Gajić\, Ljuba Zarić i Aleksandar Josifovski \nInfo: 773 625 7087 \nŽelimo Vam odličan provod!
URL:https://usadesavanja.com/event/danka-gajic-ljuba-zaric-restoran-zora-chicago-decembar-27-2024/
LOCATION:Restoran Zora\, 8445 W Lawrence Ave\, Chicago\, IL\, Chicago\, IL\, /adresar/etno-restoran-zora\, United States
CATEGORIES:Illinois,Restorani
ATTACH;FMTTYPE=image/png:https://usadesavanja.com/wp-content/uploads/2024/08/danka-gajic-new24.png
END:VEVENT
BEGIN:VEVENT
DTSTART;VALUE=DATE:20241227
DTEND;VALUE=DATE:20241228
DTSTAMP:20260425T190841
CREATED:20241111T181432Z
LAST-MODIFIED:20241111T181432Z
UID:14608-1735257600-1735343999@usadesavanja.com
SUMMARY:IVANA PILJA\, SANEL & RAJKO // SKADARLIYA // CHICAGO // DECEMBAR 27. 2024.
DESCRIPTION:Restoran Skadarliya Vas poziva na sjajnu svirku! \nPetak\, 27. decembar\, Ivana Pilja\, Sanel Bajrami & Rajko Paunović \nInfo: 708 905 5919 \nŽelimo Vam odličan provod!
URL:https://usadesavanja.com/event/ivana-pilja-sanel-rajko-skadarliya-chicago-decembar-27-2024/
LOCATION:Skadarliya\, 9237 West Ogden Ave\, Brookfield\, Chicago\, IL\, 60513\, United States
CATEGORIES:Illinois,Restorani
ATTACH;FMTTYPE=image/jpeg:https://usadesavanja.com/wp-content/uploads/2020/07/skadarliya.jpg
END:VEVENT
BEGIN:VEVENT
DTSTART;VALUE=DATE:20241226
DTEND;VALUE=DATE:20241227
DTSTAMP:20260425T190841
CREATED:20241221T112944Z
LAST-MODIFIED:20241224T200258Z
UID:15041-1735171200-1735257599@usadesavanja.com
SUMMARY:SANJA\, LJUBA & SANEL // COMPASS ARENA // CHICAGO // DECEMBAR 26. 2024.
DESCRIPTION:Compass Arena (Whiskey bar) Vas poziva u četvrtak 26. decembra na odličnu svirku! \nNastupaju: Sanja Grahovac\, Ljuba Zarić i Sanel Bajrami \nInfo: 630 523 9933 \nŽelimo Vam odličan provod!
URL:https://usadesavanja.com/event/sanja-sanel-compass-arena-chicago-decembar-26-2024/
LOCATION:Compass Arena\, 625 Joliet Rd\, Willowbrook\, Chicago\, IL\, /adresar/compass-arena\, United States
CATEGORIES:Illinois
ATTACH;FMTTYPE=image/jpeg:https://usadesavanja.com/wp-content/uploads/2024/01/sanja-grahovac-new.jpg
END:VEVENT
BEGIN:VEVENT
DTSTART;VALUE=DATE:20241225
DTEND;VALUE=DATE:20241226
DTSTAMP:20260425T190841
CREATED:20241219T145416Z
LAST-MODIFIED:20241219T145416Z
UID:15036-1735084800-1735171199@usadesavanja.com
SUMMARY:JOLLY CHRISTMAS WITH SANTA CLAUS // COMPASS ARENA // CHICAGO // DECEMBAR 20. 2024.
DESCRIPTION:Jolly Christmas with Santa Claus at Compass Arena! \nBring the family for a festive celebration filled with holiday cheer! Enjoy a FREE photo with Santa (printed on the spot!)\, gifts for kids\, bouncy houses\, fun activities\, Face painting and more. Plus\, indulge in delicious meals and great company while creating unforgettable memories. \n– $25 per child | $35 per adult (Includes meal\, drink & activities)\n– Breakfast (9:30-11:30 AM): French Toast\, Donuts \, or American breakfast\n– Lunch (12:30-2:30 PM): Carbonara Pasta\, Caesar salad\, or Vienna Schnitzel\n– Dinner (3:30-5:30 PM): Vienna Schnitzel\, Shrimp Tacos\, or Carbonara Pasta \nReserve your spot by December 23: Call 630 504 4282
URL:https://usadesavanja.com/event/jolly-christmas-with-santa-claus-compass-arena-chicago-decembar-20-2024/
LOCATION:Compass Arena\, 625 Joliet Rd\, Willowbrook\, Chicago\, IL\, /adresar/compass-arena\, United States
CATEGORIES:Illinois
ATTACH;FMTTYPE=image/png:https://usadesavanja.com/wp-content/uploads/2024/12/compass-chri.png
END:VEVENT
BEGIN:VEVENT
DTSTART;VALUE=DATE:20241225
DTEND;VALUE=DATE:20241226
DTSTAMP:20260425T190841
CREATED:20241122T181817Z
LAST-MODIFIED:20241122T181817Z
UID:14699-1735084800-1735171199@usadesavanja.com
SUMMARY:SEJLA ZONIC & ANID CUSIC // CAFE DERBI // LAS VEGAS // DECEMBAR 25. 2024.
DESCRIPTION:Balkan Sound Promotion & Cafe Derbi Vas pozivaju na proslavu katoličkog Božića\, u sredu 25. decembra \nŠejla Zonić & Anid Ćušić \nStart: 20. 30h \nInfo i rezervacije: 702 824 4699 \n \n 
URL:https://usadesavanja.com/event/sejla-zonic-anid-cusic-cafe-derbi-las-vegas-decembar-25-2024/
LOCATION:Cafe Derbi\, 5920 W Flamingo Rd Las Vegas\, NV 89103\, Las Vegas\, NV\, 89103\, United States
CATEGORIES:Nevada
ATTACH;FMTTYPE=image/jpeg:https://usadesavanja.com/wp-content/uploads/2024/11/sejla-i-anid.jpg
END:VEVENT
END:VCALENDAR