BEGIN:VCALENDAR
VERSION:2.0
PRODID:-//USA Desavanja - ECPv6.15.17.1//NONSGML v1.0//EN
CALSCALE:GREGORIAN
METHOD:PUBLISH
X-WR-CALNAME:USA Desavanja
X-ORIGINAL-URL:https://usadesavanja.com
X-WR-CALDESC:Events for USA Desavanja
REFRESH-INTERVAL;VALUE=DURATION:PT1H
X-Robots-Tag:noindex
X-PUBLISHED-TTL:PT1H
BEGIN:VTIMEZONE
TZID:UTC
BEGIN:STANDARD
TZOFFSETFROM:+0000
TZOFFSETTO:+0000
TZNAME:UTC
DTSTART:20230101T000000
END:STANDARD
END:VTIMEZONE
BEGIN:VTIMEZONE
TZID:America/Chicago
BEGIN:DAYLIGHT
TZOFFSETFROM:-0600
TZOFFSETTO:-0500
TZNAME:CDT
DTSTART:20230312T080000
END:DAYLIGHT
BEGIN:STANDARD
TZOFFSETFROM:-0500
TZOFFSETTO:-0600
TZNAME:CST
DTSTART:20231105T070000
END:STANDARD
BEGIN:DAYLIGHT
TZOFFSETFROM:-0600
TZOFFSETTO:-0500
TZNAME:CDT
DTSTART:20240310T080000
END:DAYLIGHT
BEGIN:STANDARD
TZOFFSETFROM:-0500
TZOFFSETTO:-0600
TZNAME:CST
DTSTART:20241103T070000
END:STANDARD
BEGIN:DAYLIGHT
TZOFFSETFROM:-0600
TZOFFSETTO:-0500
TZNAME:CDT
DTSTART:20250309T080000
END:DAYLIGHT
BEGIN:STANDARD
TZOFFSETFROM:-0500
TZOFFSETTO:-0600
TZNAME:CST
DTSTART:20251102T070000
END:STANDARD
END:VTIMEZONE
BEGIN:VEVENT
DTSTART;VALUE=DATE:20240526
DTEND;VALUE=DATE:20240527
DTSTAMP:20260419T094432
CREATED:20240507T150348Z
LAST-MODIFIED:20240507T150423Z
UID:12952-1716681600-1716767999@usadesavanja.com
SUMMARY:DJUROLOGIJA // THE CUTTING ROOM // NEW YORK // MAJ 26. 2024.
DESCRIPTION:Backstage54 Vas poziva 26. maja na Đurologiju i Đurine čarolije! \nPočetak: 19. 30h \nDoors open: 18. 30h \nOnline ulaznice možete kupiti ovde. \nInfo:  212 691 1900 \n\n\nO predstavi: \nKao sto sam autor predstave “Đurologija” Branko Đurić Đuro kaže: “Đurologija je zbirka mojih razmišljanja\, koja na zabavan način predstavljaju sve ono što me nasmijava i zabavlja\, ali i nervira. To je moj svojevrsni anti-stand up show\, koji po najviše podsjeća na neposredani iskren razgovor sa publikom”\, otkriva Branko Đurić Đuro. \nVeć je kao junak urnebesnog showa “Top lista nadrealista” obarao s nogu\, a u posljednje vrijeme je briljirao u filmovima “Montevideo\, vidimo se” i “Atomski zdesna”. Đuro iza sebe ima i izuzetno uspješnih projekata u kojima je podjednako vješto uskakao u uloge glumca\, reditelja ili autora – spomenimo samo filmske hitove “Ničija zemlja”\, “Kajmak i marmelada”\, “U zemlji krvi i meda”\, a tu je i humoristička serija “Naša mala klinika“ za koju je pisao scenarij te režirao i producirao seriju. \nSvestrani Đuro brojne fanove ima i među ljubiteljima svog originalnog muzičkog izraza kao frontman “Bombaj štampe” već je odavno svojim hitovima osvojio publiku. \n\n\nŽelimo Vam odličan provod!
URL:https://usadesavanja.com/event/djurologija-the-cutting-room-new-york-maj-26-2024/
LOCATION:The Cutting Room\, 44 E 32nd St\, New York\, NY\, New York\, NY\, 10016\, United States
CATEGORIES:Koncerti,New York
ATTACH;FMTTYPE=image/jpeg:https://usadesavanja.com/wp-content/uploads/2024/05/djurologija2024.jpg
END:VEVENT
BEGIN:VEVENT
DTSTART;TZID=America/Chicago:20240526T080000
DTEND;TZID=America/Chicago:20240526T170000
DTSTAMP:20260419T094432
CREATED:20240524T162333Z
LAST-MODIFIED:20240524T164945Z
UID:13082-1716710400-1716742800@usadesavanja.com
SUMMARY:BALKAN NIGHT // CATALUNA LOUNGE // JACKSONVILLE\, FL // MAJ 26. 2024.
DESCRIPTION:Cataluna Lounge Vas poziva u nedelju\, 26. maja\, na Balkan night! \nNastupaju: Dragana Rakčević\, Miloš Kalča & Keyboard Sanel \nInfo: 904 300 3901 \nŽelimo Vam odličan provod!
URL:https://usadesavanja.com/event/balkan-night-cataluna-lounge-jacksoville-fl-maj-26-2024/
LOCATION:cataluna lounge\, 8206 Philips Hwy UNIT 39\, 8206 Philips Hwy UNIT 39\, Jacksonville\, FL 32256\, FL 32256\, Jacksonville\, FL\, 32256\, United States
CATEGORIES:Florida
ATTACH;FMTTYPE=image/jpeg:https://usadesavanja.com/wp-content/uploads/2024/05/IMG-KALCAIDRAGANA-V_edit_432157937761028.jpg
END:VEVENT
END:VCALENDAR