BEGIN:VCALENDAR
VERSION:2.0
PRODID:-//USA Desavanja - ECPv6.15.17.1//NONSGML v1.0//EN
CALSCALE:GREGORIAN
METHOD:PUBLISH
X-WR-CALNAME:USA Desavanja
X-ORIGINAL-URL:https://usadesavanja.com
X-WR-CALDESC:Events for USA Desavanja
REFRESH-INTERVAL;VALUE=DURATION:PT1H
X-Robots-Tag:noindex
X-PUBLISHED-TTL:PT1H
BEGIN:VTIMEZONE
TZID:UTC
BEGIN:STANDARD
TZOFFSETFROM:+0000
TZOFFSETTO:+0000
TZNAME:UTC
DTSTART:20230101T000000
END:STANDARD
END:VTIMEZONE
BEGIN:VTIMEZONE
TZID:America/Chicago
BEGIN:DAYLIGHT
TZOFFSETFROM:-0600
TZOFFSETTO:-0500
TZNAME:CDT
DTSTART:20230312T080000
END:DAYLIGHT
BEGIN:STANDARD
TZOFFSETFROM:-0500
TZOFFSETTO:-0600
TZNAME:CST
DTSTART:20231105T070000
END:STANDARD
BEGIN:DAYLIGHT
TZOFFSETFROM:-0600
TZOFFSETTO:-0500
TZNAME:CDT
DTSTART:20240310T080000
END:DAYLIGHT
BEGIN:STANDARD
TZOFFSETFROM:-0500
TZOFFSETTO:-0600
TZNAME:CST
DTSTART:20241103T070000
END:STANDARD
BEGIN:DAYLIGHT
TZOFFSETFROM:-0600
TZOFFSETTO:-0500
TZNAME:CDT
DTSTART:20250309T080000
END:DAYLIGHT
BEGIN:STANDARD
TZOFFSETFROM:-0500
TZOFFSETTO:-0600
TZNAME:CST
DTSTART:20251102T070000
END:STANDARD
END:VTIMEZONE
BEGIN:VEVENT
DTSTART;VALUE=DATE:20241213
DTEND;VALUE=DATE:20241214
DTSTAMP:20260420T031815
CREATED:20241129T193738Z
LAST-MODIFIED:20241129T193738Z
UID:14790-1734048000-1734134399@usadesavanja.com
SUMMARY:GREEK NIGHT // COMPASS ARENA // CHICAGO // DECEMBAR 13. 2024.
DESCRIPTION:Greek Night is coming to Compass Arena’s Premier Lounge – 3rd Floor! \nJoin us on December 13th at 9 PM for an unforgettable evening with the amazing Kyriacos Georgiou featuring DJ Yianni! \nDress to impress\nTickets only $35 – Grab yours now at Eventbrite.com\nFREE parking \nDon’t miss the best Greek vibes in the suburbs!
URL:https://usadesavanja.com/event/greek-night-compass-arena-chicago-decembar-13-2024/
LOCATION:Compass Arena\, 625 Joliet Rd\, Willowbrook\, Chicago\, IL\, /adresar/compass-arena\, United States
CATEGORIES:Illinois
ATTACH;FMTTYPE=image/png:https://usadesavanja.com/wp-content/uploads/2024/11/HHHCDER5678IK.png
ORGANIZER;CN="Compass Arena":MAILTO:info@compassarena.com
END:VEVENT
BEGIN:VEVENT
DTSTART;VALUE=DATE:20241213
DTEND;VALUE=DATE:20241214
DTSTAMP:20260420T031815
CREATED:20241209T150317Z
LAST-MODIFIED:20241209T150816Z
UID:14830-1734048000-1734134399@usadesavanja.com
SUMMARY:HOLIDAY PARTY // PLAYBOOK // CHICAGO // DECEMBAR 13. 2024.
DESCRIPTION:Playbook Vas poziva u petak 13. decembra na Holiday party! \nNastupa: DJ Mars \nInfo: 847 588 7529 \nŽelimo Vam odličan provod!
URL:https://usadesavanja.com/event/holiday-party-playbook-chicago-decembar-13-2024/
LOCATION:Playbook\, 6913 N Milwaukee Ave\, Niles\, IL\, Niles\, IL\, 60714\, United States
CATEGORIES:Illinois
ATTACH;FMTTYPE=image/jpeg:https://usadesavanja.com/wp-content/uploads/2020/07/dj-usa.jpg
END:VEVENT
BEGIN:VEVENT
DTSTART;VALUE=DATE:20241213
DTEND;VALUE=DATE:20241214
DTSTAMP:20260420T031815
CREATED:20241210T190529Z
LAST-MODIFIED:20241210T190529Z
UID:14858-1734048000-1734134399@usadesavanja.com
SUMMARY:DRAGANA\, RAJKO & MILE // COMPASS ARENA // CHICAGO // DECEMBAR 13. 2024.
DESCRIPTION:Compass Arena (Whiskey bar) Vas poziva u petak 13. decembra od 9PM na odličnu svirku! \nNastupaju: Dragana\, Rajko i Mile \nInfo: 630 523 9933 \nŽelimo Vam odličan provod!
URL:https://usadesavanja.com/event/dragana-rajko-mile-compass-arena-chicago-decembar-13-2024/
LOCATION:Compass Arena\, 625 Joliet Rd\, Willowbrook\, Chicago\, IL\, /adresar/compass-arena\, United States
CATEGORIES:Illinois
ATTACH;FMTTYPE=image/png:https://usadesavanja.com/wp-content/uploads/2024/12/dragana-rajko-mile-petak.png
END:VEVENT
END:VCALENDAR