BEGIN:VCALENDAR
VERSION:2.0
PRODID:-//USA Desavanja - ECPv6.15.17.1//NONSGML v1.0//EN
CALSCALE:GREGORIAN
METHOD:PUBLISH
X-WR-CALNAME:USA Desavanja
X-ORIGINAL-URL:https://usadesavanja.com
X-WR-CALDESC:Events for USA Desavanja
REFRESH-INTERVAL;VALUE=DURATION:PT1H
X-Robots-Tag:noindex
X-PUBLISHED-TTL:PT1H
BEGIN:VTIMEZONE
TZID:UTC
BEGIN:STANDARD
TZOFFSETFROM:+0000
TZOFFSETTO:+0000
TZNAME:UTC
DTSTART:20230101T000000
END:STANDARD
END:VTIMEZONE
BEGIN:VTIMEZONE
TZID:America/Chicago
BEGIN:DAYLIGHT
TZOFFSETFROM:-0600
TZOFFSETTO:-0500
TZNAME:CDT
DTSTART:20230312T080000
END:DAYLIGHT
BEGIN:STANDARD
TZOFFSETFROM:-0500
TZOFFSETTO:-0600
TZNAME:CST
DTSTART:20231105T070000
END:STANDARD
BEGIN:DAYLIGHT
TZOFFSETFROM:-0600
TZOFFSETTO:-0500
TZNAME:CDT
DTSTART:20240310T080000
END:DAYLIGHT
BEGIN:STANDARD
TZOFFSETFROM:-0500
TZOFFSETTO:-0600
TZNAME:CST
DTSTART:20241103T070000
END:STANDARD
BEGIN:DAYLIGHT
TZOFFSETFROM:-0600
TZOFFSETTO:-0500
TZNAME:CDT
DTSTART:20250309T080000
END:DAYLIGHT
BEGIN:STANDARD
TZOFFSETFROM:-0500
TZOFFSETTO:-0600
TZNAME:CST
DTSTART:20251102T070000
END:STANDARD
END:VTIMEZONE
BEGIN:VEVENT
DTSTART;VALUE=DATE:20241214
DTEND;VALUE=DATE:20241215
DTSTAMP:20260422T035758
CREATED:20241111T150622Z
LAST-MODIFIED:20241205T175522Z
UID:14585-1734134400-1734220799@usadesavanja.com
SUMMARY:VOLIM '90 (BILJANA I MILOS) // AT 7 BAR & GRILL // CHICAGO // DECEMBAR 14. 2024.
DESCRIPTION:Chicago Desavanja i At 7 Bar & Grill (Des Plaines) za Vas organizuju žurku Volim ’90. \nBiljana i Miloš nastupiće u subotu\, 14. decembra od 22h. Podrška: DJ Sick Nick \nDress code: ’90.\nUlaz: $20. \nDrink Specials:\nGrey Goose Bottle $200\nJohnnie Walker Black Bottle $200\nStella Draft $5\nCorona Bucket 5×20\nAperol Or Passion Fruit Spritz $12 \nBottle service for Serbian Brandys available! \nDaska – meze $20 \n \nBesplatan parking na celoj plazi a možete parkirati preko puta At 7 Bara na Market ulici u Metropolitan Square Garage. \nInfo & Rezervacije: 815 980 5810 \nRezervišite svoje mesto na vreme!
URL:https://usadesavanja.com/event/volim-90-biljana-i-milos-at-7-bar-grill-chicago-decembar-14-2024/
LOCATION:At 7 Bar & Grill\, 1472 Market St\, Des Plaines\, IL\, Chicago\, IL\, 60016\, United States
CATEGORIES:Illinois,Zurke
ATTACH;FMTTYPE=image/png:https://usadesavanja.com/wp-content/uploads/2024/11/kalendar-baner.png
END:VEVENT
BEGIN:VEVENT
DTSTART;VALUE=DATE:20241214
DTEND;VALUE=DATE:20241215
DTSTAMP:20260422T035758
CREATED:20241127T204900Z
LAST-MODIFIED:20241127T204900Z
UID:14742-1734134400-1734220799@usadesavanja.com
SUMMARY:MACEDONIAN NIGHT // COMPASS ARENA // CHICAGO // DECEMBAR 14. 2024.
DESCRIPTION:Join us for an unforgettable Macedonian Night at Compass Arena on 12/14! Enjoy live performances\, drinks\, and amazing vibes at the Premier Lounge – 3rd floor. \nPerformances by:\nBlagoja Smilevski\, Kosta Hristov\, Ljupco Delev\, Antonio Tasevski\, and Miki Jovanov \nTickets: $20\nCall for info and tickets: 219 895 6086 / 630 523 9933 \nDoors open at 9 PM – Don’t miss the party of the season!
URL:https://usadesavanja.com/event/macedonian-night-compass-arena-chicago-decembar-14-2024/
LOCATION:Compass Arena\, 625 Joliet Rd\, Willowbrook\, Chicago\, IL\, /adresar/compass-arena\, United States
CATEGORIES:Illinois
ATTACH;FMTTYPE=image/png:https://usadesavanja.com/wp-content/uploads/2024/11/hgfdertz789p.png
ORGANIZER;CN="Compass Arena":MAILTO:info@compassarena.com
END:VEVENT
BEGIN:VEVENT
DTSTART;VALUE=DATE:20241214
DTEND;VALUE=DATE:20241215
DTSTAMP:20260422T035758
CREATED:20241210T185614Z
LAST-MODIFIED:20241213T133803Z
UID:14853-1734134400-1734220799@usadesavanja.com
SUMMARY:SANJA\, LJUBA & BALKAN WAVE BAND // IMPERIA LOUNGE // CHICAGO // DECEMBAR 14. 2024. (OTKAZANO!)
DESCRIPTION:Imperia Lounge Vas poziva na odličnu svirku! \nSubota 14. decembar. Nastupaju: Sanja Grahovac\, Ljuba Zarić & Balkan Wave Band \nInfo i rezervacije: 312 731 8708 \nŽelimo Vam odličan provod!
URL:https://usadesavanja.com/event/sanja-ljuba-balkan-wave-band-imperia-lounge-chicago-decembar-14-2024/
LOCATION:Imperia Lounge\, 2610 W Peterson Ave\, Chicago\, IL\, Chicago\, IL\, 60659\, United States
CATEGORIES:Illinois
ATTACH;FMTTYPE=image/jpeg:https://usadesavanja.com/wp-content/uploads/2024/12/IMG-5ee783f32e2f1f3e144157c570aabea8-V.jpg
END:VEVENT
END:VCALENDAR