BEGIN:VCALENDAR
VERSION:2.0
PRODID:-//USA Desavanja - ECPv6.15.17.1//NONSGML v1.0//EN
CALSCALE:GREGORIAN
METHOD:PUBLISH
X-WR-CALNAME:USA Desavanja
X-ORIGINAL-URL:https://usadesavanja.com
X-WR-CALDESC:Events for USA Desavanja
REFRESH-INTERVAL;VALUE=DURATION:PT1H
X-Robots-Tag:noindex
X-PUBLISHED-TTL:PT1H
BEGIN:VTIMEZONE
TZID:America/Chicago
BEGIN:DAYLIGHT
TZOFFSETFROM:-0600
TZOFFSETTO:-0500
TZNAME:CDT
DTSTART:20230312T080000
END:DAYLIGHT
BEGIN:STANDARD
TZOFFSETFROM:-0500
TZOFFSETTO:-0600
TZNAME:CST
DTSTART:20231105T070000
END:STANDARD
BEGIN:DAYLIGHT
TZOFFSETFROM:-0600
TZOFFSETTO:-0500
TZNAME:CDT
DTSTART:20240310T080000
END:DAYLIGHT
BEGIN:STANDARD
TZOFFSETFROM:-0500
TZOFFSETTO:-0600
TZNAME:CST
DTSTART:20241103T070000
END:STANDARD
BEGIN:DAYLIGHT
TZOFFSETFROM:-0600
TZOFFSETTO:-0500
TZNAME:CDT
DTSTART:20250309T080000
END:DAYLIGHT
BEGIN:STANDARD
TZOFFSETFROM:-0500
TZOFFSETTO:-0600
TZNAME:CST
DTSTART:20251102T070000
END:STANDARD
END:VTIMEZONE
BEGIN:VEVENT
DTSTART;VALUE=DATE:20241026
DTEND;VALUE=DATE:20241027
DTSTAMP:20260423T080732
CREATED:20240906T144140Z
LAST-MODIFIED:20240906T144141Z
UID:14021-1729900800-1729987199@usadesavanja.com
SUMMARY:BAJAGA I INSTRUKTORI // THE CUTTING ROOM // NEW YORK // OKTOBAR 26. 2024.
DESCRIPTION:Backstage54 Vas poziva na spektakularan koncert! \nBajaga i Instruktori – 40th anniversary tour \nSubota 26. oktobar od 8PM \nUlaznice možete kupiti OVDE
URL:https://usadesavanja.com/event/bajaga-i-instruktori-the-cutting-room-new-york-oktobar-26-2024/
LOCATION:The Cutting Room\, 44 E 32nd St\, New York\, NY\, New York\, NY\, 10016\, United States
CATEGORIES:New York
ATTACH;FMTTYPE=image/png:https://usadesavanja.com/wp-content/uploads/2024/09/bajaga-usa-tour-2024.png
END:VEVENT
END:VCALENDAR