BEGIN:VCALENDAR
VERSION:2.0
PRODID:-//USA Desavanja - ECPv6.15.17.1//NONSGML v1.0//EN
CALSCALE:GREGORIAN
METHOD:PUBLISH
X-WR-CALNAME:USA Desavanja
X-ORIGINAL-URL:https://usadesavanja.com
X-WR-CALDESC:Events for USA Desavanja
REFRESH-INTERVAL;VALUE=DURATION:PT1H
X-Robots-Tag:noindex
X-PUBLISHED-TTL:PT1H
BEGIN:VTIMEZONE
TZID:America/Chicago
BEGIN:DAYLIGHT
TZOFFSETFROM:-0600
TZOFFSETTO:-0500
TZNAME:CDT
DTSTART:20240310T080000
END:DAYLIGHT
BEGIN:STANDARD
TZOFFSETFROM:-0500
TZOFFSETTO:-0600
TZNAME:CST
DTSTART:20241103T070000
END:STANDARD
BEGIN:DAYLIGHT
TZOFFSETFROM:-0600
TZOFFSETTO:-0500
TZNAME:CDT
DTSTART:20250309T080000
END:DAYLIGHT
BEGIN:STANDARD
TZOFFSETFROM:-0500
TZOFFSETTO:-0600
TZNAME:CST
DTSTART:20251102T070000
END:STANDARD
BEGIN:DAYLIGHT
TZOFFSETFROM:-0600
TZOFFSETTO:-0500
TZNAME:CDT
DTSTART:20260308T080000
END:DAYLIGHT
BEGIN:STANDARD
TZOFFSETFROM:-0500
TZOFFSETTO:-0600
TZNAME:CST
DTSTART:20261101T070000
END:STANDARD
END:VTIMEZONE
BEGIN:VEVENT
DTSTART;VALUE=DATE:20250912
DTEND;VALUE=DATE:20250913
DTSTAMP:20260421T204253
CREATED:20250731T190728Z
LAST-MODIFIED:20250731T190728Z
UID:16558-1757635200-1757721599@usadesavanja.com
SUMMARY:HARBOR SERBFEST & GOLF OUTING // CRKVA SV. DJORDJA // EAST CHICAGO\, IN // SEPTEMBAR 12. 2025.
DESCRIPTION:Crkva Sv. Đorđa Vas poziva na Harbor SerbFest & Golf Outing \nPetak\, 12. septembar 2025 \nGolf Outing\n– Golf turnir se održava pre festivala\, lokacija: Wicker Park Golf Course\, Highland\, IN\n– Format: Scramble za četiri igrača po timu\, start u 10:00\, registracija od 8:30 ujutru\n– Tokom turnira planirana je večera tipa buffet\, takmičenja: Longest Drive\, Closest to the Pin\, nagrade za pobedničke timove \nSav prihod podržava stipendijski fond kroz ASC Foundation Scholarship Fund \nSerbFest\nNakon golf turnira\, festivalski deo počinje na lokaciji crkve St. George Serbian Orthodox Church – Harbor\, East Chicago \nFestival nudi tradicionalnu srpsku hranu\, muziku\, kulturne sadržaje i prostor za druženje. \nSportski duh i zajedništvo – idealna prilika za druženje i takmičenje. \nPodrška mladim generacijama kroz stipendije i humanitarni rad zajednice. \nTradicionalni festival koji čuva kulturu\, muziku i kulinarstvo srpske zajednice u Harboru.
URL:https://usadesavanja.com/event/harbor-serbfest-golf-outing-crkva-sv-djordja-east-chicago-in-septembar-12-2025/
LOCATION:Crkva Sv. Đorđa (East Chicago)\, 4021 Elm St\, East Chicago\, IN 46312\, Chicago\, IL\, United States
CATEGORIES:Indiana
ATTACH;FMTTYPE=image/jpeg:https://usadesavanja.com/wp-content/uploads/2023/04/golf.jpg
END:VEVENT
END:VCALENDAR