BEGIN:VCALENDAR
VERSION:2.0
PRODID:-//USA Desavanja - ECPv6.15.17.1//NONSGML v1.0//EN
CALSCALE:GREGORIAN
METHOD:PUBLISH
X-WR-CALNAME:USA Desavanja
X-ORIGINAL-URL:https://usadesavanja.com
X-WR-CALDESC:Events for USA Desavanja
REFRESH-INTERVAL;VALUE=DURATION:PT1H
X-Robots-Tag:noindex
X-PUBLISHED-TTL:PT1H
BEGIN:VTIMEZONE
TZID:America/Chicago
BEGIN:DAYLIGHT
TZOFFSETFROM:-0600
TZOFFSETTO:-0500
TZNAME:CDT
DTSTART:20230312T080000
END:DAYLIGHT
BEGIN:STANDARD
TZOFFSETFROM:-0500
TZOFFSETTO:-0600
TZNAME:CST
DTSTART:20231105T070000
END:STANDARD
BEGIN:DAYLIGHT
TZOFFSETFROM:-0600
TZOFFSETTO:-0500
TZNAME:CDT
DTSTART:20240310T080000
END:DAYLIGHT
BEGIN:STANDARD
TZOFFSETFROM:-0500
TZOFFSETTO:-0600
TZNAME:CST
DTSTART:20241103T070000
END:STANDARD
BEGIN:DAYLIGHT
TZOFFSETFROM:-0600
TZOFFSETTO:-0500
TZNAME:CDT
DTSTART:20250309T080000
END:DAYLIGHT
BEGIN:STANDARD
TZOFFSETFROM:-0500
TZOFFSETTO:-0600
TZNAME:CST
DTSTART:20251102T070000
END:STANDARD
END:VTIMEZONE
BEGIN:VEVENT
DTSTART;VALUE=DATE:20240915
DTEND;VALUE=DATE:20240916
DTSTAMP:20260422T125142
CREATED:20240826T213025Z
LAST-MODIFIED:20240826T213025Z
UID:13905-1726358400-1726444799@usadesavanja.com
SUMMARY:DANI NIKOLE TESLE // CRKVA VASKRSENJA HRISTOVOG // CHICAGO // SEPTEMBAR 15. 2024.
DESCRIPTION:Teslina naučna fondacija SAD i Srbije Vas poziva na Dane Nikole Tesle u Čikagu \nSala crkve Vaskrsenja Hristovog\, 5701 North Redwood Dr\, Chicago IL 60631 \n13\, 14. i 15. septembar 2024. godine \nSva tri dana će biti prožeta prezentacijom kulture i identiteta srpskog naroda\, predstavljanjem uspešnih članova našeg naroda u oblastima kojima se Tesla bavio\, kao i podsticajima mladih da se bave kreativnim i inovativnim aktivnostima. \nNapomena:\n– Organizator preuzima obavezu da\, u dogovoru sa gostima konferencije\, organizuje njihov prevoz od čikaškog aerodroma do hotela (smeštaja) i mesta održavanja konferencije\n– Troškove dolaska do Čikaga i smeštaja u njemu preuzimaju samostalno učesnici konferencije (osim ukoliko nije drugačije dogovoreno)\n– Kontakt organizatora u Čikagu je: teslinakonferencijacikago@gmail.com i tel. 773 322 6747
URL:https://usadesavanja.com/event/dani-nikole-tesle-crkva-vaskrsenja-hristovog-chicago-septembar-15-2024/
LOCATION:Crkva Sv. Vaskrsenja (5701 N Redwood Dr\, Chicago)\, 5701 N Redwood Dr\, Chicago\, IL\, Chicago\, IL\, 60631\, United States
CATEGORIES:Illinois
ATTACH;FMTTYPE=image/png:https://usadesavanja.com/wp-content/uploads/2024/08/kjhgf.png
END:VEVENT
END:VCALENDAR