BEGIN:VCALENDAR
VERSION:2.0
PRODID:-//USA Desavanja - ECPv6.15.17.1//NONSGML v1.0//EN
CALSCALE:GREGORIAN
METHOD:PUBLISH
X-ORIGINAL-URL:https://usadesavanja.com
X-WR-CALDESC:Events for USA Desavanja
REFRESH-INTERVAL;VALUE=DURATION:PT1H
X-Robots-Tag:noindex
X-PUBLISHED-TTL:PT1H
BEGIN:VTIMEZONE
TZID:America/Chicago
BEGIN:DAYLIGHT
TZOFFSETFROM:-0600
TZOFFSETTO:-0500
TZNAME:CDT
DTSTART:20230312T080000
END:DAYLIGHT
BEGIN:STANDARD
TZOFFSETFROM:-0500
TZOFFSETTO:-0600
TZNAME:CST
DTSTART:20231105T070000
END:STANDARD
BEGIN:DAYLIGHT
TZOFFSETFROM:-0600
TZOFFSETTO:-0500
TZNAME:CDT
DTSTART:20240310T080000
END:DAYLIGHT
BEGIN:STANDARD
TZOFFSETFROM:-0500
TZOFFSETTO:-0600
TZNAME:CST
DTSTART:20241103T070000
END:STANDARD
BEGIN:DAYLIGHT
TZOFFSETFROM:-0600
TZOFFSETTO:-0500
TZNAME:CDT
DTSTART:20250309T080000
END:DAYLIGHT
BEGIN:STANDARD
TZOFFSETFROM:-0500
TZOFFSETTO:-0600
TZNAME:CST
DTSTART:20251102T070000
END:STANDARD
END:VTIMEZONE
BEGIN:VEVENT
DTSTART;VALUE=DATE:20241227
DTEND;VALUE=DATE:20241228
DTSTAMP:20260425T071657
CREATED:20241218T144002Z
LAST-MODIFIED:20241218T144003Z
UID:15003-1735257600-1735343999@usadesavanja.com
SUMMARY:BALKAN WINTER WONDERLAND 2024 – PART 2 // PROOF BAR + EATERY // INDIANA // DECEMBAR 27. 2024.
DESCRIPTION:Sam Cappas Productions predstavlja: Balkan Winter Wonderland 2024 – Part 2! \nNakon velikog uspeha\, vraćamo se u Indianu! Pridružite nam se u petak\, 27. decembra\, za nezaboravno veče ispunjeno iznenađenjima i energijom koja se ne propušta! \nLokacija: Proof Bar + Eatery\, 1827-1831 W Glen Park Ave\, Griffith\, IN 46319\nVreme: Od 9 pm do 3 am \nDJ lineup: \n\nDJ SPAZ\nDJ DEX\n\nSpremite se za najbolje Balkan\, Euro i House hitove koji će rasplamsati atmosferu! \nLimited Capacity: Požurite i rezervišite svoje mesto na vreme.\nDress code enforced – obucite se za nezaboravnu noć! \nZa informacije i rezervacije pozovite 773 789 7372\nUlaunice možete kupiti OVDE \n21+ | Ovo je žurka koju Indiana neće zaboraviti! \n#BALKANWINTERWONDERLAND
URL:https://usadesavanja.com/event/balkan-winter-wonderland-2024-part-2-proof-bar-eatery-indiana-decembar-27-2024/
LOCATION:Proof Bar + Eatery\, 1827 - 1831 W Glen Park Ave\, Griffith\, IN 46319\, Indiana\, IN\, United States
CATEGORIES:Indiana,Zurke
ATTACH;FMTTYPE=image/jpeg:https://usadesavanja.com/wp-content/uploads/2024/12/https___cdn.evbuc_.com_images_912396303_233380775262_1_original.jpg
END:VEVENT
END:VCALENDAR