BEGIN:VCALENDAR
VERSION:2.0
PRODID:-//USA Desavanja - ECPv6.15.17.1//NONSGML v1.0//EN
CALSCALE:GREGORIAN
METHOD:PUBLISH
X-WR-CALNAME:USA Desavanja
X-ORIGINAL-URL:https://usadesavanja.com
X-WR-CALDESC:Events for USA Desavanja
REFRESH-INTERVAL;VALUE=DURATION:PT1H
X-Robots-Tag:noindex
X-PUBLISHED-TTL:PT1H
BEGIN:VTIMEZONE
TZID:America/Chicago
BEGIN:DAYLIGHT
TZOFFSETFROM:-0600
TZOFFSETTO:-0500
TZNAME:CDT
DTSTART:20240310T080000
END:DAYLIGHT
BEGIN:STANDARD
TZOFFSETFROM:-0500
TZOFFSETTO:-0600
TZNAME:CST
DTSTART:20241103T070000
END:STANDARD
BEGIN:DAYLIGHT
TZOFFSETFROM:-0600
TZOFFSETTO:-0500
TZNAME:CDT
DTSTART:20250309T080000
END:DAYLIGHT
BEGIN:STANDARD
TZOFFSETFROM:-0500
TZOFFSETTO:-0600
TZNAME:CST
DTSTART:20251102T070000
END:STANDARD
BEGIN:DAYLIGHT
TZOFFSETFROM:-0600
TZOFFSETTO:-0500
TZNAME:CDT
DTSTART:20260308T080000
END:DAYLIGHT
BEGIN:STANDARD
TZOFFSETFROM:-0500
TZOFFSETTO:-0600
TZNAME:CST
DTSTART:20261101T070000
END:STANDARD
END:VTIMEZONE
BEGIN:VTIMEZONE
TZID:UTC
BEGIN:STANDARD
TZOFFSETFROM:+0000
TZOFFSETTO:+0000
TZNAME:UTC
DTSTART:20240101T000000
END:STANDARD
END:VTIMEZONE
BEGIN:VEVENT
DTSTART;VALUE=DATE:20250809
DTEND;VALUE=DATE:20250810
DTSTAMP:20260422T182247
CREATED:20250731T142807Z
LAST-MODIFIED:20250806T181241Z
UID:16527-1754697600-1754783999@usadesavanja.com
SUMMARY:SERBFEST 2025 AFTER PARTY // TAVERN ON THE POINT // CHICAGO // AVGUST 09. 2025.
DESCRIPTION:SERBFEST 2025 AFTER PARTY\nNakon dana ispunjenih ukusnom hranom i sjajnom atmosferom na SerbFest-u\, spremite se za nezaboravnu žurku koja sledi! \n– Subota\, 9. avgust – Tavern on the Point \nVrata se otvaraju u 23:00h (21+) \nLineup: DJ DEX\, DJ HITMAN\, DJ SPAZ \nPridružite se najjačem after party vikendu uz najbolje DJ-eve\, dobru ekipu i ludu žurku!\nRezervišite svoje mesto na vreme!
URL:https://usadesavanja.com/event/serbfest-2025-after-party-tavern-on-the-point-chicago-avgust-09-2025/
LOCATION:Tavern on the Point\, 6724 N Northwest Hwy\, Chicago\, IL 60631\, Chicago\, IL\, United States
CATEGORIES:Illinois,Zurke
ATTACH;FMTTYPE=image/png:https://usadesavanja.com/wp-content/uploads/2025/07/tavern-on-the-point.png
END:VEVENT
BEGIN:VEVENT
DTSTART;VALUE=DATE:20250810
DTEND;VALUE=DATE:20250811
DTSTAMP:20260422T182247
CREATED:20250731T143006Z
LAST-MODIFIED:20250806T125113Z
UID:16531-1754784000-1754870399@usadesavanja.com
SUMMARY:SERBFEST 2025 AFTER PARTY // NIKOLA RESTAURANT & BAR // CHICAGO // AVGUST 10. 2025.
DESCRIPTION:SERBFEST 2025 AFTER PARTY\nNakon dana ispunjenih ukusnom hranom i sjajnom atmosferom na SerbFest-u\, spremite se za nezaboravnu žurku koja sledi! \n– Nedelja\, 10. avgust – Nikola Restaurant & Bar \nVrata se otvaraju u 23:00h (21+) \nLineup: DJ DEX & DJ SPAZ \nPridružite se najjačem after party vikendu uz najbolje DJ-eve\, dobru ekipu i ludu žurku! Besplatan ulaz.\nRezerviši svoje mesto na vreme! 312 772 1003
URL:https://usadesavanja.com/event/serbfest-2025-after-party-nikola-restaurant-bar-chicago-avgust-10-2025/
LOCATION:NIKOLA restaurant & bar\, 7316 W Lawrence Ave\, Harwood Heights\, IL 60706\, Chicago\, IL\, United States
CATEGORIES:Illinois,Zurke
ATTACH;FMTTYPE=image/jpeg:https://usadesavanja.com/wp-content/uploads/2021/12/spaz-event.jpg
END:VEVENT
BEGIN:VEVENT
DTSTART;VALUE=DATE:20250830
DTEND;VALUE=DATE:20250831
DTSTAMP:20260422T182247
CREATED:20250819T150708Z
LAST-MODIFIED:20250819T150708Z
UID:16681-1756512000-1756598399@usadesavanja.com
SUMMARY:TASTE OF SERBIA // HRAM SV. VASILIJA // LAKE FOREST\, IL // AVGUST 30. 2025.
DESCRIPTION:Hram Sv. Vasilija\, Mettawa – Lake Forest\, IL\, poziva Vas na Taste of Serbia tokom Labor Day vikenda! \nSubota\, 30. avgust | 12:00 – 22:30Nedelja\, 31. avgust | 12:00 – 22:30 \nUlaz: $5 po automobilu \n Očekuje vas:\n– Autentična srpska kuhinja i specijaliteti sa roštilja: ćevapi\, ražnjići\, pljeskavice\, sarma\n– Jagnjetina i prasetina sa ražnja\n– Torte\, kolači\, štrudle\, palačinke\n– Beer Garden – muzika\, pesma i igra\n– Zabava za decu – igre i rekviziti\n– Muzika uživo: I u subotu i u nedelju nastupaju: Prazna Flaša Tamburaši i DJ Dex \nRučak\, večera i hrana za poneti!Roštilj otvoren do 21:00\, bar do 22:30 \n847 247 0077www.tasteofserbia.org \nDođite sa porodicom i prijateljima da uživate u nezaboravnom vikendu srpske tradicije\, muzike i ukusa!
URL:https://usadesavanja.com/event/taste-of-serbia-hram-sv-vasilija-lake-forest-il-avgust-30-2025/
LOCATION:Hram Sv. Vasilija (Lake Forest)\, 27450 N. Bradley Road\, Lake Forest\, Chicago\, IL\, 60045\, United States
CATEGORIES:Illinois
ATTACH;FMTTYPE=image/jpeg:https://usadesavanja.com/wp-content/uploads/2021/08/serb-food.jpg
END:VEVENT
BEGIN:VEVENT
DTSTART;VALUE=DATE:20250831
DTEND;VALUE=DATE:20250901
DTSTAMP:20260422T182247
CREATED:20250819T150759Z
LAST-MODIFIED:20250819T150759Z
UID:16684-1756598400-1756684799@usadesavanja.com
SUMMARY:TASTE OF SERBIA // HRAM SV. VASILIJA // LAKE FOREST\, IL // AVGUST 31. 2025.
DESCRIPTION:Hram Sv. Vasilija\, Mettawa – Lake Forest\, IL\, poziva Vas na Taste of Serbia tokom Labor Day vikenda! \nSubota\, 30. avgust | 12:00 – 22:30Nedelja\, 31. avgust | 12:00 – 22:30 \nUlaz: $5 po automobilu \n Očekuje vas:\n– Autentična srpska kuhinja i specijaliteti sa roštilja: ćevapi\, ražnjići\, pljeskavice\, sarma\n– Jagnjetina i prasetina sa ražnja\n– Torte\, kolači\, štrudle\, palačinke\n– Beer Garden – muzika\, pesma i igra\n– Zabava za decu – igre i rekviziti\n– Muzika uživo: I u subotu i u nedelju nastupaju: Prazna Flaša Tamburaši i DJ Dex \nRučak\, večera i hrana za poneti!Roštilj otvoren do 21:00\, bar do 22:30 \n847 247 0077www.tasteofserbia.org \nDođite sa porodicom i prijateljima da uživate u nezaboravnom vikendu srpske tradicije\, muzike i ukusa!
URL:https://usadesavanja.com/event/taste-of-serbia-hram-sv-vasilija-lake-forest-il-avgust-31-2025/
LOCATION:Hram Sv. Vasilija (Lake Forest)\, 27450 N. Bradley Road\, Lake Forest\, Chicago\, IL\, 60045\, United States
CATEGORIES:Illinois
ATTACH;FMTTYPE=image/jpeg:https://usadesavanja.com/wp-content/uploads/2021/08/serb-food.jpg
END:VEVENT
END:VCALENDAR