BEGIN:VCALENDAR
VERSION:2.0
PRODID:-//USA Desavanja - ECPv6.15.17.1//NONSGML v1.0//EN
CALSCALE:GREGORIAN
METHOD:PUBLISH
X-ORIGINAL-URL:https://usadesavanja.com
X-WR-CALDESC:Events for USA Desavanja
REFRESH-INTERVAL;VALUE=DURATION:PT1H
X-Robots-Tag:noindex
X-PUBLISHED-TTL:PT1H
BEGIN:VTIMEZONE
TZID:UTC
BEGIN:STANDARD
TZOFFSETFROM:+0000
TZOFFSETTO:+0000
TZNAME:UTC
DTSTART:20230101T000000
END:STANDARD
END:VTIMEZONE
BEGIN:VEVENT
DTSTART;VALUE=DATE:20240316
DTEND;VALUE=DATE:20240317
DTSTAMP:20260425T232256
CREATED:20240227T160658Z
LAST-MODIFIED:20240227T160658Z
UID:12427-1710547200-1710633599@usadesavanja.com
SUMMARY:ST. PATRICK DAY // BOTTOMS UP BAR // CHICAGO // MART 16. 2024.
DESCRIPTION:Bottoms Up Bar Vas poziva 16. marta od 21h na sjajnu žurku! \nMuziku vrti: DJ Reefa + drummer Stefan \nInfo: 224 781 2298 \nŽelimo Vam odličan provod!
URL:https://usadesavanja.com/event/st-patrick-day-bottoms-up-bar-chicago-mart-16-2024/
LOCATION:Bottoms Up Bar\, 9718 W Irving Park Rd\, Schiller Park\, IL\, Chicago\, IL\, 60176\, United States
CATEGORIES:Illinois,Zurke
ATTACH;FMTTYPE=image/jpeg:https://usadesavanja.com/wp-content/uploads/2020/06/beer-pr.jpg
END:VEVENT
END:VCALENDAR