BEGIN:VCALENDAR
VERSION:2.0
PRODID:-//USA Desavanja - ECPv6.15.17.1//NONSGML v1.0//EN
CALSCALE:GREGORIAN
METHOD:PUBLISH
X-WR-CALNAME:USA Desavanja
X-ORIGINAL-URL:https://usadesavanja.com
X-WR-CALDESC:Events for USA Desavanja
REFRESH-INTERVAL;VALUE=DURATION:PT1H
X-Robots-Tag:noindex
X-PUBLISHED-TTL:PT1H
BEGIN:VTIMEZONE
TZID:America/Chicago
BEGIN:DAYLIGHT
TZOFFSETFROM:-0600
TZOFFSETTO:-0500
TZNAME:CDT
DTSTART:20230312T080000
END:DAYLIGHT
BEGIN:STANDARD
TZOFFSETFROM:-0500
TZOFFSETTO:-0600
TZNAME:CST
DTSTART:20231105T070000
END:STANDARD
BEGIN:DAYLIGHT
TZOFFSETFROM:-0600
TZOFFSETTO:-0500
TZNAME:CDT
DTSTART:20240310T080000
END:DAYLIGHT
BEGIN:STANDARD
TZOFFSETFROM:-0500
TZOFFSETTO:-0600
TZNAME:CST
DTSTART:20241103T070000
END:STANDARD
BEGIN:DAYLIGHT
TZOFFSETFROM:-0600
TZOFFSETTO:-0500
TZNAME:CDT
DTSTART:20250309T080000
END:DAYLIGHT
BEGIN:STANDARD
TZOFFSETFROM:-0500
TZOFFSETTO:-0600
TZNAME:CST
DTSTART:20251102T070000
END:STANDARD
END:VTIMEZONE
BEGIN:VEVENT
DTSTART;VALUE=DATE:20240913
DTEND;VALUE=DATE:20240914
DTSTAMP:20260422T214347
CREATED:20240910T172623Z
LAST-MODIFIED:20240910T172623Z
UID:14074-1726185600-1726271999@usadesavanja.com
SUMMARY:SERBFEST // CRKVA SV. DJORDJA // EAST CHICAGO // SEPTEMBAR 13. 2024.
DESCRIPTION:Crkva Sv. Đorđa (East Chicago) Vas poziva na Serbfest! \nPetak 13. septembar od 11AM do 11PM \nOčekuju Vas domaći specijaliteti\, bogat zabavni program i golf turnir. \nŽelimo Vam odličan provod!
URL:https://usadesavanja.com/event/serbfest-crkva-sv-djordja-east-chicago-septembar-13-2024/
LOCATION:Crkva Sv. Đorđa (East Chicago)\, 4021 Elm St\, East Chicago\, IN 46312\, Chicago\, IL\, United States
CATEGORIES:Illinois
ATTACH;FMTTYPE=image/png:https://usadesavanja.com/wp-content/uploads/2024/09/1725856108473blob-nbn.png
END:VEVENT
END:VCALENDAR