BEGIN:VCALENDAR
VERSION:2.0
PRODID:-//USA Desavanja - ECPv6.15.17.1//NONSGML v1.0//EN
CALSCALE:GREGORIAN
METHOD:PUBLISH
X-WR-CALNAME:USA Desavanja
X-ORIGINAL-URL:https://usadesavanja.com
X-WR-CALDESC:Events for USA Desavanja
REFRESH-INTERVAL;VALUE=DURATION:PT1H
X-Robots-Tag:noindex
X-PUBLISHED-TTL:PT1H
BEGIN:VTIMEZONE
TZID:UTC
BEGIN:STANDARD
TZOFFSETFROM:+0000
TZOFFSETTO:+0000
TZNAME:UTC
DTSTART:20230101T000000
END:STANDARD
END:VTIMEZONE
BEGIN:VEVENT
DTSTART;VALUE=DATE:20240210
DTEND;VALUE=DATE:20240211
DTSTAMP:20260422T175627
CREATED:20240202T183150Z
LAST-MODIFIED:20240202T183150Z
UID:12214-1707523200-1707609599@usadesavanja.com
SUMMARY:SUNSET BAND // BOURBON // CHICAGO // FEBRUAR 10. 2024.
DESCRIPTION:Bourbon kafanica Vas poziva 10. februara na sjajnu svirku! \nNastupa: Sunset Band \nInfo: 773 769 3543
URL:https://usadesavanja.com/event/sunset-band-bourbon-chicago-februar-10-2024/
LOCATION:Bourbon Cafe\, 4768 N Lincoln Ave.\, Chicago\, IL\, 60625\, United States
CATEGORIES:Illinois
ATTACH;FMTTYPE=image/jpeg:https://usadesavanja.com/wp-content/uploads/2021/01/guitar-event.jpg
END:VEVENT
BEGIN:VEVENT
DTSTART;VALUE=DATE:20240224
DTEND;VALUE=DATE:20240225
DTSTAMP:20260422T175627
CREATED:20240202T183523Z
LAST-MODIFIED:20240215T134222Z
UID:12216-1708732800-1708819199@usadesavanja.com
SUMMARY:MAKEDONSKO VECE // BOURBON // CHICAGO // FEBRUAR 24. 2024.
DESCRIPTION:Bourbon kafanica Vas poziva 24. februara na Makedonsko veče. \nInfo: 773 769 3543
URL:https://usadesavanja.com/event/makedonsko-vecce-bourbon-chicago-februar-24-2024/
LOCATION:Bourbon Cafe\, 4768 N Lincoln Ave.\, Chicago\, IL\, 60625\, United States
CATEGORIES:Illinois
ATTACH;FMTTYPE=image/jpeg:https://usadesavanja.com/wp-content/uploads/2021/01/party-usa.jpg
END:VEVENT
END:VCALENDAR