BEGIN:VCALENDAR
VERSION:2.0
PRODID:-//USA Desavanja - ECPv6.15.17.1//NONSGML v1.0//EN
CALSCALE:GREGORIAN
METHOD:PUBLISH
X-WR-CALNAME:USA Desavanja
X-ORIGINAL-URL:https://usadesavanja.com
X-WR-CALDESC:Events for USA Desavanja
REFRESH-INTERVAL;VALUE=DURATION:PT1H
X-Robots-Tag:noindex
X-PUBLISHED-TTL:PT1H
BEGIN:VTIMEZONE
TZID:UTC
BEGIN:STANDARD
TZOFFSETFROM:+0000
TZOFFSETTO:+0000
TZNAME:UTC
DTSTART:20230101T000000
END:STANDARD
END:VTIMEZONE
BEGIN:VTIMEZONE
TZID:America/Chicago
BEGIN:DAYLIGHT
TZOFFSETFROM:-0600
TZOFFSETTO:-0500
TZNAME:CDT
DTSTART:20230312T080000
END:DAYLIGHT
BEGIN:STANDARD
TZOFFSETFROM:-0500
TZOFFSETTO:-0600
TZNAME:CST
DTSTART:20231105T070000
END:STANDARD
BEGIN:DAYLIGHT
TZOFFSETFROM:-0600
TZOFFSETTO:-0500
TZNAME:CDT
DTSTART:20240310T080000
END:DAYLIGHT
BEGIN:STANDARD
TZOFFSETFROM:-0500
TZOFFSETTO:-0600
TZNAME:CST
DTSTART:20241103T070000
END:STANDARD
BEGIN:DAYLIGHT
TZOFFSETFROM:-0600
TZOFFSETTO:-0500
TZNAME:CDT
DTSTART:20250309T080000
END:DAYLIGHT
BEGIN:STANDARD
TZOFFSETFROM:-0500
TZOFFSETTO:-0600
TZNAME:CST
DTSTART:20251102T070000
END:STANDARD
END:VTIMEZONE
BEGIN:VEVENT
DTSTART;VALUE=DATE:20240503
DTEND;VALUE=DATE:20240504
DTSTAMP:20260422T232452
CREATED:20240423T190505Z
LAST-MODIFIED:20240423T190505Z
UID:12833-1714694400-1714780799@usadesavanja.com
SUMMARY:DANKA\, GORAN & LJUBA // SKADARLIYA // CHICAGO // MAJ 3. 2024.
DESCRIPTION:Restoran Skadarliya Vas poziva na sjajnu svirku! \nPetak\, 3. maj\, Danka\, Goran i Ljuba \nInfo: 708 905 5919 \nŽelimo Vam odličan provod!
URL:https://usadesavanja.com/event/danka-goran-ljuba-skadarliya-chicago-maj-3-2024/
LOCATION:Skadarliya\, 9237 West Ogden Ave\, Brookfield\, Chicago\, IL\, 60513\, United States
CATEGORIES:Illinois
ATTACH;FMTTYPE=image/jpeg:https://usadesavanja.com/wp-content/uploads/2022/06/play-band-danka.jpg
END:VEVENT
BEGIN:VEVENT
DTSTART;VALUE=DATE:20240505
DTEND;VALUE=DATE:20240506
DTSTAMP:20260422T232452
CREATED:20240430T165645Z
LAST-MODIFIED:20240430T165645Z
UID:12887-1714867200-1714953599@usadesavanja.com
SUMMARY:DRAGANA RAKCEVIC & MILOS KALCA // SKADARLIYA // CHICAGO // MAJ 5. 2024.
DESCRIPTION:Restoran Skadarliya Vas poziva na sjajnu svirku! \nNedelja\, 5. maj\, Dragana Rakčević i Miloš Kalča. \nInfo: 708 905 5919 \nŽelimo Vam odličan provod!
URL:https://usadesavanja.com/event/dragana-rakcevic-milos-kalca-skadarliya-chicago-maj-5-2024/
LOCATION:Skadarliya\, 9237 West Ogden Ave\, Brookfield\, Chicago\, IL\, 60513\, United States
CATEGORIES:Illinois
ATTACH;FMTTYPE=image/jpeg:https://usadesavanja.com/wp-content/uploads/2023/03/kalca-i-dragana.jpg
END:VEVENT
BEGIN:VEVENT
DTSTART;VALUE=DATE:20240505
DTEND;VALUE=DATE:20240506
DTSTAMP:20260422T232452
CREATED:20240430T170556Z
LAST-MODIFIED:20240430T170556Z
UID:12891-1714867200-1714953599@usadesavanja.com
SUMMARY:USKRSNJE FOTOGRAFISANJE SA ZEKOM // SKADARLIYA // CHICAGO // MAJ 5. 2024.
DESCRIPTION:Restoran Skadarliya Vas poziva na Uskršnje fotografisanje sa zekom! \nNedelja\, 5. maj. \nM Events Vam nudi mogućnost da napravite svoj buket cveća po promotivnim cenama! \nInfo: 708 905 5919
URL:https://usadesavanja.com/event/uskrsnje-fotografisanje-sa-zekom-skadarliya-chicago-maj-5-2024/
LOCATION:Skadarliya\, 9237 West Ogden Ave\, Brookfield\, Chicago\, IL\, 60513\, United States
CATEGORIES:Illinois
ATTACH;FMTTYPE=image/jpeg:https://usadesavanja.com/wp-content/uploads/2024/04/easter.jpg
END:VEVENT
BEGIN:VEVENT
DTSTART;VALUE=DATE:20240518
DTEND;VALUE=DATE:20240519
DTSTAMP:20260422T232452
CREATED:20240423T191119Z
LAST-MODIFIED:20240514T121019Z
UID:12839-1715990400-1716076799@usadesavanja.com
SUMMARY:SANJA\, TONI & LJUBA // SKADARLIYA // CHICAGO // MAJ 18. 2024.
DESCRIPTION:Restoran Skadarliya Vas poziva na sjajnu svirku! \nSubota\, 18. maj\, Sanja Grahovac\, Toni i Ljuba Zarić \nInfo: 708 905 5919 \nŽelimo Vam odličan provod!
URL:https://usadesavanja.com/event/sanja-toni-skadarliya-chicago-maj-18-2024/
LOCATION:Skadarliya\, 9237 West Ogden Ave\, Brookfield\, Chicago\, IL\, 60513\, United States
CATEGORIES:Illinois
ATTACH;FMTTYPE=image/jpeg:https://usadesavanja.com/wp-content/uploads/2020/12/skadarliya-2.jpg
END:VEVENT
BEGIN:VEVENT
DTSTART;VALUE=DATE:20240524
DTEND;VALUE=DATE:20240525
DTSTAMP:20260422T232452
CREATED:20240423T191359Z
LAST-MODIFIED:20240423T191359Z
UID:12841-1716508800-1716595199@usadesavanja.com
SUMMARY:DANKA & TONI // SKADARLIYA // CHICAGO // MAJ 24. 2024.
DESCRIPTION:Restoran Skadarliya Vas poziva na sjajnu svirku! \nPetak\, 24. maj\, Danka Gajić i Toni \nInfo: 708 905 5919 \nŽelimo Vam odličan provod!
URL:https://usadesavanja.com/event/danka-toni-skadarliya-chicago-maj-24-2024/
LOCATION:Skadarliya\, 9237 West Ogden Ave\, Brookfield\, Chicago\, IL\, 60513\, United States
CATEGORIES:Illinois
ATTACH;FMTTYPE=image/jpeg:https://usadesavanja.com/wp-content/uploads/2021/10/skadarliza.jpg
END:VEVENT
BEGIN:VEVENT
DTSTART;VALUE=DATE:20240529
DTEND;VALUE=DATE:20240530
DTSTAMP:20260422T232452
CREATED:20240522T073553Z
LAST-MODIFIED:20240528T170516Z
UID:13056-1716940800-1717027199@usadesavanja.com
SUMMARY:LADIES NIGHT // COMPASS ARENA // CHICAGO // MAJ 29. 2024.
DESCRIPTION:Compass Arena Vas poziva na Ladies night! \nNastupa: DJ Markus \nInformacije i rezervacije: 630 523 9933 \nŽelimo Vam odličan provod!
URL:https://usadesavanja.com/event/ladies-night-compass-arena-chicago-maj-22-2024/
LOCATION:Compass Arena\, 625 Joliet Rd\, Willowbrook\, Chicago\, IL\, /adresar/compass-arena\, United States
CATEGORIES:Illinois
ATTACH;FMTTYPE=image/jpeg:https://usadesavanja.com/wp-content/uploads/2021/01/dj-set-up.jpg
END:VEVENT
BEGIN:VEVENT
DTSTART;VALUE=DATE:20240531
DTEND;VALUE=DATE:20240601
DTSTAMP:20260422T232452
CREATED:20240423T200528Z
LAST-MODIFIED:20240423T200528Z
UID:12845-1717113600-1717199999@usadesavanja.com
SUMMARY:SANJA & GORAN // SKADARLIYA // CHICAGO // MAJ 31. 2024.
DESCRIPTION:Restoran Skadarliya Vas poziva na sjajnu svirku! \nPetak\, 31. maj\, Sanja i Goran. \nInfo: 708 905 5919 \nŽelimo Vam odličan provod!
URL:https://usadesavanja.com/event/sanja-goran-skadarliya-chicago-maj-31-2024/
LOCATION:Skadarliya\, 9237 West Ogden Ave\, Brookfield\, Chicago\, IL\, 60513\, United States
CATEGORIES:Illinois
ATTACH;FMTTYPE=image/jpeg:https://usadesavanja.com/wp-content/uploads/2023/05/goran-sanja.jpg
END:VEVENT
END:VCALENDAR