BEGIN:VCALENDAR
VERSION:2.0
PRODID:-//USA Desavanja - ECPv6.15.17.1//NONSGML v1.0//EN
CALSCALE:GREGORIAN
METHOD:PUBLISH
X-WR-CALNAME:USA Desavanja
X-ORIGINAL-URL:https://usadesavanja.com
X-WR-CALDESC:Events for USA Desavanja
REFRESH-INTERVAL;VALUE=DURATION:PT1H
X-Robots-Tag:noindex
X-PUBLISHED-TTL:PT1H
BEGIN:VTIMEZONE
TZID:UTC
BEGIN:STANDARD
TZOFFSETFROM:+0000
TZOFFSETTO:+0000
TZNAME:UTC
DTSTART:20230101T000000
END:STANDARD
END:VTIMEZONE
BEGIN:VEVENT
DTSTART;VALUE=DATE:20240830
DTEND;VALUE=DATE:20240831
DTSTAMP:20260422T175625
CREATED:20240808T165235Z
LAST-MODIFIED:20240808T165235Z
UID:13816-1724976000-1725062399@usadesavanja.com
SUMMARY:DANKA\, GORAN & LJUBA // SKADARLIYA // CHICAGO // AVGUST 30. 2024.
DESCRIPTION:Restoran Skadarliya Vas poziva na sjajnu svirku! \nPetak\, 30. avgust\, Danka\, Goran i Ljuba \nInfo: 708 905 5919 \nŽelimo Vam odličan provod!
URL:https://usadesavanja.com/event/danka-goran-ljuba-skadarliya-chicago-avgust-30-2024/
LOCATION:Skadarliya\, 9237 West Ogden Ave\, Brookfield\, Chicago\, IL\, 60513\, United States
CATEGORIES:Illinois
ATTACH;FMTTYPE=image/png:https://usadesavanja.com/wp-content/uploads/2024/08/danka-gajic-new24.png
END:VEVENT
END:VCALENDAR