BEGIN:VCALENDAR
VERSION:2.0
PRODID:-//USA Desavanja - ECPv6.15.17.1//NONSGML v1.0//EN
CALSCALE:GREGORIAN
METHOD:PUBLISH
X-ORIGINAL-URL:https://usadesavanja.com
X-WR-CALDESC:Events for USA Desavanja
REFRESH-INTERVAL;VALUE=DURATION:PT1H
X-Robots-Tag:noindex
X-PUBLISHED-TTL:PT1H
BEGIN:VTIMEZONE
TZID:America/Chicago
BEGIN:DAYLIGHT
TZOFFSETFROM:-0600
TZOFFSETTO:-0500
TZNAME:CDT
DTSTART:20240310T080000
END:DAYLIGHT
BEGIN:STANDARD
TZOFFSETFROM:-0500
TZOFFSETTO:-0600
TZNAME:CST
DTSTART:20241103T070000
END:STANDARD
BEGIN:DAYLIGHT
TZOFFSETFROM:-0600
TZOFFSETTO:-0500
TZNAME:CDT
DTSTART:20250309T080000
END:DAYLIGHT
BEGIN:STANDARD
TZOFFSETFROM:-0500
TZOFFSETTO:-0600
TZNAME:CST
DTSTART:20251102T070000
END:STANDARD
BEGIN:DAYLIGHT
TZOFFSETFROM:-0600
TZOFFSETTO:-0500
TZNAME:CDT
DTSTART:20260308T080000
END:DAYLIGHT
BEGIN:STANDARD
TZOFFSETFROM:-0500
TZOFFSETTO:-0600
TZNAME:CST
DTSTART:20261101T070000
END:STANDARD
END:VTIMEZONE
BEGIN:VEVENT
DTSTART;VALUE=DATE:20251017
DTEND;VALUE=DATE:20251018
DTSTAMP:20260419T170258
CREATED:20251015T131245Z
LAST-MODIFIED:20251015T131245Z
UID:17214-1760659200-1760745599@usadesavanja.com
SUMMARY:LADIES NIGHT // STEREO NIGHTCLUB // CHICAGO // OKTOBAR 17. 2025.
DESCRIPTION:Stereo Nightclub Vas poziva na Ladies night! \nPetak\, 17. oktobar\, od 20h. Hitovi 2000’s & 2010’s \nBesplatan ulaz! \nZa više informacija posetite www.stereochicago.com
URL:https://usadesavanja.com/event/ladies-night-stereo-nightclub-chicago-oktobar-17-2025/
LOCATION:Stereo Nightclub\, 5616 W Diversey Ave\, Chicago\, IL\, Chicago\, IL\, 60639\, United States
CATEGORIES:Illinois,Zurke
ATTACH;FMTTYPE=image/jpeg:https://usadesavanja.com/wp-content/uploads/2023/07/dj-zac-bromell-y8PLjuPoDlM-unsplash.jpg
END:VEVENT
END:VCALENDAR