BEGIN:VCALENDAR
VERSION:2.0
PRODID:-//USA Desavanja - ECPv6.15.17.1//NONSGML v1.0//EN
CALSCALE:GREGORIAN
METHOD:PUBLISH
X-ORIGINAL-URL:https://usadesavanja.com
X-WR-CALDESC:Events for USA Desavanja
REFRESH-INTERVAL;VALUE=DURATION:PT1H
X-Robots-Tag:noindex
X-PUBLISHED-TTL:PT1H
BEGIN:VTIMEZONE
TZID:America/Chicago
BEGIN:DAYLIGHT
TZOFFSETFROM:-0600
TZOFFSETTO:-0500
TZNAME:CDT
DTSTART:20240310T080000
END:DAYLIGHT
BEGIN:STANDARD
TZOFFSETFROM:-0500
TZOFFSETTO:-0600
TZNAME:CST
DTSTART:20241103T070000
END:STANDARD
BEGIN:DAYLIGHT
TZOFFSETFROM:-0600
TZOFFSETTO:-0500
TZNAME:CDT
DTSTART:20250309T080000
END:DAYLIGHT
BEGIN:STANDARD
TZOFFSETFROM:-0500
TZOFFSETTO:-0600
TZNAME:CST
DTSTART:20251102T070000
END:STANDARD
BEGIN:DAYLIGHT
TZOFFSETFROM:-0600
TZOFFSETTO:-0500
TZNAME:CDT
DTSTART:20260308T080000
END:DAYLIGHT
BEGIN:STANDARD
TZOFFSETFROM:-0500
TZOFFSETTO:-0600
TZNAME:CST
DTSTART:20261101T070000
END:STANDARD
END:VTIMEZONE
BEGIN:VEVENT
DTSTART;VALUE=DATE:20250920
DTEND;VALUE=DATE:20250921
DTSTAMP:20260421T190742
CREATED:20250904T144219Z
LAST-MODIFIED:20250904T144539Z
UID:16809-1758326400-1758412799@usadesavanja.com
SUMMARY:GOLF OUTING // BALMORAL WOODS // CHICAGO // SEPTEMBAR 20. 2025.
DESCRIPTION:Pridružite se 20. septembra nezaboravnom danu golfa u Balmoral Woods-u\, uz ručak i večeru\, i podržite novi obrazovni projekat u američko-srpskoj zajednici! \n– Cena: $130 po osobi (svi prihodi namenjeni su Nikola Tesla International Academy)\n– Organizator: Nikola Tesla International Academy – inovativna privatna škola za decu uzrasta od predškolskog do 5. razreda\, u Lyons\, IL \nZašto učestvovati?\n– Spoj sporta i humanosti – uživajte u golfu dok podržavate obrazovanje budućih generacija.\n– Podrška NTIA – doprinosi razvoju obrazovnog projekta koji neguje znanje\, kreativnost i kulturu.\n– Zajedničko okupljanje – idealna prilika za druženje i povezivanje u prijatnoj i svrhovitoj atmosferi. \nInformacije za prijavu:\n– Registrujte se putem linka: GolfGenius (neophodna prijava)\n–  Za sponzorstvo (npr. označavanje rupe na terenu) i dodatna pitanja\, obratite se na info@nikolatesla.com
URL:https://usadesavanja.com/event/golf-outing-balmoral-woods-chicago-septembar-20-2025/
LOCATION:Balmoral Woods Country Club\, 26732 S Balmoral Woods Dr\, Crete\, IL\, Chicago\, IL\, 60417\, United States
CATEGORIES:Illinois,Sport
ATTACH;FMTTYPE=image/jpeg:https://usadesavanja.com/wp-content/uploads/2024/05/golf-1284011_1280.jpg
END:VEVENT
END:VCALENDAR