BEGIN:VCALENDAR
VERSION:2.0
PRODID:-//USA Desavanja - ECPv6.15.17.1//NONSGML v1.0//EN
CALSCALE:GREGORIAN
METHOD:PUBLISH
X-ORIGINAL-URL:https://usadesavanja.com
X-WR-CALDESC:Events for USA Desavanja
REFRESH-INTERVAL;VALUE=DURATION:PT1H
X-Robots-Tag:noindex
X-PUBLISHED-TTL:PT1H
BEGIN:VTIMEZONE
TZID:America/Chicago
BEGIN:DAYLIGHT
TZOFFSETFROM:-0600
TZOFFSETTO:-0500
TZNAME:CDT
DTSTART:20250309T080000
END:DAYLIGHT
BEGIN:STANDARD
TZOFFSETFROM:-0500
TZOFFSETTO:-0600
TZNAME:CST
DTSTART:20251102T070000
END:STANDARD
BEGIN:DAYLIGHT
TZOFFSETFROM:-0600
TZOFFSETTO:-0500
TZNAME:CDT
DTSTART:20260308T080000
END:DAYLIGHT
BEGIN:STANDARD
TZOFFSETFROM:-0500
TZOFFSETTO:-0600
TZNAME:CST
DTSTART:20261101T070000
END:STANDARD
BEGIN:DAYLIGHT
TZOFFSETFROM:-0600
TZOFFSETTO:-0500
TZNAME:CDT
DTSTART:20270314T080000
END:DAYLIGHT
BEGIN:STANDARD
TZOFFSETFROM:-0500
TZOFFSETTO:-0600
TZNAME:CST
DTSTART:20271107T070000
END:STANDARD
END:VTIMEZONE
BEGIN:VEVENT
DTSTART;VALUE=DATE:20260425
DTEND;VALUE=DATE:20260426
DTSTAMP:20260425T090319
CREATED:20260423T175133Z
LAST-MODIFIED:20260423T175133Z
UID:18771-1777075200-1777161599@usadesavanja.com
SUMMARY:KAFANSKO VECE // BELOJSKI AMERICAN CENTER // RAY\, MI // APRIL 25. 2026.
DESCRIPTION:Spremite se za noć koja se dugo pamti! Nezaboravno Kafansko veče uz provereni muzički duo – Toni i Vuk. Očekuje vas vrhunska atmosfera\, omiljeni hitovi i autentični kafanski duh koji će vas držati na nogama cele noći. \nZbog velikog interesovanja\, rezervacije su obavezne\, zato osigurajte svoje mesto na vreme i budite deo najboljeg provoda u kraju! \nSubota\, 25. april od 21:00h\nBelojski American Center\, Ray\, Michigan \nUlaz: $20 \nPozovite jedan od navedenih brojeva kako biste rezervisali sto:\nToni: 630 812 8337\nJovica: 586 251 8930\nZoran: 586 215 8676\nVuk: 248 670 7315 \nVidimo se u subotu da uz pesmu i dobro društvo proslavimo još jedno zajedničko veče!
URL:https://usadesavanja.com/event/kafansko-vece-belojski-american-center-ray-mi-april-25-2026/
LOCATION:Belojski American Center\, 62100 North Ave\, Ray\, MI 48096\, Ray\, Michigan\, MI\, United States
CATEGORIES:Michigan,Zurke
ATTACH;FMTTYPE=image/jpeg:https://usadesavanja.com/wp-content/uploads/2024/08/keyboard-2921905_1280.jpg
END:VEVENT
END:VCALENDAR