BEGIN:VCALENDAR
VERSION:2.0
PRODID:-//USA Desavanja - ECPv6.15.17.1//NONSGML v1.0//EN
CALSCALE:GREGORIAN
METHOD:PUBLISH
X-ORIGINAL-URL:https://usadesavanja.com
X-WR-CALDESC:Events for USA Desavanja
REFRESH-INTERVAL;VALUE=DURATION:PT1H
X-Robots-Tag:noindex
X-PUBLISHED-TTL:PT1H
BEGIN:VTIMEZONE
TZID:America/Chicago
BEGIN:DAYLIGHT
TZOFFSETFROM:-0600
TZOFFSETTO:-0500
TZNAME:CDT
DTSTART:20250309T080000
END:DAYLIGHT
BEGIN:STANDARD
TZOFFSETFROM:-0500
TZOFFSETTO:-0600
TZNAME:CST
DTSTART:20251102T070000
END:STANDARD
BEGIN:DAYLIGHT
TZOFFSETFROM:-0600
TZOFFSETTO:-0500
TZNAME:CDT
DTSTART:20260308T080000
END:DAYLIGHT
BEGIN:STANDARD
TZOFFSETFROM:-0500
TZOFFSETTO:-0600
TZNAME:CST
DTSTART:20261101T070000
END:STANDARD
BEGIN:DAYLIGHT
TZOFFSETFROM:-0600
TZOFFSETTO:-0500
TZNAME:CDT
DTSTART:20270314T080000
END:DAYLIGHT
BEGIN:STANDARD
TZOFFSETFROM:-0500
TZOFFSETTO:-0600
TZNAME:CST
DTSTART:20271107T070000
END:STANDARD
END:VTIMEZONE
BEGIN:VEVENT
DTSTART;VALUE=DATE:20260425
DTEND;VALUE=DATE:20260426
DTSTAMP:20260421T003303
CREATED:20260420T183520Z
LAST-MODIFIED:20260420T183520Z
UID:18744-1777075200-1777161599@usadesavanja.com
SUMMARY:DJ CROWN // PLAYA CLUB // CHICAGO // APRIL 25. 2026.
DESCRIPTION:Spremite se za vrhunsku noć i neverovatnu energiju! Pularni klub Playa ugostiće specijalnu gošću — DJ Crown. Očekuje vas noć ispunjena najboljim house ritmovima. \nUživajte u luksuznom ambijentu\, vrhunskim koktelima i zvuku koji pomera granice. Ovo je savršena prilika za izlazak sa ekipom u jedno od najatraktivnijih mesta u okolini. \nKada: Subota\, 25. april\nVreme: 23:00h – 01:00h\nMesto: Playa Club\nAdresa: 2061 A Lincoln Hwy\, St Charles\, IL\nTelefon: 331 286 3023 \nStarosna granica: 21+ \nNe propustite priliku da budete deo ove ekskluzivne večeri. Vidimo se na plesnom podijumu!
URL:https://usadesavanja.com/event/dj-crown-playa-club-chicago-april-25-2026/
LOCATION:Playa | Bar & Music Lounge\, 2061 Lincoln Hwy A\, St. Charles\, IL 60175\, Chicago\, IL\, United States
CATEGORIES:Illinois,Zurke
ATTACH;FMTTYPE=image/png:https://usadesavanja.com/wp-content/uploads/2026/04/kruna-hzudt76r8t8z.png
END:VEVENT
END:VCALENDAR