BEGIN:VCALENDAR
VERSION:2.0
PRODID:-//USA Desavanja - ECPv6.15.17.1//NONSGML v1.0//EN
CALSCALE:GREGORIAN
METHOD:PUBLISH
X-ORIGINAL-URL:https://usadesavanja.com
X-WR-CALDESC:Events for USA Desavanja
REFRESH-INTERVAL;VALUE=DURATION:PT1H
X-Robots-Tag:noindex
X-PUBLISHED-TTL:PT1H
BEGIN:VTIMEZONE
TZID:UTC
BEGIN:STANDARD
TZOFFSETFROM:+0000
TZOFFSETTO:+0000
TZNAME:UTC
DTSTART:20230101T000000
END:STANDARD
END:VTIMEZONE
BEGIN:VEVENT
DTSTART;VALUE=DATE:20240901
DTEND;VALUE=DATE:20240902
DTSTAMP:20260420T021028
CREATED:20240611T160951Z
LAST-MODIFIED:20240611T161932Z
UID:13290-1725148800-1725235199@usadesavanja.com
SUMMARY:TASTE OF SERBIA // CRKVA SV. VASILIJA OSTROSKOG // CHICAGO // SEPTEMBAR 01. 2024.
DESCRIPTION:Crkva Sv. Vasilija Ostroškog (Mettawa-Lake Forest) Vas poziva na Taste of Serbia festival koji će se održati 31. avgusta i 1. septembra od 11h. \nOčekuje Vas domaća hrana\, piće i specijaliteti sa roštilja\, kao i zabavne aktivnosti za decu. \nNastupaju: Prazna Flaša Tambura i Šumadija.  \nUlaz je slobodan\, a parking besplatan! \nInfo: 847 247 0077 \nwww.tasteofserbia.org
URL:https://usadesavanja.com/event/taste-of-serbia-crkva-sv-vasilija-ostroskog-chicago-septembar-01-2024/
LOCATION:Crkva Sv. Vasilija Ostroškog (Chicago)\, 27450 Bradley Rd\, Libertyville\, IL\, Libertyville\, IL\, 60045\, United States
CATEGORIES:Illinois
ATTACH;FMTTYPE=image/jpeg:https://usadesavanja.com/wp-content/uploads/2021/08/serb-food.jpg
END:VEVENT
BEGIN:VEVENT
DTSTART;VALUE=DATE:20240907
DTEND;VALUE=DATE:20240908
DTSTAMP:20260420T021028
CREATED:20240827T181655Z
LAST-MODIFIED:20240906T124150Z
UID:13926-1725667200-1725753599@usadesavanja.com
SUMMARY:TASTE OF SERBIA // CRKVA SV. VASKRSENJA // CHICAGO // SEPTEMBAR 07. 2024.
DESCRIPTION:Crkva Sv. Vaskrsenja (Palmer Square) Vas poziva na Taste of Serbia festival koji će se održati 7. i 8. septembra od 12h. \nOčekuje Vas domaća hrana\, piće i specijaliteti sa roštilja. \nUživo muzika: Jasmina i Saša \nŽelimo Vam odličan provod!
URL:https://usadesavanja.com/event/taste-of-serbia-crkva-sv-vaskrsenja-chicago-septembar-07-2023/
LOCATION:Crkva Sv. Vaskrsenja (Palmer Square)\, 3062 W Palmer Square\, Chicago\, IL\, Chicago\, IL\, 60647\, United States
CATEGORIES:Illinois
ATTACH;FMTTYPE=image/png:https://usadesavanja.com/wp-content/uploads/2024/08/MJHGFDFGHUI8-FOOD.png
END:VEVENT
BEGIN:VEVENT
DTSTART;VALUE=DATE:20240908
DTEND;VALUE=DATE:20240909
DTSTAMP:20260420T021028
CREATED:20240827T181745Z
LAST-MODIFIED:20240906T124158Z
UID:13929-1725753600-1725839999@usadesavanja.com
SUMMARY:TASTE OF SERBIA // CRKVA SV. VASKRSENJA // CHICAGO // SEPTEMBAR 08. 2024.
DESCRIPTION:Crkva Sv. Vaskrsenja (Palmer Square) Vas poziva na Taste of Serbia festival koji će se održati 7. i 8. septembra od 12h. \nOčekuje Vas domaća hrana\, piće i specijaliteti sa roštilja. \nUživo muzika: Jasmina i Saša \nŽelimo Vam odličan provod!
URL:https://usadesavanja.com/event/taste-of-serbia-crkva-sv-vaskrsenja-chicago-septembar-08-2023/
LOCATION:Crkva Sv. Vaskrsenja (Palmer Square)\, 3062 W Palmer Square\, Chicago\, IL\, Chicago\, IL\, 60647\, United States
CATEGORIES:Illinois
ATTACH;FMTTYPE=image/png:https://usadesavanja.com/wp-content/uploads/2024/08/MJHGFDFGHUI8-FOOD.png
END:VEVENT
END:VCALENDAR