BEGIN:VCALENDAR
VERSION:2.0
PRODID:-//USA Desavanja - ECPv6.15.17.1//NONSGML v1.0//EN
CALSCALE:GREGORIAN
METHOD:PUBLISH
X-WR-CALNAME:USA Desavanja
X-ORIGINAL-URL:https://usadesavanja.com
X-WR-CALDESC:Events for USA Desavanja
REFRESH-INTERVAL;VALUE=DURATION:PT1H
X-Robots-Tag:noindex
X-PUBLISHED-TTL:PT1H
BEGIN:VTIMEZONE
TZID:America/Chicago
BEGIN:DAYLIGHT
TZOFFSETFROM:-0600
TZOFFSETTO:-0500
TZNAME:CDT
DTSTART:20250309T080000
END:DAYLIGHT
BEGIN:STANDARD
TZOFFSETFROM:-0500
TZOFFSETTO:-0600
TZNAME:CST
DTSTART:20251102T070000
END:STANDARD
BEGIN:DAYLIGHT
TZOFFSETFROM:-0600
TZOFFSETTO:-0500
TZNAME:CDT
DTSTART:20260308T080000
END:DAYLIGHT
BEGIN:STANDARD
TZOFFSETFROM:-0500
TZOFFSETTO:-0600
TZNAME:CST
DTSTART:20261101T070000
END:STANDARD
BEGIN:DAYLIGHT
TZOFFSETFROM:-0600
TZOFFSETTO:-0500
TZNAME:CDT
DTSTART:20270314T080000
END:DAYLIGHT
BEGIN:STANDARD
TZOFFSETFROM:-0500
TZOFFSETTO:-0600
TZNAME:CST
DTSTART:20271107T070000
END:STANDARD
END:VTIMEZONE
BEGIN:VEVENT
DTSTART;VALUE=DATE:20260426
DTEND;VALUE=DATE:20260427
DTSTAMP:20260425T105735
CREATED:20260422T151942Z
LAST-MODIFIED:20260422T151942Z
UID:18758-1777161600-1777247999@usadesavanja.com
SUMMARY:VIP NIGHT - OLJA BAJRAMI // CAFE MIRAGE // CHICAGO // APRIL 26. 2026.
DESCRIPTION:Cafe Mirage Vas poziva na VIP night! \nNedelja 26. april od 20h \nNastupa: Olja Bajrami \nInfo i rezervacije: 616 706 8698 \nŽelimo Vam odličan provod!
URL:https://usadesavanja.com/event/vip-night-olja-bajrami-cafe-mirage-chicago-april-26-2026/
LOCATION:Cafe Mirage\, 9845 Lawrence Ave\, Schiller Park\, Chicago\, IL\, 60176\, United States
CATEGORIES:Illinois,Zurke
ATTACH;FMTTYPE=image/png:https://usadesavanja.com/wp-content/uploads/2026/03/olja-bajrami-2026-kalendar-cd.png
END:VEVENT
END:VCALENDAR